Workbook

Sheet صورت وضعیت
B10: صندوق سرمایه‌گذاری تداوم اطمینان تمدن
B11: صورت وضعیت پرتفوی
B12: برای ماه منتهی به 1405/03/31

Sheet سهام
A1: صندوق سرمایه‌گذاری تداوم اطمینان تمدن
A2: صورت وضعیت پرتفوی
A3: برای ماه منتهی به 1405/03/31
A4: 1 - سرمایه‌گذاری‌ها
A5: 1 -1- سرمایه‌گذاری در سهام و حق تقدم سهام
C6: 1405/02/31 | I6: تغییرات طی دوره | Q6: 1405/03/31
A7: نام شرکت | C7: تعداد | E7: بهای تمام شده | G7: خالص ارزش فروش | I7: خرید طی دوره | M7: فروش طی دوره | Q7: تعداد | S7: قیمت بازار هر سهم | U7: بهای تمام شده | W7: خالص ارزش فروش | Y7: درصد به کل دارایی‌ها
I8: تعداد | K8: بهای تمام شده | M8: تعداد | O8: مبلغ فروش
E9: ریال | G9: ریال | K9: ریال | O9: ریال | S9: ریال | U9: ریال | W9: ریال
A10: ایران خودرو دیزل | C10: 0 | E10: 0 | G10: 0 | I10: 10877447426 | K10: 15024077399587 | M10: 0 | O10: 0 | Q10: 10877447426 | S10: 1411 | U10: 15034963086624 | W10: 1.5229438e+13 | Y10: 0.052586951
A11: توسعه معادن وص.معدنی خاورمیانه | C11: 267062568 | E11: 1158078379685 | G11: 1.6302688e+12 | I11: 0 | K11: 0 | M11: -91400000 | O11: 617846841223 | Q11: 175662568 | S11: 6930 | U11: 761735437681 | W11: 1.2079315e+12 | Y11: 0.004170964
A12: جمع کل | E12: =SUM(E10:E11) -> 1158078379685 | G12: =SUM(G10:G11) -> 1.6302688e+12 | K12: =SUM(K10:K11) -> 15024077399587 | O12: =SUM(O10:O11) -> 617846841223 | U12: =SUM(U10:U11) -> 15796698524305 | W12: =SUM(W10:W11) -> 1.6437369e+13 | Y12: 0.056757915

Sheet واحدهای صندوق
A1: صندوق سرمایه‌گذاری تداوم اطمینان تمدن
A2: صورت وضعیت پرتفوی
A3: برای ماه منتهی به 1405/03/31
A5: 2-1-سرمایه‌گذاری در واحدهای صندوق‌های سرمایه‌گذاری
C7: =سهام!C6 -> 1405/02/31 | I7: تغییرات طی دوره | Q7: =سهام!Q6 -> 1405/03/31
A8: صندوق | C8: تعداد واحد | E8: بهای تمام شده | G8: خالص ارزش فروش | I8: خرید طی دوره | M8: فروش طی دوره | Q8: تعداد | S8: قیمت ابطال / بازار هر واحد | U8: بهای تمام شده | W8: خالص ارزش فروش | Y8: درصد به کل دارایی‌ها
I9: تعداد | K9: بهای تمام شده | M9: تعداد | O9: مبلغ ابطال
E10: ریال | G10: ریال | K10: ریال | O10: ریال | S10: ریال | U10: ریال | W10: ریال
A11: صندوق س.پشتوانه طلا تابان تمدن | C11: 37974741 | E11: 1545851728409 | G11: 2.9280941e+12 | I11: 0 | K11: 0 | M11: 0 | O11: 0 | Q11: 37974741 | S11: 63323 | U11: 1545851728409 | W11: 2401788914913 | Y11: 0.0082933302
A12: صندوق س.كالاي زمرد بيدار | C12: 44301000 | E12: 900214948142 | G12: 1.1894262e+12 | I12: 0 | K12: 0 | M12: 0 | O12: 0 | Q12: 44301000 | S12: 21799 | U12: 900214948142 | W12: 964558638001 | Y12: 0.0033306021
A13: صندوق س.آرمان آتیه درخشان مس-س | C13: 1335006 | E13: 608872802761 | G13: 732564517410 | I13: 0 | K13: 0 | M13: 0 | O13: 0 | Q13: 1335006 | S13: 673930 | U13: 608872802761 | W13: 897631282214 | Y13: 0.0030995033
A14: صندوق س.پشتوانه طلای دماوند | C14: 0 | E14: 0 | G14: 0 | I14: 31096000 | K14: 1001230176771 | M14: 0 | O14: 0 | Q14: 31096000 | S14: 28083 | U14: 1001230176771 | W14: 872221045238 | Y14: 0.0030117622
A15: صندوق س.مبتنی بر کالای فارابی | C15: 58384127 | E15: 962839992768 | G15: 1019271560446 | I15: 0 | K15: 0 | M15: 0 | O15: 0 | Q15: 58384127 | S15: 14213 | U15: 962839992768 | W15: 828817820734 | Y15: 0.0028618917
A16: صندوق س.پشتوانه طلای زرین آگاه | C16: 4433240 | E16: 601821995826 | G16: 6.8455645e+11 | I16: 0 | K16: 0 | M16: 0 | O16: 0 | Q16: 4433240 | S16: 127299 | U16: 601821995826 | W16: 563669802337 | Y16: 0.0019463408
A17: صندوق س.پشتوانه طلای صبا | C17: 5267000 | E17: 330343677365 | G17: 587775731708 | I17: 0 | K17: 0 | M17: 0 | O17: 0 | Q17: 5267000 | S17: 91690 | U17: 330343677365 | W17: 482351712524 | Y17: 0.001665551
A18: صندوق س.کالای تابان تمدن1 | C18: 0 | E18: 0 | G18: 0 | I18: 61680000 | K18: 513875107955 | M18: 0 | O18: 0 | Q18: 61680000 | S18: 7770 | U18: 513875107955 | W18: 478678495680 | Y18: 0.0016528675
A19: صندوق س.هستی بخش آگاه-س | C19: 967000 | E19: 249912269811 | G19: 239100411296 | I19: 0 | K19: 0 | M19: 0 | O19: 0 | Q19: 967000 | S19: 353630 | U19: 249912269811 | W19: 341173701517 | Y19: 0.0011780661
A20: صندوق س سروسودمند مدبران-سهام | C20: 6050000 | E20: 99940496613 | G20: 140640780500 | I20: 0 | K20: 0 | M20: 0 | O20: 0 | Q20: 6050000 | S20: 31897 | U20: 99940496613 | W20: 192533003245 | Y20: 0.0006648127
A21: صندوق س. شاخصی کیان-س | C21: 4710000 | E21: 96184113372 | G21: 99688128738 | I21: 0 | K21: 0 | M21: 0 | O21: 0 | Q21: 4710000 | S21: 28783 | U21: 96184113372 | W21: 135256123761 | Y21: 0.00046703675
A22: صندوق سرمایه گذاری عقیق-سهام | C22: 3541990 | E22: 49999991786 | G22: 63609181614 | I22: 0 | K22: 0 | M22: 0 | O22: 0 | Q22: 3541990 | S22: 22676 | U22: 49999991786 | W22: 80133433459 | Y22: 0.00027669918
A23: صندوق س.موج گستر ثروت-س | C23: 990000 | E23: 9922225500 | G23: 9281633031 | I23: 0 | K23: 0 | M23: -990000 | O23: 10282333337 | Q23: 0 | S23: 0 | U23: 0 | W23: 0 | Y23: 0
A24: جمع کل | E24: =SUM(E11:E23) -> 5455904242353 | G24: =SUM(G11:G23) -> 7.6940086e+12 | K24: =SUM(K11:K23) -> 1515105284726 | O24: =SUM(O11:O23) -> 10282333337 | U24: =SUM(U11:U23) -> 6961087301579 | W24: =SUM(W11:W23) -> 8238813973623 | Y24: 0.028448464

Sheet اوراق
A1: صندوق سرمایه‌گذاری تداوم اطمینان تمدن
A2: صورت وضعیت پرتفوی
A3: =سهام!A3 -> برای ماه منتهی به 1405/03/31
A4: 3-1-سرمایه‌گذاری در اوراق بهادار با درآمد ثابت یا علی‌الحساب
O6: =سهام!C6 -> 1405/02/31 | U6: تغییرات طی دوره | AC6: =سهام!Q6 -> 1405/03/31
A7: نام اوراق | C7: دارای مجوز از سازمان | E7: پذیرفته شده در بورس یا فرابورس | G7: تاریخ انتشار اوراق | I7: تاریخ سررسید | K7: نرخ سود اسمی | M7: نرخ سود موثر | O7: تعداد | Q7: بهای تمام شده | S7: خالص ارزش فروش | U7: خرید طی دوره | Y7: فروش طی دوره | AC7: تعداد | AE7: قیمت بازار هر سهم | AG7: بهای تمام شده | AI7: خالص ارزش فروش | AK7: درصد به کل دارایی‌ها
U8: تعداد | W8: بهای تمام شده | Y8: تعداد | AA8: مبلغ فروش
Q9: ریال | S9: ریال | W9: ریال | AA9: ریال | AE9: ریال | AG9: ریال | AI9: ریال
A10: شهرداری اصفهان | C10: خیر | E10: خیر | G10: 1405/03/31 | I10: 1409/03/31 | K10: 23 | M10: 23 | O10: 0 | Q10: 0 | S10: 0 | U10: 26000000 | W10: 26000000000000 | Y10: 0 | AA10: 0 | AC10: 26000000 | AE10: 1000000 | AG10: 26000000000000 | AI10: 26000000000000 | AK10: 0.089777492
A11: سلف آهن اسفنجی توسعه گل گهر | C11: بله | E11: بله | G11: 1404/11/19 | I11: 1406/11/19 | K11: 0 | M11: 0 | O11: 4197560 | Q11: 9999973114800 | S11: 9797690688083 | U11: 0 | W11: 0 | Y11: 0 | AA11: 0 | AC11: 4197560 | AE11: 2660116 | AG11: 9999973114800 | AI11: 11157902028941 | AK11: 0.038528018
A12: مرابحه عام دولت275-ش.خ080205 | C12: بله | E12: بله | G12: 1404/12/05 | I12: 1408/05/05 | K12: 23 | M12: 23 | O12: 6385595 | Q12: 5659999840150 | S12: 5121519548677 | U12: 0 | W12: 0 | Y12: 0 | AA12: 0 | AC12: 6385595 | AE12: 953070 | AG12: 5659999840150 | AI12: 6082609808179 | AK12: 0.021003133
A13: شهردادری تهران | C13: خیر | E13: خیر | G13: 1403/12/28 | I13: 1407/12/28 | K13: 23 | M13: 23 | O13: 5000000 | Q13: 5000000000000 | S13: 5000000000000 | U13: 0 | W13: 0 | Y13: 0 | AA13: 0 | AC13: 5000000 | AE13: 1000000 | AG13: 5000000000000 | AI13: 5000000000000 | AK13: 0.017264902
A14: شهرداری تبریز | C14: خیر | E14: خیر | G14: 1403/12/28 | I14: 1407/12/28 | K14: 23 | M14: 23 | O14: 5000000 | Q14: 5000000000000 | S14: 5000000000000 | U14: 0 | W14: 0 | Y14: 0 | AA14: 0 | AC14: 5000000 | AE14: 1000000 | AG14: 5000000000000 | AI14: 5000000000000 | AK14: 0.017264902
A15: سلف موازی آهن اسفنجی غدیر | C15: بله | E15: بله | G15: 1404/12/27 | I15: 1406/12/27 | K15: 0 | M15: 0 | O15: 1926340 | Q15: 4999988840600 | S15: 5285469173518 | U15: 0 | W15: 0 | Y15: 0 | AA15: 0 | AC15: 1926340 | AE15: 2595590 | AG15: 4999988840600 | AI15: 4996363848690 | AK15: 0.017252347
A16: صکوک مرابحه کگل81-3ماهه23% | C16: بله | E16: بله | G16: 1404/11/20 | I16: 1408/11/20 | K16: 23 | M16: 23 | O16: 5000000 | Q16: 5002343750000 | S16: 4997281250000 | U16: 0 | W16: 0 | Y16: 0 | AA16: 0 | AC16: 5000000 | AE16: 930360 | AG16: 5002343750000 | AI16: 4649270583750 | AK16: 0.016053841
A17: صکوک مرابحه کگل0811-3ماهه23% | C17: بله | E17: بله | G17: 1404/11/20 | I17: 1408/11/20 | K17: 23 | M17: 23 | O17: 5000000 | Q17: 5000000000000 | S17: 4748036850375 | U17: 0 | W17: 0 | Y17: 0 | AA17: 0 | AC17: 5000000 | AE17: 900000 | AG17: 5000000000000 | AI17: 4497553125000 | AK17: 0.015529963
A18: مرابحه عام دولت234-ش.خ070808 | C18: بله | E18: بله | G18: 1404/07/08 | I18: 1407/08/08 | K18: 23 | M18: 23 | O18: 4744704 | Q18: 4374996664320 | S18: 3750071712341 | U18: 0 | W18: 0 | Y18: 0 | AA18: 0 | AC18: 4744704 | AE18: 850195 | AG18: 4374996664320 | AI18: 4031730171313 | AK18: 0.013921486
A19: صکوک مرابحه آکو903-3ماهه23% | C19: بله | E19: بله | G19: 1405/03/02 | I19: 1409/03/02 | K19: 23 | M19: 23 | O19: 0 | Q19: 0 | S19: 0 | U19: 3999997 | W19: 3999997000000 | Y19: 0 | AA19: 0 | AC19: 3999997 | AE19: 1000000 | AG19: 3999997000000 | AI19: 3997822001631 | AK19: 0.013804401
A20: مرابحه آریس آمل 14081224 | C20: بله | E20: بله | G20: 1404/12/24 | I20: 1408/12/24 | K20: 23 | M20: 23 | O20: 4000000 | Q20: 4000000000000 | S20: 3997825000000 | U20: 0 | W20: 0 | Y20: 0 | AA20: 0 | AC20: 4000000 | AE20: 977522 | AG20: 4000000000000 | AI20: 3907961889650 | AK20: 0.013494116
A21: مرابحه عام دولت176-ش.خ050603 | C21: بله | E21: بله | G21: 1403/07/03 | I21: 1405/06/03 | K21: 23 | M21: 23 | O21: 3528000 | Q21: 3199976493180 | S21: 3373155488839 | U21: 0 | W21: 0 | Y21: 0 | AA21: 0 | AC21: 3528000 | AE21: 1000000 | AG21: 3199976493180 | AI21: 3526081650000 | AK21: 0.012175491
... A39: اسنادخزانه-م10بودجه02-051112 | C39: بله | E39: بله | G39: 1402/12/21 | I39: 1405/11/12 | K39: 0 | M39: 0 | O39: 0 | Q39: 0 | S39: 0 | U39: 2410 | W39: 1971849106 | Y39: 0 | AA39: 0 | AC39: 2410 | AE39: 830000 | AG39: 1971849106 | AI39: 1999212336 | AK39: 6.9032411e-06
A40: جمع | Q40: =SUM(Q10:Q39) -> 71433512397447 | S40: =SUM(S10:S39) -> 69437553832569 | W40: =SUM(W10:W39) -> 32490674651733 | AA40: =SUM(AA10:AA39) -> 99952812248 | AG40: =SUM(AG10:AG39) -> 103812462009180 | AI40: =SUM(AI10:AI39) -> 104124238635197 | AK40: 0.35953896
V46: 0

Sheet سپرده 
A1: صندوق سرمایه‌گذاری تداوم اطمینان تمدن
A2: صورت وضعیت پرتفوی
A3: =سهام!A3 -> برای ماه منتهی به 1405/03/31
A5: 4-1- سرمایه‌گذاری در سپرده‌ بانکی
C6: =سهام!C6 -> 1405/02/31 | E6: تغییرات طی دوره | I6: =سهام!Q6 -> 1405/03/31
A7: سپرده | C7: مبلغ | E7: افزایش | G7: کاهش | I7: مبلغ | K7: درصد به کل دارایی‌ها
C8: ریال | E8: ریال | G8: ریال | I8: ریال
A9: سپرده های بانکی | C9: 123647987465964 | E9: 262415400616939 | G9: -229270672695149 | I9: 156792715387754 | K9: 0.54140218
A10: جمع کل | C10: =SUM(C9) -> 123647987465964 | E10: =SUM(E9) -> 262415400616939 | G10: =SUM(G9) -> -229270672695149 | I10: =SUM(I9) -> 156792715387754 | K10: 0.54140218

Sheet کالایی
A1: صندوق سرمایه‌گذاری تداوم اطمینان تمدن
A2: صورت وضعیت پرتفوی
A3: =سهام!A3 -> برای ماه منتهی به 1405/03/31
A4: 1 - سرمایه‌گذاری‌ها
A5: 1 -1- سرمایه‌گذاری در سهام و حق تقدم سهام
C6: =سهام!C6 -> 1405/02/31 | I6: تغییرات طی دوره | Q6: =سهام!Q6 -> 1405/03/31
A7: نام شرکت | C7: تعداد | E7: بهای تمام شده | G7: خالص ارزش فروش | I7: خرید طی دوره | M7: فروش طی دوره | Q7: تعداد | S7: قیمت بازار هر سهم | U7: بهای تمام شده | W7: خالص ارزش فروش | Y7: درصد به کل دارایی‌ها
I8: تعداد | K8: بهای تمام شده | M8: تعداد | O8: مبلغ فروش
E9: ریال | G9: ریال | K9: ریال | O9: ریال | S9: ریال | U9: ریال | W9: ریال
A10: شمش نقره SilverBar | C10: 89879 | E10: 199998660921 | G10: 4.7271204e+11 | I10: 0 | K10: 0 | M10: -89879 | O10: 4.7271204e+11 | Q10: 0 | S10: 0 | U10: 0 | W10: 0 | Y10: 0
A11: جمع کل | E11: =SUM(E10) -> 199998660921 | G11: =SUM(G10) -> 4.7271204e+11 | K11: 0 | O11: =SUM(O10) -> 4.7271204e+11 | U11: =SUM(U10) -> 0 | W11: =SUM(W10) -> 0 | Y11: 0

Sheet تعدیل قیمت
A1: صندوق سرمایه‌گذاری تداوم اطمینان تمدن
A2: صورت وضعیت پرتفوی
A3: =سهام!A3 -> برای ماه منتهی به 1405/03/31
A5: اوراق بهاداری که ارزش آنها در تاریخ گزارش تعدیل شده
A6: (بر اساس دستورالعمل نحوه تعیین قیمت خرید و فروش اوراق بهادار در صندوق‌های سرمایه‌گذاری)
A8: نام اوراق بهادار | C8: =سهام!Q6 -> 1405/03/31
C9: تعداد | E9: قیمت پایانی | G9: قیمت تعدیل شده | I9: درصد تعدیل | K9: خالص ارزش فروش تعدیل شده | M9: دلیل تعدیل
E10: ریال | G10: ریال | K10: ریال
A11: مرابحه عام دولت 166-ش.خ050419 | C11: 526865 | E11: 991000 | G11: 1000000 | I11: 0.0091 | K11: 526578517156 | M11: سایر
A12: مرابحه عام دولت176-ش.خ050603 | C12: 3528000 | E12: 980000 | G12: 1000000 | I12: 0.0204 | K12: 3526081650000 | M12: سایر
A13: مشارکت ش اصفهان512-3ماهه18% | C13: 2650000 | E13: 845619 | G13: 888000 | I13: 0.0501 | K13: 2351920447500 | M13: سایر
A14: مرابحه عام دولت203-ش.خ050807 | C14: 2700000 | E14: 960490 | G14: 1000000 | I14: 0.0411 | K14: 2698531875000 | M14: سایر
A15: مرابحه عام دولت223-ش.خ070431 | C15: 3200000 | E15: 866880 | G15: 804325 | I15: -0.0722 | K15: 2572440474500 | M15: سایر
A16: مرابحه عام دولت234-ش.خ070808 | C16: 4744704 | E16: 795300 | G16: 850195 | I16: 0.069 | K16: 4031730171313 | M16: سایر
A17: مرابحه عام دولت241-ش.خ070829 | C17: 3253232 | E17: 871920 | G17: 882783 | I17: 0.0125 | K17: 2870336310170 | M17: سایر
A18: مرابحه عام دولت266-ش.خ070930 | C18: 2503046 | E18: 800460 | G18: 747444 | I18: -0.0662 | K18: 1869869419773 | M18: سایر
A19: صکوک مرابحه کگل81-3ماهه23% | C19: 5000000 | E19: 1000000 | G19: 930360 | I19: -0.0696 | K19: 4649270583750 | M19: سایر
A20: صکوک مرابحه کگل0811-3ماهه23% | C20: 5000000 | E20: 1000000 | G20: 900000 | I20: -0.1 | K20: 4497553125000 | M20: سایر
A21: مرابحه عام دولت275-ش.خ080205 | C21: 6385595 | E21: 866430 | G21: 953070 | I21: 0.1 | K21: 6082609808179 | M21: سایر
A22: مرابحه آریس آمل 14081224 | C22: 4000000 | E22: 1000000 | G22: 977522 | I22: -0.0225 | K22: 3907961889650 | M22: سایر

Sheet درآمد
A1: صندوق سرمایه‌گذاری تداوم اطمینان تمدن | K1: 289604881655751
A2: صورت وضعیت درآمدها
A3: ='صورت وضعیت'!B12 -> برای ماه منتهی به 1405/03/31
A5: 2- درآمد حاصل از سرمایه‌گذاری‌ها
A7: شرح | C7: یادداشت | E7: مبلغ | G7: درصد از کل درآمدها | I7: درصد از کل دارایی‌ها
E8: ریال
A9: درآمد حاصل از سرمایه‌گذاری در سهام و حق تقدم سهام | C9: 1-2 | E9: ='درآمد سرمایه گذاری در سهام'!S12 -> 497156147403 | G9: 0.023904852 | I9: 0.0017166705
A10: درآمد حاصل از سرمایه‌گذاری در واحدهای صندوق‌های سرمایه‌گذاری | C10: 2-2 | E10: ='درآمد سرمایه گذاری در صندوق'!S23 -> -777620063764 | G10: -0.037390451 | I10: -0.0026851069
A11: درآمد حاصل از سرمایه‌گذاری در اوراق بهادار با درآمد ثابت | C11: 3-2 | E11: ='درآمد سرمایه گذاری در اوراق'!S42 -> 10137626792742 | G11: 0.48744941 | I11: 0.035005027
A12: درآمد حاصل از سرمایه‌گذاری در سپرده بانکی و گواهی سپرده | C12: 4-2 | E12: ='درآمد سپرده بانکی'!G10 -> 11033010733696 | G12: 0.53050232 | I12: 0.038096771
A13: درآمد حاصل از سرمایه‌گذاری در گواهی سپرده کالایی | C13: 5-2 | E13: ='درآمد سرمایه گذاری در کالایی'!S11 -> -97941056024 | G13: -0.0047093181 | I13: -0.00033818855
A14: سایر درآمدها | C14: 6-2 | E14: ='سایر درآمدها'!E10 -> 5057649281 | G14: 0.0002431879 | I14: 1.7463964e-05
A15: جمع کل | E15: =SUM(E9:E14) -> 20797290203334 | G15: 1 | I15: 0.071812637

Sheet درآمد سرمایه گذاری در سهام
A1: صندوق سرمایه‌گذاری تداوم اطمینان تمدن
A2: صورت وضعیت درآمدها
A3: =سهام!A3 -> برای ماه منتهی به 1405/03/31
A5: 1-2- درآمد حاصل از سرمایه‌گذاری در سهام و حق تقدم سهام
C6: طی ماه | M6: از ابتدای سال مالی تا پایان خرداد 1405
A7: سهام | C7: درآمد سود سهام | E7: درآمد تغییر ارزش | G7: درآمد فروش | I7: جمع | M7: درآمد سود سهام | O7: درآمد تغییر ارزش | Q7: درآمد فروش | S7: جمع
I8: مبلغ | K8: درصد از کل درآمدها | S8: مبلغ | U8: درصد از کل درآمدها
C9: ریال | E9: ریال | G9: ریال | I9: ریال | M9: ریال | O9: ریال | Q9: ریال | S9: ریال
A10: توسعه معادن وص.معدنی خاورمیانه | C10: 0 | E10: 104578390843 | G10: 89266166805 | I10: 193844557648 | K10: 0.026147773 | M10: 0 | O10: 195247193052 | Q10: 107434368288 | S10: 302681561340 | U10: 0.014553894
A11: ایران خودرو دیزل | C11: 0 | E11: 194474586063 | G11: 0 | I11: 194474586063 | K11: 0.026232758 | M11: 0 | O11: 194474586063 | Q11: 0 | S11: 194474586063 | U11: 0.0093509579
A12: جمع کل | C12: =SUM(C10:C11) -> 0 | E12: =SUM(E10:E11) -> 299052976906 | G12: =SUM(G10:G11) -> 89266166805 | I12: 388319143711 | K12: 0.052380532 | M12: =SUM(M10:M11) -> 0 | O12: =SUM(O10:O11) -> 389721779115 | Q12: =SUM(Q10:Q11) -> 107434368288 | S12: 497156147403 | U12: 0.023904852

Sheet درآمد سرمایه گذاری در صندوق
A1: صندوق سرمایه‌گذاری تداوم اطمینان تمدن
A2: صورت وضعیت درآمدها
A3: =سهام!A3 -> برای ماه منتهی به 1405/03/31
A5: 2-2- درآمد حاصل از سرمایه‌گذاری در واحدهای صندوق
C6: طی ماه | M6: ='درآمد سرمایه گذاری در سهام'!M6:U6 -> از ابتدای سال مالی تا پایان خرداد 1405
A7: صندوق | C7: درآمد سود صندوق | E7: درآمد تغییر ارزش | G7: درآمد فروش | I7: جمع | M7: درآمد سود صندوق | O7: درآمد تغییر ارزش | Q7: درآمد فروش | S7: جمع
I8: مبلغ | K8: درصد از کل درآمدها | S8: مبلغ | U8: درصد از کل درآمدها
C9: ریال | E9: ریال | G9: ریال | I9: ریال | M9: ریال | O9: ریال | Q9: ریال | S9: ریال
A10: صندوق س.آرمان آتیه درخشان مس-س | C10: 0 | E10: 165066764804 | G10: 0 | I10: 165066764804 | K10: 0.022265925 | M10: 0 | N10: 159019777697 | O10: 159019777690 | Q10: 0 | S10: 159019777690 | U10: 0.0076461778
A11: صندوق س.هستی بخش آگاه-س | C11: 0 | E11: 102073290220 | G11: 0 | I11: 102073290220 | K11: 0.013768709 | M11: 0 | N11: 91261431706 | O11: 91261431706 | Q11: 0 | S11: 91261431706 | U11: 0.0043881405
A12: صندوق س سروسودمند مدبران-سهام | C12: 0 | E12: 51892222745 | G12: 0 | I12: 51892222745 | K12: 0.0069997636 | M12: 0 | N12: 41630878245 | O12: 41630878245 | Q12: 0 | S12: 41630878245 | U12: 0.0020017453
A13: صندوق س. شاخصی کیان-س | C13: 0 | E13: 35567995022 | G13: 0 | I13: 35567995022 | K13: 0.0047977817 | M13: 0 | N13: 33646035720 | O13: 33646035720 | Q13: 0 | S13: 33646035720 | U13: 0.0016178086
A14: صندوق سرمایه گذاری عقیق-سهام | C14: 0 | E14: 16524251845 | G14: 0 | I14: 16524251845 | K14: 0.0022289632 | M14: 0 | N14: 14580637963 | O14: 14580637963 | Q14: 0 | S14: 14580637963 | U14: 0.00070108355
A15: صندوق س.موج گستر ثروت-س | C15: 0 | E15: 595596969 | G15: 405103337 | I15: 1000700306 | K15: 0.00013498488 | M15: 0 | N15: 0 | O15: 0 | Q15: 405103337 | S15: 405103337 | U15: 1.947866e-05
A16: صندوق س.کالای تابان تمدن1 | C16: 0 | E16: -35196612275 | G16: 0 | I16: -35196612275 | K16: -0.0047476858 | M16: 0 | N16: -35196612274 | O16: -35196612274 | Q16: 0 | S16: -35196612274 | U16: -0.0016923653
A17: صندوق س.پشتوانه طلای صبا | C17: 0 | E17: -105424019184 | G17: 0 | I17: -105424019184 | K17: -0.01422069 | M17: 0 | N17: -91057103195 | O17: -91057103195 | Q17: 0 | S17: -91057103195 | U17: -0.0043783157
A18: صندوق س.پشتوانه طلای زرین آگاه | C18: 0 | E18: -120886646978 | G18: 0 | I18: -120886646978 | K18: -0.01630645 | M18: 0 | N18: -93820914862 | O18: -93820914862 | Q18: 0 | S18: -93820914862 | U18: -0.0045112086
A19: صندوق س.پشتوانه طلای دماوند | C19: 0 | E19: -129009131533 | G19: 0 | I19: -129009131533 | K19: -0.017402096 | M19: 0 | N19: -129009131532 | O19: -129009131532 | Q19: 0 | S19: -129009131532 | U19: -0.0062031702
A20: صندوق س.مبتنی بر کالای فارابی | C20: 0 | E20: -190453739712 | G20: 0 | I20: -190453739712 | K20: -0.025690385 | M20: 0 | N20: -134022172033 | O20: -134022172033 | Q20: 0 | S20: -134022172033 | U20: -0.0064442132
A21: صندوق س.كالاي زمرد بيدار | C21: 0 | E21: -224867516780 | G21: 0 | I21: -224867516780 | K21: -0.030332473 | M21: 0 | N21: -150883961890 | O21: -150883961890 | Q21: 0 | S21: -150883961890 | U21: -0.0072549818
A22: صندوق س.پشتوانه طلا تابان تمدن | C22: 0 | E22: -526305181109 | G22: 0 | I22: -526305181109 | K22: -0.070993526 | M22: 0 | N22: -484174032639 | O22: -484174032639 | Q22: 0 | S22: -484174032639 | U22: -0.023280631
A23: جمع کل | C23: =SUM(C10:C22) -> 0 | E23: =SUM(E10:E22) -> -960422725966 | G23: =SUM(G10:G22) -> 405103337 | I23: -960017622629 | K23: -0.12949718 | M23: 0 | O23: -778025167101 | Q23: 405103337 | S23: -777620063764 | U23: -0.037390451

Sheet درآمد سرمایه گذاری در اوراق
A1: صندوق سرمایه‌گذاری تداوم اطمینان تمدن
A2: صورت وضعیت درآمدها
A3: =سهام!A3 -> برای ماه منتهی به 1405/03/31
A5: 3-2- درآمد حاصل از سرمایه‌گذاری در اوراق بهادار با درآمد ثابت:
C6: طی ماه | M6: ='درآمد سرمایه گذاری در سهام'!M6:U6 -> از ابتدای سال مالی تا پایان خرداد 1405
A7: عنوان | C7: درآمد سود اوراق | E7: درآمد تغییر ارزش | G7: درآمد فروش | I7: جمع | M7: درآمد سود اوراق | O7: درآمد تغییر ارزش | Q7: درآمد فروش | S7: جمع
I8: مبلغ | K8: درصد از کل درآمدها | S8: مبلغ | U8: درصد از کل درآمدها
C9: ریال | E9: ریال | G9: ریال | I9: ریال | M9: ریال | O9: ریال | Q9: ریال | S9: ریال
A10: سلف آهن اسفنجی توسعه گل گهر | C10: 0 | E10: 1360211340858 | G10: 0 | I10: 1360211340858 | K10: 0.18347948 | M10: 0 | O10: 2077716990330 | Q10: 0 | S10: 2077716990330 | U10: 0.099903255
A11: مرابحه عام دولت275-ش.خ080205 | C11: 126227142520 | E11: 961090259502 | G11: 0 | I11: 1087317402022 | K11: 0.1466687 | M11: 1328763604296 | O11: 422609968029 | Q11: 0 | S11: 1751373572325 | U11: 0.084211623
A12: صکوک مرابحه کگل0811-3ماهه23% | C12: 143318945163 | E12: -250483725374 | G12: 0 | I12: -107164780211 | K12: -0.014455502 | M12: 561379591206 | O12: 0 | Q12: 0 | S12: 561379591206 | U12: 0.02699292
A13: مرابحه عام دولت241-ش.خ070829 | C13: 60033606499 | E13: 239577552289 | G13: 0 | I13: 299611158788 | K13: 0.040414675 | M13: 243096808971 | O13: 305448942322 | Q13: 0 | S13: 548545751293 | U13: 0.026375828
A14: مشارکت ش اصفهان512-3ماهه18% | C14: 41492380565 | E14: 60916858438 | G14: 0 | I14: 102409239003 | K14: 0.013814025 | M14: 156467482715 | O14: 381082623590 | Q14: 0 | S14: 537550106305 | U14: 0.025847122
A15: شهردادری تهران | C15: 138947945180 | E15: 0 | G15: 0 | I15: 138947945180 | K15: 0.018742746 | M15: 537375342367 | O15: 0 | Q15: 0 | S15: 537375342367 | U15: 0.025838719
A16: شهرداری تبریز | C16: 138947945180 | E16: 0 | G16: 0 | I16: 138947945180 | K16: 0.018742746 | M16: 537375342367 | O16: 0 | Q16: 0 | S16: 537375342367 | U16: 0.025838719
A17: مرابحه پاریزشرق070228 | C17: 56939645036 | E17: 0 | G17: 0 | I17: 56939645036 | K17: 0.0076806125 | M17: 209573976754 | O17: 199891250000 | Q17: 0 | S17: 409465226754 | U17: 0.019688393
A18: مرابحه عام دولت203-ش.خ050807 | C18: 53239628160 | E18: 204103458366 | G18: 0 | I18: 257343086526 | K18: 0.034713117 | M18: 195563125710 | O18: 202389890625 | Q18: 0 | S18: 397953016335 | U18: 0.019134849
A19: مرابحه عام دولت234-ش.خ070808 | C19: 89976335696 | E19: 281658458972 | G19: 0 | I19: 371634794668 | K19: 0.050129973 | M19: 350841538054 | O19: -7800794089 | Q19: 0 | S19: 343040743965 | U19: 0.016494492
A20: سلف موازی آهن اسفنجی غدیر | C20: 0 | E20: -289105324827 | G20: 0 | I20: -289105324827 | K20: -0.038997538 | M20: 328872470160 | O20: -3624991909 | Q20: 0 | S20: 325247478251 | U20: 0.015638935
A21: مرابحه پدیده جم-تمدن070617 | C21: 41841651840 | E21: 0 | G21: 0 | I21: 41841651840 | K21: 0.0056440379 | M21: 161552639580 | O21: 149918437500 | Q21: 0 | S21: 311471077080 | U21: 0.014976522
... A41: اسنادخزانه-م2بودجه02-050923 | C41: 0 | E41: 18527807 | G41: 0 | I41: 18527807 | K41: 2.4992236e-06 | M41: 0 | O41: 18527807 | Q41: 0 | S41: 18527807 | U41: 8.9087601e-07
A42: جمع کل | C42: =SUM(C10:C41) -> 1567369649856 | E42: =SUM(E10:E41) -> 2290930925643 | G42: =SUM(G10:G41) -> 5032037500 | I42: =SUM(I10:I41) -> 3863332612999 | K42: 0.52112655 | M42: =SUM(M10:M41) -> 6753476593642 | O42: =SUM(O10:O41) -> 3375348995350 | Q42: =SUM(Q10:Q41) -> 8801203750 | S42: =SUM(S10:S41) -> 10137626792742 | U42: 0.48744941

Sheet درآمد سپرده بانکی
A1: صندوق سرمایه‌گذاری تداوم اطمینان تمدن
A2: صورت وضعیت درآمدها
A3: =سهام!A3 -> برای ماه منتهی به 1405/03/31
A5: 4-2- درآمد حاصل از سرمایه‌گذاری در سپرده بانکی و گواهی سپرده
C6: طی ماه | G6: از ابتدای سال مالی تا پایان خرداد 1405
A7: نام سپرده بانکی | C7: سود سپرده بانکی و گواهی سپرده | E7: درصد از کل درآمدها | G7: سود سپرده بانکی و گواهی سپرده | I7: درصد از کل درآمدها
C8: ریال | G8: ریال
A9: سپرده‌های بانکی | C9: 4241334346051 | E9: 0.57211536 | G9: 11033010733696 | I9: 0.53050232
A10: جمع کل | C10: 4241334346051 | E10: 0.57211536 | G10: 11033010733696 | I10: 0.53050232

Sheet درآمد سرمایه گذاری در کالایی
A1: صندوق سرمایه‌گذاری تداوم اطمینان تمدن
A2: صورت وضعیت درآمدها
A3: =سهام!A3 -> برای ماه منتهی به 1405/03/31
A5: 5-2- درآمد حاصل از سرمایه‌گذاری در گواهی سپرده کالایی
C6: طی ماه | M6: از ابتدای سال مالی تا پایان خرداد 1405
A7: سهام | C7: درآمد سود سهام | E7: درآمد تغییر ارزش | G7: درآمد فروش | I7: جمع | M7: درآمد سود سهام | O7: درآمد تغییر ارزش | Q7: درآمد فروش | S7: جمع
I8: مبلغ | K8: درصد از کل درآمدها | S8: مبلغ | U8: درصد از کل درآمدها
C9: ریال | E9: ریال | G9: ریال | I9: ریال | M9: ریال | O9: ریال | Q9: ریال | S9: ریال
A10: شمش نقره SilverBar | C10: 0 | E10: -21705689340 | G10: -97941056024 | I10: =C10+E10+G10 -> -119646745364 | K10: =I10/درآمد!$K$15 -> #DIV/0! | M10: 0 | O10: 0 | Q10: -97941056024 | R10: 0 | S10: =M10+O10+Q10 -> -97941056024 | U10: =S10/درآمد!$E$15 -> -0.0047093181
A11: جمع کل | C11: =SUM(C10:C10) -> 0 | E11: =SUM(E10:E10) -> -21705689340 | G11: =SUM(G10:G10) -> -97941056024 | I11: =SUM(I10:I10) -> -119646745364 | K11: =SUM(K10:K10) -> #DIV/0! | M11: =SUM(M10:M10) -> 0 | O11: =SUM(O10:O10) -> 0 | Q11: =SUM(Q10:Q10) -> -97941056024 | S11: =SUM(S10:S10) -> -97941056024 | U11: =SUM(U10:U10) -> -0.0047093181

Sheet سایر درآمدها
A1: صندوق سرمایه‌گذاری تداوم اطمینان تمدن
A2: صورت وضعیت درآمدها
A3: =سهام!A3 -> برای ماه منتهی به 1405/03/31
A5: 6-2- سایر درآمدها
C6: طی ماه | E6: 1405/03/31
C7: مبلغ (ریال) | E7: مبلغ (ریال)
A8: تعدیل کارمزد کارگزار | C8: 103261609 | E8: 103261609
A9: تنزیل سود بانک | C9: 0 | E9: 4954387672
A10: جمع کل | C10: =SUM(C8:C9) -> 103261609 | E10: =SUM(E8:E9) -> 5057649281

Sheet مبالغ تخصیصی اوراق
A1: صندوق سرمایه‌گذاری تداوم اطمینان تمدن
A2: صورت وضعیت درآمدها
A3: =سهام!A3 -> برای ماه منتهی به 1405/03/31
A5: مبالغ تخصیص یافته بابت خرید و نگهداری اوراق بهادار با درآمد ثابت (نرخ سود ترجیحی)
A7: طرف معامله | B7: نوع وابستگی | C7: نام ورقه بهادار | D7: تعداد اوراق | E7: بهای تمام شده اوراق (ریال) | F7: مبلغ شناسایی شده بابت قرارداد خرید و نگهداری اوراق بهادار (ریال) | G7: نرخ اسمی (درصد) | H7: میانگین نرخ بازده تا سررسید قراردادهای منعقده (درصد)
A8: تامین سرمایه تمدن | B8: مدیر صندوق | C8: مرابحه گلرنگ فرش بیدگل060224 | D8: 500000 | E8: 500000000000 | F8: 2790968719 | G8: 0.23 | H8: 0.4002
A9: تامین سرمایه تمدن | B9: مدیر صندوق | C9: صکوک مرابحه دیران72 | D9: 1499971 | E9: 1499971000000 | F9: 12370034811 | G9: 0.23 | H9: 0.355
A10: تامین سرمایه تمدن | B10: مدیر صندوق | C10: مرابحه پدیده جم-تمدن070617 | D10: 1500000 | E10: 1500000000000 | F10: 12433972590 | G10: 0.23 | H10: 0.36
A11: تامین سرمایه تمدن | B11: مدیر صندوق | C11: وراق مشارکت صکوک مرابحه دسبحان712-3 | D11: 3000000 | E11: 3000000000000 | F11: 3984986295 | G11: 0.23 | H11: 0.352
A12: تامین سرمایه تمدن | B12: مدیر صندوق | C12: اوراق مشارکت مرابحه پاریزشرق070228 | D12: 2000000 | E12: 2000000000000 | F12: 19238549036 | G12: 0.23 | H12: 0.3520057
A13: تامین سرمایه تمدن | B13: مدیر صندوق | C13: اوراق مشارکت صکوک مرابحه کگل0811-3 | D13: 5000000 | E13: 5000000000000 | F13: 48089493163 | G13: 0.23 | H13: 0.4156
A14: تامین سرمایه امید | B14: - | C14: صکوک مرابحه کگل81 | D14: 5000000 | E14: 5000000000000 | F14: 48067919054 | G14: 0.23 | H14: 0.4156
A15: تامین سرمایه تمدن | B15: مدیر صندوق | C15: قطار شهری شهرداری تبریز | D15: 5000000 | E15: 5000000000000 | F15: 41276712319 | G15: 0.23 | H15: 0.37
A16: تامین سرمایه تمدن | B16: مدیر صندوق | C16: اوراق آریس آمل | D16: 1000000 | E16: 1000000000000 | F16: 38473972590 | G16: 0.23 | H16: 0.39
A17: تامین سرمایه تمدن | B17: مدیر صندوق | C17: قطار شهری شهرداری تهران | D17: 5000000 | E17: 5000000000000 | F17: 41276712319 | G17: 0.23 | H17: 0.37

Sheet سود اوراق بهادار
A1: صندوق سرمایه‌گذاری تداوم اطمینان تمدن
A2: صورت وضعیت درآمدها
A3: =سهام!A3 -> برای ماه منتهی به 1405/03/31
A5: سود اوراق بهادار با درآمد ثابت
A6: شرح | I6: طی ماه | O6: از ابتدای سال مالی تا پایان خرداد 1405
C7: تاریخ دریافت سود | E7: تاریخ سررسید | G7: نرخ سود علی‌الحساب | I7: درآمد سود | K7: هزینه تنزیل | M7: خالص درآمد | O7: درآمد سود | Q7: هزینه تنزیل | S7: خالص درآمد
G8: درصد | I8: ریال | K8: ریال | M8: ریال | O8: ریال | Q8: ریال | S8: ریال
A9: سود سپرده‌های بانکی | E9: 0 | G9: - | I9: 4241334346051 | K9: -3675168409 | M9: 4237659177642 | O9: 11033010733696 | Q9: -12938734842 | S9: 11020071998854
A10: مرابحه عام دولت275-ش.خ080205 | E10: 1408/05/05 | G10: 0.23 | I10: 126227142520 | K10: 0 | M10: 126227142520 | O10: 1328763604296 | Q10: 0 | S10: 1328763604296
A11: صکوک مرابحه کگل0811-3ماهه23% | E11: 1408/11/20 | G11: 0.23 | I11: 143318945163 | K11: 0 | M11: 143318945163 | O11: 561379591206 | Q11: 0 | S11: 561379591206
A12: صکوک مرابحه کگل81-3ماهه23% | E12: 1408/11/20 | G12: 0.23 | I12: 143297371054 | K12: 0 | M12: 143297371054 | O12: 547339484342 | Q12: 0 | S12: 547339484342
A13: شهردادری تهران-قطار شهری | E13: 1407/12/28 | G13: 0.23 | I13: 138947945180 | K13: 0 | M13: 138947945180 | O13: 537375342367 | Q13: 0 | S13: 537375342367
A14: شهرداری تبریز- قطار شهری | E14: 1407/12/28 | G14: 0.23 | I14: 138947945180 | K14: 0 | M14: 138947945180 | O14: 537375342367 | Q14: 0 | S14: 537375342367
A15: مرابحه آریس آمل 14081224 | E15: 1408/12/24 | G15: 0.23 | I15: 118252045790 | K15: 0 | M15: 118252045790 | O15: 360292132431 | Q15: 0 | S15: 360292132431
A16: مرابحه عام دولت234-ش.خ070808 | E16: 1407/08/08 | G16: 0.23 | I16: 89976335696 | K16: 0 | M16: 89976335696 | O16: 350841538054 | Q16: 0 | S16: 350841538054
A17: سلف آهن اسفنجی غدیر | E17: 1404/12/27 | G17: 0 | I17: 0 | K17: 0 | M17: 0 | O17: 328872470160 | Q17: 0 | S17: 328872470160
A18: مرابحه عام دولت176-ش.خ050603 | E18: 1405/06/03 | G18: 0.23 | I18: 68659502736 | K18: 0 | M18: 68659502736 | O18: 263685229108 | Q18: 0 | S18: 263685229108
A19: مرابحه عام دولت241-ش.خ070829 | E19: 1407/08/29 | G19: 0.23 | I19: 60033606499 | K19: 0 | M19: 60033606499 | O19: 243096808971 | Q19: 0 | S19: 243096808971
A20: مرابحه عام دولت223-ش.خ070431 | E20: 1407/04/31 | G20: 0.23 | I20: 66064392640 | K20: 0 | M20: 66064392640 | O20: 239866976000 | Q20: 0 | S20: 239866976000
A21: مرابحه پاریزشرق070228 | E21: 1407/02/28 | G21: 0.23 | I21: 56939645036 | K21: 0 | M21: 56939645036 | O21: 209573976754 | Q21: 0 | S21: 209573976754
... A35: مرابحه عام دولت211-ش.خ050528 | E35: 1405/05/28 | G35: 0.23 | I35: 179886833 | K35: 0 | M35: 179886833 | O35: 179886833 | Q35: 0 | S35: 179886833
A36: جمع کل | I36: =SUM(I9:I35) -> 5808703995907 | K36: =SUM(K9:K35) -> -3675168409 | M36: =SUM(M9:M35) -> 5805028827498 | O36: =SUM(O9:O35) -> 17786487327338 | Q36: =SUM(Q9:Q35) -> -12938734842 | S36: =SUM(S9:S35) -> 17773548592496

Sheet سود سپرده بانکی
A1: صندوق سرمایه‌گذاری تداوم اطمینان تمدن
A2: صورت وضعیت درآمدها
A3: =سهام!A3 -> برای ماه منتهی به 1405/03/31
A5: سود سپرده بانکی
A6: شرح | C6: طی ماه | I6: از ابتدای سال مالی تا پایان خرداد 1405
C7: درآمد سود | E7: هزینه تنزیل | G7: خالص درآمد | I7: درآمد سود | K7: هزینه تنزیل | M7: خالص درآمد
C8: ریال | E8: ریال | G8: ریال | I8: ریال | K8: ریال | M8: ریال
A9: سپرده‌های بانکی | C9: 4241334346051 | E9: -3675168409 | G9: 4237659177642 | I9: 11033010733696 | K9: -12938734842 | M9: 11020071998854
A10: جمع کل | C10: =SUM(C9) -> 4241334346051 | E10: =SUM(E9) -> -3675168409 | G10: =SUM(G9) -> 4237659177642 | I10: =SUM(I9) -> 11033010733696 | K10: =SUM(K9) -> -12938734842 | M10: =SUM(M9) -> 11020071998854

Sheet درآمد ناشی از فروش
A1: صندوق سرمایه‌گذاری تداوم اطمینان تمدن
A2: صورت وضعیت درآمدها
A3: =سهام!A3 -> برای ماه منتهی به 1405/03/31
A5: سود(زیان) حاصل از فروش اوراق بهادار
A6: شرح | C6: طی ماه | K6: از ابتدای سال مالی تا پایان خرداد 1405
C7: تعداد | E7: خالص بهای فروش | G7: ارزش دفتری | I7: سود و زیان ناشی از فروش | K7: تعداد | M7: خالص بهای فروش | O7: ارزش دفتری | Q7: سود و زیان ناشی از فروش
E8: ریال | G8: ریال | I8: ریال | M8: ریال | O8: ریال | Q8: ریال | S8: کارمزد | T8: مالیات | U8: سود و زیان ناشی از فروش
A9: مرابحه عام دولت266-ش.خ070930 | C9: 122640 | E9: 99952812248 | G9: -94920774748 | I9: 5032037500 | K9: 122640 | M9: 99952812248 | O9: -94920774748 | Q9: 5032037500 | R9: 5079881252 | S9: -47843752 | T9: 0 | U9: =R9+S9+T9 -> 5032037500 | V9: =U9-I9 -> 0
A10: مشارکت ش اصفهان042-3ماهه18% | C10: 0 | E10: 0 | G10: 0 | I10: 0 | K10: 4302000 | M10: 4302000000000 | O10: -4299660787500 | Q10: 2339212500
A11: مشارکت ش شیراز042-3ماهه18% | C11: 0 | E11: 0 | G11: 0 | I11: 0 | K11: 1983800 | M11: 1983800000000 | O11: -1982721308750 | Q11: 1078691250
A12: مشارکت ش تهران42-3ماهه18% | C12: 0 | E12: 0 | G12: 0 | I12: 0 | K12: 646000 | M12: 646000000000 | O12: -645648737500 | Q12: 351262500
A13: صندوق س.موج گستر ثروت-س | C13: 990000 | E13: 10282333337 | G13: -9877230000 | I13: 405103337 | K13: 990000 | M13: 10282333337 | O13: -9877230000 | Q13: 405103337 | R13: 428807164 | S13: -23703827 | T13: 0 | U13: =R13+S13+T13 -> 405103337 | V13: =U13-I13 -> 0
A14: شمش نقره SilverBar | C14: 89879 | E14: 353065294688 | G14: -451006350712 | I14: -97941056024 | K14: 89879 | M14: 353065294688 | O14: -451006350712 | Q14: -97941056024 | R14: =4059276813-101150937595 -> -97091660782 | S14: -849395242 | T14: 0 | U14: =R14+S14+T14 -> -97941056024 | V14: =U14-I14 -> 0
A15: توسعه معادن وص.معدنی خاورمیانه | C15: 91400000 | E15: 617846841223 | G15: -528580674418 | I15: =E15+G15 -> 89266166805 | K15: 91400000 | M15: =-O15+Q15 -> 918920202208 | O15: -811485833920 | Q15: 107434368288 | R15: =95744386261-1665060679 -> 94079325582 | S15: -1699858774 | T15: -3113300003 | U15: =R15+S15+T15 -> 89266166805 | V15: =U15-I15 -> 0
A16: جمع کل | E16: =SUM(E9:E15) -> 1081147281496 | G16: =SUM(G9:G15) -> -1084385029878 | I16: =SUM(I9:I15) -> -3237748382 | M16: =SUM(M9:M15) -> 8314020642481 | O16: =SUM(O9:O15) -> -8295321023130 | Q16: =SUM(Q9:Q15) -> 18699619351 | R16: =SUM(R9:R15) -> 2496353216 | S16: =SUM(S9:S15) -> -2620801595 | T16: =SUM(T9:T15) -> -3113300003 | U16: =SUM(U9:U15) -> -3237748382
I18: =105312351490-102815998274 -> 2496353216 | Q18: 24433720949
I19: -2620801595 | Q19: -2620801595
I20: -3113300003 | Q20: -3113300003
I21: =SUM(I18:I20) -> -3237748382 | Q21: =SUM(Q18:Q20) -> 18699619351
I22: =I16-I21 -> 0 | Q22: =Q16-Q21 -> 0

Sheet درآمد ناشی از تغییر قیمت اوراق
A1: صندوق سرمایه‌گذاری تداوم اطمینان تمدن
A2: صورت وضعیت درآمدها
A3: =سهام!A3 -> برای ماه منتهی به 1405/03/31
A5: درآمد ناشی از تغییر قیمت اوراق بهادار
A6: شرح | C6: طی ماه | K6: از ابتدای سال مالی تا پایان خرداد 1405
C7: تعداد | E7: خالص ارزش فروش | G7: ارزش دفتری | I7: سود و زیان ناشی از تغییر قیمت | K7: تعداد | M7: خالص ارزش فروش | O7: ارزش دفتری | Q7: سود و زیان ناشی از تغییر قیمت
E8: ریال | G8: ریال | I8: ریال | M8: ریال | O8: ریال | Q8: ریال
A9: سلف آهن اسفنجی توسعه گل گهر | C9: 4197560 | E9: 11157902028941 | G9: -9797690688083 | I9: 1360211340858 | K9: 4197560 | M9: 11157902028941 | O9: -9080185038611 | Q9: 2077716990330
A10: مرابحه عام دولت275-ش.خ080205 | C10: 6385595 | E10: 6082609808179 | G10: -5121519548677 | I10: 961090259502 | K10: 6385595 | M10: 6082609808179 | O10: -5659999840150 | Q10: 422609968029
A11: مشارکت ش اصفهان512-3ماهه18% | C11: 2650000 | E11: 2351920447500 | G11: -2291003589062 | I11: 60916858438 | K11: 2650000 | M11: 2351920447500 | O11: -1970837823910 | Q11: 381082623590
A12: مرابحه عام دولت241-ش.خ070829 | C12: 3253232 | E12: 2870336310170 | G12: -2630758757881 | I12: 239577552289 | K12: 3253232 | M12: 2870336310170 | O12: -2564887367848 | Q12: 305448942322
A13: مرابحه عام دولت203-ش.خ050807 | C13: 2700000 | E13: 2698531875000 | G13: -2494428416634 | I13: 204103458366 | K13: 2700000 | M13: 2698531875000 | O13: -2496141984375 | Q13: 202389890625
A14: مرابحه پاریزشرق070228 | C14: 2000000 | E14: 1998912500000 | G14: -1998912500000 | I14: 0 | K14: 2000000 | M14: 1998912500000 | O14: -1799021250000 | Q14: 199891250000
A15: توسعه معادن وص.معدنی خاورمیانه | C15: 175662568 | E15: 1207931545701 | G15: -1103353154858 | I15: 104578390843 | K15: 175662568 | M15: 1207931545701 | O15: -1012684352649 | Q15: 195247193052
A16: ایران خودرو دیزل | C16: 10877447426 | E16: 15229437672687 | G16: -15034963086624 | I16: 194474586063 | K16: 10877447426 | M16: 15229437672687 | O16: -15034963086624 | Q16: 194474586063
A17: صندوق س.آرمان آتیه درخشان مس-س | C17: 1335006 | E17: 897631282214 | G17: -732564517410 | I17: 165066764804 | K17: 1335006 | M17: 897631282214 | O17: -738611504517 | Q17: 159019777697
A18: مرابحه پدیده جم-تمدن070617 | C18: 1500000 | E18: 1499184375000 | G18: -1499184375000 | I18: 0 | K18: 1500000 | M18: 1499184375000 | O18: -1349265937500 | Q18: 149918437500
A19: صکوک مرابحه دیران72-3ماهه23% | C19: 1499971 | E19: 1499155390768 | G19: -1499155390768 | I19: 0 | K19: 1499971 | M19: 1499155390768 | O19: -1349239851691 | Q19: 149915539077
A20: صندوق س.هستی بخش آگاه-س | C20: 967000 | E20: 341173701517 | G20: -239100411297 | I20: 102073290220 | K20: 967000 | M20: 341173701517 | O20: -249912269811 | Q20: 91261431706
... A52: صندوق س.پشتوانه طلا تابان تمدن | C52: 37974741 | E52: 2401788914913 | G52: -2928094096022 | I52: -526305181109 | K52: 37974741 | M52: 2401788914913 | O52: -2885962947553 | Q52: -484174032640
A53: جمع کل | E53: =SUM(E9:E52) -> 92999866339885 | G53: =SUM(G9:G52) -> -91392010852642 | I53: =SUM(I9:I52) -> 1607855487243 | M53: =SUM(M9:M52) -> 92811291034967 | O53: =SUM(O9:O52) -> -89824245427603 | Q53: =SUM(Q9:Q52) -> 2987045607364
