Workbook

Sheet صورت وضعیت
B10: صندوق سرمایه‌گذاری تداوم اطمینان تمدن
B11: صورت وضعیت پرتفوی
B12: برای ماه منتهی به 1405/04/31

Sheet سهام
A1: صندوق سرمایه‌گذاری تداوم اطمینان تمدن | AA1: 274228358895597
A2: صورت وضعیت پرتفوی
A3: برای ماه منتهی به 1405/04/31
A4: 1 - سرمایه‌گذاری‌ها
A5: 1 -1- سرمایه‌گذاری در سهام و حق تقدم سهام
C6: 1405/03/31 | I6: تغییرات طی دوره | Q6: 1405/04/31
A7: نام شرکت | C7: تعداد | E7: بهای تمام شده | G7: خالص ارزش فروش | I7: خرید طی دوره | M7: فروش طی دوره | Q7: تعداد | S7: قیمت بازار هر سهم | U7: بهای تمام شده | W7: خالص ارزش فروش | Y7: درصد به کل دارایی‌ها
I8: تعداد | K8: بهای تمام شده | M8: تعداد | O8: مبلغ فروش
E9: ریال | G9: ریال | K9: ریال | O9: ریال | S9: ریال | U9: ریال | W9: ریال
A10: ایران خودرو دیزل | C10: 10877447426 | E10: 15034963086624 | G10: 1.5229438e+13 | I10: 0 | K10: 0 | M10: 0 | O10: 0 | Q10: 10877447426 | S10: 1428 | U10: 15034963086624 | W10: 15412924873562 | Y10: =W10/$AA$1 -> 0.056204708
A11: توسعه معادن وص.معدنی خاورمیانه | C11: 175662568 | E11: 761735437681 | G11: 1.2079315e+12 | I11: 0 | K11: 0 | M11: -30000000 | O11: -219719206381 | Q11: 145662568 | S11: 6468 | U11: 631644756498 | W11: 934862705187 | Y11: =W11/$AA$1 -> 0.0034090665
A12: جمع کل | E12: =SUM(E10:E11) -> 15796698524305 | G12: =SUM(G10:G11) -> 1.6437369e+13 | K12: =SUM(K10:K11) -> 0 | O12: =SUM(O10:O11) -> -219719206381 | U12: =SUM(U10:U11) -> 15666607843122 | W12: =SUM(W10:W11) -> 16347787578749 | Y12: =SUM(Y10:Y11) -> 0.059613775

Sheet واحدهای صندوق
A1: صندوق سرمایه‌گذاری تداوم اطمینان تمدن
A2: صورت وضعیت پرتفوی
A3: برای ماه منتهی به 1405/04/31
A5: 2-1-سرمایه‌گذاری در واحدهای صندوق‌های سرمایه‌گذاری
C7: =سهام!C6 -> 1405/03/31 | I7: تغییرات طی دوره | Q7: =سهام!Q6 -> 1405/04/31
A8: صندوق | C8: تعداد واحد | E8: بهای تمام شده | G8: خالص ارزش فروش | I8: خرید طی دوره | M8: فروش طی دوره | Q8: تعداد | S8: قیمت ابطال / بازار هر واحد | U8: بهای تمام شده | W8: خالص ارزش فروش | Y8: درصد به کل دارایی‌ها
I9: تعداد | K9: بهای تمام شده | M9: تعداد | O9: مبلغ ابطال
E10: ریال | G10: ریال | K10: ریال | O10: ریال | S10: ریال | U10: ریال | W10: ریال
A11: صندوق س.پشتوانه طلا تابان تمدن | C11: 37974741 | E11: 1545851728409 | G11: 2401788914913 | I11: 16528778 | K11: 1201693567245 | M11: 0 | O11: 0 | Q11: 54503519 | S11: 74325 | U11: 2747545295654 | W11: 4046112880815 | Y11: =W11/سهام!$AA$1 -> 0.014754539
A12: صندوق س.كالاي زمرد بيدار | C12: 44301000 | E12: 900214948142 | G12: 964558638001 | I12: 0 | K12: 0 | M12: 0 | O12: 0 | Q12: 44301000 | S12: 25575 | U12: 900214948142 | W12: 1131638477310 | Y12: =W12/سهام!$AA$1 -> 0.0041266282
A13: صندوق س.پشتوانه طلای دماوند | C13: 31096000 | E13: 1001230176771 | G13: 872221045238 | I13: 0 | K13: 0 | M13: 0 | O13: 0 | Q13: 31096000 | S13: 33200 | U13: 1001230176771 | W13: 1031148335360 | Y13: =W13/سهام!$AA$1 -> 0.0037601813
A14: صندوق س.مبتنی بر کالای فارابی | C14: 58384127 | E14: 962839992768 | G14: 828817820734 | I14: 0 | K14: 0 | M14: 0 | O14: 0 | Q14: 58384127 | S14: 16822 | U14: 962839992768 | W14: 980959219052 | Y14: =W14/سهام!$AA$1 -> 0.0035771618
A15: صندوق س.آرمان آتیه درخشان مس-س | C15: 1335006 | E15: 608872802761 | G15: 897631282214 | I15: 0 | K15: 0 | M15: 0 | O15: 0 | Q15: 1335006 | S15: 724080 | U15: 608872802761 | W15: 964427846847 | Y15: =W15/سهام!$AA$1 -> 0.0035168786
A16: صندوق س.پشتوانه طلای زرین آگاه | C16: 4433240 | E16: 601821995826 | G16: 563669802337 | I16: 0 | K16: 0 | M16: 0 | O16: 0 | Q16: 4433240 | S16: 150023 | U16: 601821995826 | W16: 664289858962 | Y16: =W16/سهام!$AA$1 -> 0.0024223967
A17: صندوق س.پشتوانه طلای صبا | C17: 5267000 | E17: 330343677365 | G17: 482351712524 | I17: 0 | K17: 0 | M17: 0 | O17: 0 | Q17: 5267000 | S17: 108097 | U17: 330343677365 | W17: 568663682721 | Y17: =W17/سهام!$AA$1 -> 0.0020736866
A18: صندوق س.كالاي زرگر كارآمد | C18: 0 | E18: 0 | G18: 0 | I18: 29406000 | K18: 500578339700 | M18: 0 | O18: 0 | Q18: 29406000 | S18: 18891 | U18: 500578339700 | W18: 554842135504 | Y18: =W18/سهام!$AA$1 -> 0.002023285
A19: صندوق س.کالای تابان تمدن1 | C19: 61680000 | E19: 513875107955 | G19: 478678495680 | I19: 0 | K19: 0 | M19: 0 | O19: 0 | Q19: 61680000 | S19: 8138 | U19: 513875107955 | W19: 501349497792 | Y19: =W19/سهام!$AA$1 -> 0.001828219
A20: صندوق س.هستی بخش آگاه-س | C20: 967000 | E20: 249912269811 | G20: 341173701517 | I20: 0 | K20: 0 | M20: 0 | O20: 0 | Q20: 967000 | S20: 359200 | U20: 249912269811 | W20: 346547503280 | Y20: =W20/سهام!$AA$1 -> 0.0012637187
A21: صندوق س سروسودمند مدبران-سهام | C21: 6050000 | E21: 99940496613 | G21: 192533003245 | I21: 0 | K21: 0 | M21: 0 | O21: 0 | Q21: 6050000 | S21: 32734 | U21: 99940496613 | W21: 197585206390 | Y21: =W21/سهام!$AA$1 -> 0.0007205134
A22: صندوق س. شاخصی کیان-س | C22: 4710000 | E22: 96184113372 | G22: 135256123761 | I22: 0 | K22: 0 | M22: 0 | O22: 0 | Q22: 4710000 | S22: 29485 | U22: 96184113372 | W22: 138554938995 | Y22: =W22/سهام!$AA$1 -> 0.00050525387
A23: صندوق سرمایه گذاری عقیق-سهام | C23: 3541990 | E23: 49999991786 | G23: 80133433459 | I23: 0 | K23: 0 | M23: 0 | O23: 0 | Q23: 3541990 | S23: 23797 | U23: 49999991786 | W23: 84094871937 | Y23: =W23/سهام!$AA$1 -> 0.00030666001
A24: جمع کل | E24: =SUM(E11:E23) -> 6961087301579 | G24: =SUM(G11:G23) -> 8238813973623 | K24: =SUM(K11:K23) -> 1702271906945 | O24: =SUM(O11:O23) -> 0 | U24: =SUM(U11:U23) -> 8663359208524 | W24: =SUM(W11:W23) -> 11210214454965 | Y24: =SUM(Y11:Y23) -> 0.040879122

Sheet اوراق
A1: صندوق سرمایه‌گذاری تداوم اطمینان تمدن
A2: صورت وضعیت پرتفوی
A3: =سهام!A3 -> برای ماه منتهی به 1405/04/31
A4: 3-1-سرمایه‌گذاری در اوراق بهادار با درآمد ثابت یا علی‌الحساب
O6: =سهام!C6 -> 1405/03/31 | U6: تغییرات طی دوره | AC6: =سهام!Q6 -> 1405/04/31
A7: نام اوراق | C7: دارای مجوز از سازمان | E7: پذیرفته شده در بورس یا فرابورس | G7: تاریخ انتشار اوراق | I7: تاریخ سررسید | K7: نرخ سود اسمی | M7: نرخ سود موثر | O7: تعداد | Q7: بهای تمام شده | S7: خالص ارزش فروش | U7: خرید طی دوره | Y7: فروش طی دوره | AC7: تعداد | AE7: قیمت بازار هر سهم | AG7: بهای تمام شده | AI7: خالص ارزش فروش | AK7: درصد به کل دارایی‌ها
U8: تعداد | W8: بهای تمام شده | Y8: تعداد | AA8: مبلغ فروش
Q9: ریال | S9: ریال | W9: ریال | AA9: ریال | AE9: ریال | AG9: ریال | AI9: ریال
A10: شهرداری اصفهان-قطار شهری | C10: خیر | E10: خیر | G10: 1405/02/29 | I10: 1409/02/28 | K10: 23 | M10: 23 | O10: 26000000 | Q10: 26000000000000 | S10: 26000000000000 | U10: 0 | W10: 0 | Y10: 0 | AA10: 0 | AC10: 26000000 | AE10: 1000000 | AG10: 26000000000000 | AI10: 26000000000000 | AK10: =AI10/سهام!$AA$1 -> 0.094811493
A11: شهرداری تبریز-قطار شهری2 | C11: خیر | E11: خیر | G11: 1405/02/29 | I11: 1409/02/28 | K11: 23 | M11: 23 | O11: 0 | Q11: 0 | S11: 0 | U11: 12500000 | W11: 12500000000000 | Y11: 0 | AA11: 0 | AC11: 12500000 | AE11: 1000000 | AG11: 12500000000000 | AI11: 12500000000000 | AK11: =AI11/سهام!$AA$1 -> 0.045582448
A12: سلف آهن اسفنجی توسعه گل گهر | C12: بله | E12: بله | G12: 1404/11/19 | I12: 1406/11/19 | K12: 0 | M12: 0 | O12: 4197560 | Q12: 9999973114800 | S12: 11157902028941 | U12: 0 | W12: 0 | Y12: 0 | AA12: 0 | AC12: 4197560 | AE12: 2731404 | AG12: 9999973114800 | AI12: 11456922838048 | AK12: =AI12/سهام!$AA$1 -> 0.041778767
A13: سلف موازی آهن اسفنجی غدیر | C13: بله | E13: بله | G13: 1404/12/27 | I13: 1406/12/27 | K13: 0 | M13: 0 | O13: 1926340 | Q13: 4999988840600 | S13: 4996363848690 | U13: 0 | W13: 0 | Y13: 0 | AA13: 0 | AC13: 1926340 | AE13: 2891273 | AG13: 4999988840600 | AI13: 5565538667330 | AK13: =AI13/سهام!$AA$1 -> 0.02029527
A14: مرابحه عام دولت275-ش.خ080205 | C14: بله | E14: بله | G14: 1404/12/05 | I14: 1408/05/05 | K14: 23 | M14: 23 | O14: 6385595 | Q14: 5659999840150 | S14: 6082609808179 | U14: 0 | W14: 0 | Y14: 0 | AA14: 0 | AC14: 6385595 | AE14: 843810 | AG14: 5659999840150 | AI14: 5385299067476 | AK14: =AI14/سهام!$AA$1 -> 0.019638009
A15: مرابحه عام دولت294-ش.خ070230 | C15: بله | E15: بله | G15: 1405/04/30 | I15: 1407/02/30 | K15: 23 | M15: 23 | O15: 0 | Q15: 0 | S15: 0 | U15: 5333147 | W15: 4446244653900 | Y15: 0 | AA15: 0 | AC15: 5333147 | AE15: 963407 | AG15: 4446244653900 | AI15: 5135197369140 | AK15: =AI15/سهام!$AA$1 -> 0.018725989
A16: شهردادری تهران-قطار شهری | C16: خیر | E16: خیر | G16: 1403/12/28 | I16: 1407/12/28 | K16: 23 | M16: 23 | O16: 5000000 | Q16: 5000000000000 | S16: 5000000000000 | U16: 0 | W16: 0 | Y16: 0 | AA16: 0 | AC16: 5000000 | AE16: 1000000 | AG16: 5000000000000 | AI16: 5000000000000 | AK16: =AI16/سهام!$AA$1 -> 0.018232979
A17: شهرداری تبریز-قطار شهری1 | C17: خیر | E17: خیر | G17: 1403/12/28 | I17: 1407/12/28 | K17: 23 | M17: 23 | O17: 5000000 | Q17: 5000000000000 | S17: 5000000000000 | U17: 0 | W17: 0 | Y17: 0 | AA17: 0 | AC17: 5000000 | AE17: 1000000 | AG17: 5000000000000 | AI17: 5000000000000 | AK17: =AI17/سهام!$AA$1 -> 0.018232979
A18: صکوک مرابحه کگل0811-3ماهه23% | C18: بله | E18: بله | G18: 1404/11/20 | I18: 1408/11/20 | K18: 23 | M18: 23 | O18: 5000000 | Q18: 5000000000000 | S18: 4497553125000 | U18: 0 | W18: 0 | Y18: 0 | AA18: 0 | AC18: 5000000 | AE18: 900000 | AG18: 5000000000000 | AI18: 4497553125000 | AK18: =AI18/سهام!$AA$1 -> 0.016400759
A19: صکوک مرابحه کگل81-3ماهه23% | C19: بله | E19: بله | G19: 1404/11/20 | I19: 1408/11/20 | K19: 23 | M19: 23 | O19: 5000000 | Q19: 5002343750000 | S19: 4649270583750 | U19: 0 | W19: 0 | Y19: 0 | AA19: 0 | AC19: 5000000 | AE19: 900000 | AG19: 5002343750000 | AI19: 4497553125000 | AK19: =AI19/سهام!$AA$1 -> 0.016400759
A20: مرابحه عام دولت234-ش.خ070808 | C20: بله | E20: بله | G20: 1404/07/08 | I20: 1407/08/08 | K20: 23 | M20: 23 | O20: 4744704 | Q20: 4374996664320 | S20: 4031730171313 | U20: 0 | W20: 0 | Y20: 0 | AA20: 0 | AC20: 4744704 | AE20: 827076 | AG20: 4374996664320 | AI20: 3922097005003 | AK20: =AI20/سهام!$AA$1 -> 0.014302303
A21: مرابحه آریس آمل 14081224 | C21: بله | E21: بله | G21: 1404/12/24 | I21: 1408/12/24 | K21: 23 | M21: 23 | O21: 4000000 | Q21: 4000000000000 | S21: 3907961889650 | U21: 0 | W21: 0 | Y21: 0 | AA21: 0 | AC21: 4000000 | AE21: 900000 | AG21: 4000000000000 | AI21: 3598042500000 | AK21: =AI21/سهام!$AA$1 -> 0.013120607
... A43: مرابحه عام دولت 166-ش.خ050419 | C43: بله | E43: بله | G43: 1403/04/19 | I43: 1405/04/19 | K43: 23 | M43: 23 | O43: 526865 | Q43: 500020153650 | S43: 526578517156 | U43: 0 | W43: 0 | Y43: 526865 | AA43: 526865000000 | AC43: 0 | AE43: 0 | AG43: 0 | AI43: 0 | AK43: =AI43/سهام!$AA$1 -> 0
A44: جمع | Q44: =SUM(Q10:Q43) -> 103812462009180 | S44: =SUM(S10:S43) -> 104124238635197 | W44: =SUM(W10:W43) -> 19967775087035 | AA44: =SUM(AA10:AA43) -> 526865000000 | AG44: =SUM(AG10:AG43) -> 123280216942565 | AI44: =SUM(AI10:AI43) -> 122288123275324 | AK44: =SUM(AK10:AK43) -> 0.44593536
V50: 0

Sheet سپرده 
A1: صندوق سرمایه‌گذاری تداوم اطمینان تمدن
A2: صورت وضعیت پرتفوی
A3: =سهام!A3 -> برای ماه منتهی به 1405/04/31
A5: 4-1- سرمایه‌گذاری در سپرده‌ بانکی
C6: =سهام!C6 -> 1405/03/31 | E6: تغییرات طی دوره | I6: =سهام!Q6 -> 1405/04/31
A7: سپرده | C7: مبلغ | E7: افزایش | G7: کاهش | I7: مبلغ | K7: درصد به کل دارایی‌ها
C8: ریال | E8: ریال | G8: ریال | I8: ریال
A9: سپرده های بانکی | C9: 156792715387754 | E9: 216319658250353 | G9: -268188196163430 | I9: 104924177474677 | K9: =I9/سهام!$AA$1 -> 0.38261607
A10: جمع کل | C10: =SUM(C9) -> 156792715387754 | E10: =SUM(E9) -> 216319658250353 | G10: =SUM(G9) -> -268188196163430 | I10: =SUM(I9) -> 104924177474677 | K10: =SUM(K9) -> 0.38261607

Sheet گواهی سپرده بانکی
A1: صندوق سرمایه‌گذاری تداوم اطمینان تمدن
A2: صورت وضعیت پرتفوی
A3: =سهام!A3 -> برای ماه منتهی به 1405/04/31
A5: 5-1- سرمایه‌گذاری در سپرده‌ بانکی
C6: =سهام!C6 -> 1405/03/31 | E6: تغییرات طی دوره | I6: =سهام!Q6 -> 1405/04/31
A7: سپرده | C7: مبلغ | E7: افزایش | G7: کاهش | I7: مبلغ | K7: درصد به کل دارایی‌ها
C8: ریال | E8: ریال | G8: ریال | I8: ریال
A9: گواهی سپرده بانک تجارت | C9: 0 | E9: 12632000000000 | G9: 0 | I9: 12632000000000 | K9: =I9/سهام!$AA$1 -> 0.046063799
A10: جمع کل | C10: =SUM(C9) -> 0 | E10: =SUM(E9) -> 12632000000000 | G10: =SUM(G9) -> 0 | I10: =SUM(I9) -> 12632000000000 | K10: =SUM(K9) -> 0.046063799

Sheet تعدیل قیمت
A1: صندوق سرمایه‌گذاری تداوم اطمینان تمدن
A2: صورت وضعیت پرتفوی
A3: =سهام!A3 -> برای ماه منتهی به 1405/04/31
A5: اوراق بهاداری که ارزش آنها در تاریخ گزارش تعدیل شده
A6: (بر اساس دستورالعمل نحوه تعیین قیمت خرید و فروش اوراق بهادار در صندوق‌های سرمایه‌گذاری)
A8: نام اوراق بهادار | C8: =سهام!Q6 -> 1405/04/31
C9: تعداد | E9: قیمت پایانی | G9: قیمت تعدیل شده | I9: درصد تعدیل | K9: خالص ارزش فروش تعدیل شده | M9: دلیل تعدیل
E10: ریال | G10: ریال | K10: ریال
A11: صکوک مرابحه دیران72-3ماهه23% | C11: 1499971 | E11: 1000000 | G11: 900000 | I11: -10.00% | K11: 1349239851691 | M11: سایر
A12: مرابحه گلرنگ فرش بیدگل060224 | C12: 500000 | E12: 1000000 | G12: 900000 | I12: -10.00% | K12: 449755312500 | M12: سایر
A13: مرابحه پدیده جم-تمدن070617 | C13: 1500000 | E13: 1000000 | G13: 900000 | I13: -10.00% | K13: 1349265937500 | M13: سایر
A14: مرابحه عام دولت176-ش.خ050603 | C14: 3528000 | E14: 989000 | G14: 1000000 | I14: 1.11% | K14: 3526081650000 | M14: سایر
A15: مشارکت ش اصفهان512-3ماهه18% | C15: 2650000 | E15: 845619 | G15: 762000 | I15: -9.89% | K15: 2018202005625 | M15: سایر
A16: مرابحه عام دولت203-ش.خ050807 | C16: 2700000 | E16: 960490 | G16: 1000000 | I16: 4.11% | K16: 2698531875000 | M16: سایر
A17: صکوک مرابحه دسبحان712-3ماهه23% | C17: 500000 | E17: 1000000 | G17: 900000 | I17: -10.00% | K17: 449755312500 | M17: سایر
A18: مرابحه پاریزشرق070228 | C18: 2000000 | E18: 1000000 | G18: 900000 | I18: -10.00% | K18: 1799021250000 | M18: سایر
A19: مرابحه عام دولت223-ش.خ070431 | C19: 3200000 | E19: 840880 | G19: 804325 | I19: -4.35% | K19: 2572440474500 | M19: سایر
A20: مرابحه عام دولت234-ش.خ070808 | C20: 4744704 | E20: 832050 | G20: 827076 | I20: -0.60% | K20: 3922097005003 | M20: سایر
A21: مرابحه عام دولت241-ش.خ070829 | C21: 3253232 | E21: 845770 | G21: 865804 | I21: 2.37% | K21: 2815129718957 | M21: سایر
A22: مرابحه عام دولت266-ش.خ070930 | C22: 2503046 | E22: 795100 | G22: 747444 | I22: -5.99% | K22: 1869869419773 | M22: سایر
... A30: مرابحه عام دولت294-ش.خ070230 | C30: 5333147 | E30: 1000000 | G30: 963407 | I30: -3.66% | K30: 5135197369140 | M30: سایر

Sheet درآمد
A1: صندوق سرمایه‌گذاری تداوم اطمینان تمدن | K1: 274228358895597
A2: صورت وضعیت درآمدها
A3: ='صورت وضعیت'!B12 -> برای ماه منتهی به 1405/04/31
A5: 2- درآمد حاصل از سرمایه‌گذاری‌ها
A7: شرح | C7: یادداشت | E7: مبلغ | G7: درصد از کل درآمدها | I7: درصد از کل دارایی‌ها
E8: ریال
A9: درآمد حاصل از سرمایه‌گذاری در سهام و حق تقدم سهام | C9: 1-2 | E9: ='درآمد سرمایه گذاری در سهام'!S12 -> 729529273026 | G9: =E9/$E$15 -> 0.025489357 | I9: =E9/$K$1 -> 0.0026602984 | K9: ='درآمد سرمایه گذاری در سهام'!I12 -> 232373125624 | M9: =K9/$K$15 -> 0.029701383
A10: درآمد حاصل از سرمایه‌گذاری در واحدهای صندوق‌های سرمایه‌گذاری | C10: 2-2 | E10: ='درآمد سرمایه گذاری در صندوق'!S24 -> 491508510636 | G10: =E10/$E$15 -> 0.017173041 | I10: =E10/$K$1 -> 0.0017923329 | K10: ='درآمد سرمایه گذاری در صندوق'!I24 -> 1269128574397 | M10: =K10/$K$15 -> 0.16221701
A11: درآمد حاصل از سرمایه‌گذاری در اوراق بهادار با درآمد ثابت | C11: 3-2 | E11: ='درآمد سرمایه گذاری در اوراق'!S48 -> 13140659511931 | G11: =E11/$E$15 -> 0.45912751 | I11: =E11/$K$1 -> 0.047918675 | K11: ='درآمد سرمایه گذاری در اوراق'!I48 -> 3003032719189 | M11: =K11/$K$15 -> 0.38384054
A12: درآمد حاصل از سرمایه‌گذاری در سپرده بانکی و گواهی سپرده | C12: 4-2 | E12: ='درآمد سپرده و گواهی سپرده بانکی'!G11 -> 14352122851661 | G12: =E12/$E$15 -> 0.50145538 | I12: =E12/$K$1 -> 0.052336392 | K12: ='درآمد سپرده و گواهی سپرده بانکی'!C11 -> 3319112117965 | M12: =K12/$K$15 -> 0.42424106
A13: درآمد حاصل از سرمایه‌گذاری در گواهی سپرده کالایی | C13: 5-2 | E13: ='درآمد گواهی سپرده کالایی'!S11 -> -97941056024 | G13: =E13/$E$15 -> -0.0034220074 | I13: =E13/$K$1 -> -0.00035715145 | K13: ='درآمد گواهی سپرده کالایی'!I11 -> 0 | M13: =K13/$K$15 -> 0
A14: سایر درآمدها | C14: 6-2 | E14: ='سایر درآمدها'!E10 -> 5057649281 | G14: =E14/$E$15 -> 0.00017671152 | I14: =E14/$K$1 -> 1.8443203e-05 | K14: ='سایر درآمدها'!C10 -> 0 | M14: =K14/$K$15 -> 0
A15: جمع کل | E15: =SUM(E9:E14) -> 28620936740511 | G15: =SUM(G9:G14) -> 1 | I15: =SUM(I9:I14) -> 0.10436899 | K15: =SUM(K9:K14) -> 7823646537175 | M15: =SUM(M9:M14) -> 1

Sheet درآمد سرمایه گذاری در سهام
A1: صندوق سرمایه‌گذاری تداوم اطمینان تمدن
A2: صورت وضعیت درآمدها
A3: =سهام!A3 -> برای ماه منتهی به 1405/04/31
A5: 1-2- درآمد حاصل از سرمایه‌گذاری در سهام و حق تقدم سهام
C6: طی ماه | M6: از ابتدای سال مالی تا پایان تیر 1405
A7: سهام | C7: درآمد سود سهام | E7: درآمد تغییر ارزش | G7: درآمد فروش | I7: جمع | M7: درآمد سود سهام | O7: درآمد تغییر ارزش | Q7: درآمد فروش | S7: جمع
I8: مبلغ | K8: درصد از کل درآمدها | S8: مبلغ | U8: درصد از کل درآمدها
C9: ریال | E9: ریال | G9: ریال | I9: ریال | M9: ریال | O9: ریال | Q9: ریال | S9: ریال
A10: توسعه معادن وص.معدنی خاورمیانه | C10: 11716458705 | E10: -100120608428 | G10: 46770974296 | I10: -41633175427 | K10: =I10/درآمد!$K$15 -> -0.005321454 | M10: 11716458705 | O10: 95126584623 | Q10: 154205342584 | R10: -146868018401 | S10: 261048385912 | U10: =S10/درآمد!$E$15 -> 0.009120889
A11: ایران خودرو دیزل | C11: 90519100176 | E11: 183487200875 | G11: 0 | I11: 274006301051 | K11: =I11/درآمد!$K$15 -> 0.035022837 | M11: 90519100176 | O11: 377961786938 | Q11: 0 | R11: 0 | S11: 468480887114 | U11: =S11/درآمد!$E$15 -> 0.016368468
A12: جمع کل | C12: =SUM(C10:C11) -> 102235558881 | E12: =SUM(E10:E11) -> 83366592447 | G12: =SUM(G10:G11) -> 46770974296 | I12: =SUM(I10:I11) -> 232373125624 | K12: =SUM(K10:K11) -> 0.029701383 | M12: =SUM(M10:M11) -> 102235558881 | O12: =SUM(O10:O11) -> 473088371561 | Q12: =SUM(Q10:Q11) -> 154205342584 | S12: =SUM(S10:S11) -> 729529273026 | U12: =SUM(U10:U11) -> 0.025489357

Sheet درآمد سرمایه گذاری در صندوق
A1: صندوق سرمایه‌گذاری تداوم اطمینان تمدن
A2: صورت وضعیت درآمدها
A3: =سهام!A3 -> برای ماه منتهی به 1405/04/31
A5: 2-2- درآمد حاصل از سرمایه‌گذاری در واحدهای صندوق
C6: طی ماه | M6: ='درآمد سرمایه گذاری در سهام'!M6:U6 -> از ابتدای سال مالی تا پایان تیر 1405
A7: صندوق | C7: درآمد سود صندوق | E7: درآمد تغییر ارزش | G7: درآمد فروش | I7: جمع | M7: درآمد سود صندوق | O7: درآمد تغییر ارزش | Q7: درآمد فروش | S7: جمع
I8: مبلغ | K8: درصد از کل درآمدها | S8: مبلغ | U8: درصد از کل درآمدها
C9: ریال | E9: ریال | G9: ریال | I9: ریال | M9: ریال | O9: ریال | Q9: ریال | S9: ریال
A10: صندوق س.آرمان آتیه درخشان مس-س | C10: 0 | E10: 66796564633 | G10: 0 | I10: 66796564633 | K10: =I10/درآمد!$K$15 -> 0.0085377789 | M10: 0 | N10: 91261431706 | O10: 225816342330 | R10: 0 | S10: 225816342330 | U10: =S10/درآمد!$E$15 -> 0.0078899005
A11: صندوق س.هستی بخش آگاه-س | C11: 0 | E11: 5373801763 | G11: 0 | I11: 5373801763 | K11: =I11/درآمد!$K$15 -> 0.00068686663 | M11: 0 | N11: 41630878245 | O11: 96635233469 | R11: 0 | S11: 96635233469 | U11: =S11/درآمد!$E$15 -> 0.0033763826
A12: صندوق س.كالاي زرگر كارآمد | C12: 0 | E12: 54263795804 | G12: 0 | I12: 54263795804 | K12: =I12/درآمد!$K$15 -> 0.0069358701 | O12: 54263795804 | R12: 0 | S12: 54263795804 | U12: =S12/درآمد!$E$15 -> 0.0018959476
A13: صندوق س سروسودمند مدبران-سهام | C13: 0 | E13: 5052203145 | G13: 0 | I13: 5052203145 | K13: =I13/درآمد!$K$15 -> 0.00064576066 | M13: 0 | N13: 33646035720 | O13: 46683081390 | R13: 0 | S13: 46683081390 | U13: =S13/درآمد!$E$15 -> 0.0016310815
A14: صندوق س. شاخصی کیان-س | C14: 0 | E14: 3298815234 | G14: 0 | I14: 3298815234 | K14: =I14/درآمد!$K$15 -> 0.00042164676 | M14: 0 | N14: 0 | O14: 36944850951 | R14: 0 | S14: 36944850954 | U14: =S14/درآمد!$E$15 -> 0.001290833
A15: صندوق س.پشتوانه طلای دماوند | C15: 0 | E15: 158927290122 | G15: 0 | I15: 158927290122 | K15: =I15/درآمد!$K$15 -> 0.02031371 | M15: 0 | N15: -134022172033 | O15: 29918158589 | R15: 0 | S15: 29918158589 | U15: =S15/درآمد!$E$15 -> 0.0010453242
A16: صندوق سرمایه گذاری عقیق-سهام | C16: 0 | E16: 3961438478 | G16: 0 | I16: 3961438478 | K16: =I16/درآمد!$K$15 -> 0.0005063417 | M16: 0 | N16: -35196612274 | O16: 18542076441 | R16: 0 | S16: 18542076441 | U16: =S16/درآمد!$E$15 -> 0.00064785009
A17: صندوق س.مبتنی بر کالای فارابی | C17: 0 | E17: 152141398318 | G17: 0 | I17: 152141398318 | K17: =I17/درآمد!$K$15 -> 0.019446354 | M17: 0 | N17: -150883961890 | O17: 18119226284 | R17: 0 | S17: 18119226284 | U17: =S17/درآمد!$E$15 -> 0.00063307593
A18: صندوق س.كالاي زمرد بيدار | C18: 0 | E18: 167079839309 | G18: 0 | I18: 167079839309 | K18: =I18/درآمد!$K$15 -> 0.02135575 | M18: 0 | N18: -129009131532 | O18: 16195877418 | R18: 0 | S18: 16195877418 | U18: =S18/درآمد!$E$15 -> 0.00056587517
A19: صندوق س.پشتوانه طلای زرین آگاه | C19: 0 | E19: 100620056625 | G19: 0 | I19: 100620056625 | K19: =I19/درآمد!$K$15 -> 0.012861018 | M19: 0 | N19: 14580637963 | O19: 6799141762 | R19: 0 | S19: 6799141762 | U19: =S19/درآمد!$E$15 -> 0.00023755832
A20: صندوق س.موج گستر ثروت-س | C20: 0 | E20: 0 | G20: 0 | I20: 0 | M20: 0 | O20: 0 | Q20: 405103337 | S20: 405103337 | U20: =S20/درآمد!$E$15 -> 1.4154091e-05
A21: صندوق س.پشتوانه طلای صبا | C21: 0 | E21: 86311970197 | G21: 0 | I21: 86311970197 | K21: =I21/درآمد!$K$15 -> 0.011032192 | M21: 0 | N21: -91057103195 | O21: -4745132998 | R21: 0 | S21: -4745132998 | U21: =S21/درآمد!$E$15 -> -0.00016579237
A22: صندوق س.کالای تابان تمدن1 | C22: 0 | E22: 22671002112 | G22: 0 | I22: 22671002112 | K22: =I22/درآمد!$K$15 -> 0.0028977539 | M22: 0 | N22: -484174032639 | O22: -12525610162 | R22: 0 | S22: -12525610162 | U22: =S22/درآمد!$E$15 -> -0.00043763802
A23: صندوق س.پشتوانه طلا تابان تمدن | C23: 0 | E23: 442630398657 | G23: 0 | I23: 442630398657 | K23: =I23/درآمد!$K$15 -> 0.056575971 | M23: 0 | N23: -93820914862 | O23: -41543633982 | R23: 0 | S23: -41543633982 | U23: =S23/درآمد!$E$15 -> -0.001451512
A24: جمع کل | C24: =SUM(C10:C23) -> 0 | E24: =SUM(E10:E23) -> 1269128574397 | G24: =SUM(G10:G23) -> 0 | I24: =SUM(I10:I23) -> 1269128574397 | K24: =SUM(K11:K23) -> 0.15367923 | M24: =SUM(M10:M23) -> 0 | O24: =SUM(O10:O23) -> 491103407296 | Q24: =SUM(Q10:Q23) -> 405103337 | S24: =SUM(S10:S23) -> 491508510636 | U24: =SUM(U10:U23) -> 0.017173041

Sheet درآمد سرمایه گذاری در اوراق
A1: صندوق سرمایه‌گذاری تداوم اطمینان تمدن
A2: صورت وضعیت درآمدها
A3: =سهام!A3 -> برای ماه منتهی به 1405/04/31
A5: 3-2- درآمد حاصل از سرمایه‌گذاری در اوراق بهادار با درآمد ثابت:
C6: طی ماه | M6: ='درآمد سرمایه گذاری در سهام'!M6:U6 -> از ابتدای سال مالی تا پایان تیر 1405
A7: عنوان | C7: درآمد سود اوراق | E7: درآمد تغییر ارزش | G7: درآمد فروش | I7: جمع | M7: درآمد سود اوراق | O7: درآمد تغییر ارزش | Q7: درآمد فروش | S7: جمع
I8: مبلغ | K8: درصد از کل درآمدها | S8: مبلغ | U8: درصد از کل درآمدها
C9: ریال | E9: ریال | G9: ریال | I9: ریال | M9: ریال | O9: ریال | Q9: ریال | S9: ریال
A10: مرابحه عام دولت294-ش.خ070230 | C10: 2974142487 | E10: 688952715240 | G10: 0 | I10: =C10+E10+G10 -> 691926857727 | K10: =I10/درآمد!$K$15 -> 0.088440455 | M10: 2974142487 | O10: 688952715240 | Q10: 0 | S10: 691926857727 | U10: =S10/درآمد!$E$15 -> 0.024175549
A11: سلف آهن اسفنجی توسعه گل گهر | C11: 0 | E11: 299020809107 | G11: 0 | I11: =C11+E11+G11 -> 299020809107 | K11: =I11/درآمد!$K$15 -> 0.038220133 | M11: 0 | O11: 2376737799436 | Q11: 0 | S11: 2376737799436 | U11: =S11/درآمد!$E$15 -> 0.083041929
A12: اسناد خزانه-م12بودجه02-050916 | C12: 0 | E12: 11018053726 | G12: 0 | I12: =C12+E12+G12 -> 11018053726 | K12: =I12/درآمد!$K$15 -> 0.0014083016 | M12: 0 | O12: 11596891706 | Q12: 0 | S12: 11596891706 | U12: =S12/درآمد!$E$15 -> 0.0004051891
A13: اسناد خزانه-م13بودجه02-051021 | C13: 0 | E13: 5810861601 | G13: 0 | I13: =C13+E13+G13 -> 5810861601 | K13: =I13/درآمد!$K$15 -> 0.00074273059 | M13: 0 | O13: 6161303455 | Q13: 0 | S13: 6161303455 | U13: =S13/درآمد!$E$15 -> 0.0002152726
A14: اسناد خزانه-م11بودجه02-050720 | C14: 0 | E14: 4149434869 | G14: 0 | I14: =C14+E14+G14 -> 4149434869 | K14: =I14/درآمد!$K$15 -> 0.00053037095 | M14: 0 | O14: 4190619252 | Q14: 0 | S14: 4190619252 | U14: =S14/درآمد!$E$15 -> 0.00014641796
A15: اسنادخزانه-م4بودجه02-051021 | C15: 0 | E15: 477796686 | G15: 0 | I15: =C15+E15+G15 -> 477796686 | K15: =I15/درآمد!$K$15 -> 6.1070843e-05 | M15: 0 | O15: 477796686 | Q15: 0 | S15: 477796686 | U15: =S15/درآمد!$E$15 -> 1.6693957e-05
A16: اسنادخزانه-م10بودجه02-051112 | C16: 0 | E16: 444518270 | G16: 0 | I16: =C16+E16+G16 -> 444518270 | K16: =I16/درآمد!$K$15 -> 5.6817274e-05 | M16: 0 | O16: 471881500 | Q16: 0 | S16: 471881500 | U16: =S16/درآمد!$E$15 -> 1.6487284e-05
A17: مرابحه عام دولت211-ش.خ050528 | C17: 1424297182 | E17: 363802075 | G17: 0 | I17: =C17+E17+G17 -> 1788099257 | K17: =I17/درآمد!$K$15 -> 0.00022855062 | M17: 1604184015 | O17: 388293554 | Q17: 0 | S17: 1992477569 | U17: =S17/درآمد!$E$15 -> 6.9616085e-05
A18: اسنادخزانه-م2بودجه02-050923 | C18: 0 | E18: 125350275 | G18: 0 | I18: =C18+E18+G18 -> 125350275 | K18: =I18/درآمد!$K$15 -> 1.6021976e-05 | M18: 0 | O18: 143878082 | Q18: 0 | S18: 143878082 | U18: =S18/درآمد!$E$15 -> 5.0270221e-06
A19: مشارکت ش شیراز042-3ماهه18% | C19: 0 | G19: 0 | I19: =C19+E19+G19 -> 0 | K19: =I19/درآمد!$K$15 -> 0 | M19: 26187478355 | O19: 0 | Q19: 1078691250 | S19: 27266169605 | U19: =S19/درآمد!$E$15 -> 0.00095266517
A20: مشارکت ش تهران42-3ماهه18% | C20: 0 | G20: 0 | I20: =C20+E20+G20 -> 0 | K20: =I20/درآمد!$K$15 -> 0 | M20: 8527629312 | O20: 0 | Q20: 351262500 | S20: 8878891812 | U20: =S20/درآمد!$E$15 -> 0.00031022366
A21: مشارکت ش اصفهان042-3ماهه18% | C21: 0 | G21: 0 | I21: =C21+E21+G21 -> 0 | K21: =I21/درآمد!$K$15 -> 0 | M21: 56789258937 | O21: 0 | Q21: 2339212500 | S21: 59128471437 | U21: =S21/درآمد!$E$15 -> 0.0020659167
A22: مرابحه عام دولت266-ش.خ070930 | C22: 57958099218 | G22: 0 | I22: =C22+E22+G22 -> 57958099218 | K22: =I22/درآمد!$K$15 -> 0.0074080672 | M22: 245538752998 | O22: -72587675560 | Q22: 5032037500 | S22: 177983114938 | U22: =S22/درآمد!$E$15 -> 0.0062186335
A23: مرابحه عام دولت223-ش.خ070431 | C23: 74496317759 | G23: 0 | I23: =C23+E23+G23 -> 74496317759 | K23: =I23/درآمد!$K$15 -> 0.0095219432 | M23: 314363293759 | O23: -155675305500 | Q23: 0 | S23: 158687988259 | U23: =S23/درآمد!$E$15 -> 0.0055444722
A24: مرابحه عام دولت203-ش.خ050807 | C24: 60093963990 | G24: 0 | I24: =C24+E24+G24 -> 60093963990 | K24: =I24/درآمد!$K$15 -> 0.0076810684 | M24: 255657089700 | O24: 202389890625 | Q24: 0 | S24: 458046980325 | U24: =S24/درآمد!$E$15 -> 0.016003913
A25: مرابحه عام دولت176-ش.خ050603 | C25: 77506401976 | G25: 0 | I25: =C25+E25+G25 -> 77506401976 | K25: =I25/درآمد!$K$15 -> 0.009906685 | M25: 341191631084 | O25: 35260816500 | Q25: 0 | S25: 376452447584 | U25: =S25/درآمد!$E$15 -> 0.013153044
A26: مرابحه عام دولت 166-ش.خ050419 | C26: 7960795751 | E26: -33128107672 | G26: 33414590516 | I26: =C26+E26+G26 -> 8247278595 | K26: =I26/درآمد!$K$15 -> 0.0010541476 | M26: 48031023503 | O26: 0 | Q26: 33414590516 | S26: 81445614019 | U26: =S26/درآمد!$E$15 -> 0.0028456656
A27: قطار شهری-شهرداری تهران | C27: 148399999973 | G27: 0 | I27: =C27+E27+G27 -> 148399999973 | K27: =I27/درآمد!$K$15 -> 0.018968137 | M27: 685775342340 | O27: 0 | Q27: 0 | S27: 685775342340 | U27: =S27/درآمد!$E$15 -> 0.023960618
A28: قطار شهری-شهرداری تبریز1 | C28: 148399999973 | G28: 0 | I28: =C28+E28+G28 -> 148399999973 | K28: =I28/درآمد!$K$15 -> 0.018968137 | M28: 685775342340 | O28: 0 | Q28: 0 | S28: 685775342340 | U28: =S28/درآمد!$E$15 -> 0.023960618
A29: شهرداری تبریز -اتوبوسرانی | C29: 75267659672 | G29: 0 | I29: =C29+E29+G29 -> 75267659672 | K29: =I29/درآمد!$K$15 -> 0.0096205343 | M29: 75267659672 | O29: 0 | Q29: 0 | S29: 75267659672 | U29: =S29/درآمد!$E$15 -> 0.0026298112
A30: قطار شهری-شهرداری اصفهان | C30: 808892191375 | G30: 0 | I30: =C30+E30+G30 -> 808892191375 | K30: =I30/درآمد!$K$15 -> 0.10339069 | M30: 808892191375 | O30: 0 | Q30: 0 | S30: 808892191375 | U30: =S30/درآمد!$E$15 -> 0.028262254
A31: صکوک مرابحه کگل0811-3ماهه23% | C31: 156757280663 | G31: 0 | I31: =C31+E31+G31 -> 156757280663 | K31: =I31/درآمد!$K$15 -> 0.020036345 | M31: 718136871869 | O31: 0 | Q31: 0 | S31: 718136871869 | U31: =S31/درآمد!$E$15 -> 0.025091313
A32: شهرداری تبریز -قطار شهری 2 | C32: 376338298501 | G32: 0 | I32: =C32+E32+G32 -> 376338298501 | K32: =I32/درآمد!$K$15 -> 0.048102671 | M32: 376338298501 | O32: 0 | Q32: 0 | S32: 376338298501 | U32: =S32/درآمد!$E$15 -> 0.013149056
A33: اوراق تبعی اختیار فروش تامین مالی خاور1 | C33: 1290580000000 | G33: 0 | I33: =C33+E33+G33 -> 1290580000000 | K33: =I33/درآمد!$K$15 -> 0.16495888 | M33: 1290580000000 | Q33: 0 | S33: 1290580000000 | U33: =S33/درآمد!$E$15 -> 0.045092165
A34: مرابحه گلرنگ فرش بیدگل060224 | C34: 13604026519 | E34: -49972812500 | G34: 0 | I34: =C34+E34+G34 -> -36368785981 | K34: =I34/درآمد!$K$15 -> -0.0046485722 | M34: 61797575323 | O34: 0 | Q34: 0 | S34: 61797575323 | U34: =S34/درآمد!$E$15 -> 0.0021591738
A35: صکوک مرابحه دسبحان712-3ماهه23% | C35: 14356486295 | E35: -49972812500 | G35: 0 | I35: =C35+E35+G35 -> -35616326205 | K35: =I35/درآمد!$K$15 -> -0.0045523946 | M35: 67783335585 | O35: 0 | Q35: 0 | S35: 67783335585 | U35: =S35/درآمد!$E$15 -> 0.002368313
A36: مرابحه عام دولت241-ش.خ070829 | C36: 69292346094 | E36: -55206591213 | G36: 0 | I36: =C36+E36+G36 -> 14085754881 | K36: =I36/درآمد!$K$15 -> 0.0018004079 | M36: 312389155065 | O36: 250242351109 | Q36: 0 | S36: 562631506174 | U36: =S36/درآمد!$E$15 -> 0.01965804
A37: مرابحه عام دولت234-ش.خ070808 | C37: 101642507136 | E37: -109633166310 | G37: 0 | I37: =C37+E37+G37 -> -7990659174 | K37: =I37/درآمد!$K$15 -> -0.0010213472 | M37: 452484045190 | O37: -117433960400 | Q37: 0 | S37: 335050084790 | U37: =S37/درآمد!$E$15 -> 0.011706468
A38: صکوک مرابحه دیران72-3ماهه23% | C38: 44889160995 | E38: -149915539077 | G38: 0 | I38: =C38+E38+G38 -> -105026378082 | K38: =I38/درآمد!$K$15 -> -0.013424223 | M38: 205138715114 | O38: 0 | Q38: 0 | S38: 205138715114 | U38: =S38/درآمد!$E$15 -> 0.0071674354
A39: مرابحه پدیده جم-تمدن070617 | C39: 43908448590 | E39: -149918437500 | G39: 0 | I39: =C39+E39+G39 -> -106009988910 | K39: =I39/درآمد!$K$15 -> -0.013549946 | M39: 205461088170 | O39: 0 | Q39: 0 | S39: 205461088170 | U39: =S39/درآمد!$E$15 -> 0.0071786989
A40: صکوک مرابحه کگل81-3ماهه23% | C40: 156735706554 | E40: -151717458750 | G40: 0 | I40: =C40+E40+G40 -> 5018247804 | K40: =I40/درآمد!$K$15 -> 0.00064142057 | M40: 704075190896 | O40: =-499728124999-1 -> -499728125000 | Q40: 0 | S40: 204347065896 | U40: =S40/درآمد!$E$15 -> 0.0071397756
A41: مرابحه پاریزشرق070228 | C41: 62275896236 | E41: -199891250000 | G41: 0 | I41: =C41+E41+G41 -> -137615353764 | K41: =I41/درآمد!$K$15 -> -0.017589669 | M41: 271849872990 | O41: 0 | Q41: 0 | S41: 271849872990 | U41: =S41/درآمد!$E$15 -> 0.0094982871
...

Sheet درآمد سپرده و گواهی سپرده بانکی
A1: صندوق سرمایه‌گذاری تداوم اطمینان تمدن
A2: صورت وضعیت درآمدها
A3: =سهام!A3 -> برای ماه منتهی به 1405/04/31
A5: 4-2- درآمد حاصل از سرمایه‌گذاری در سپرده بانکی و گواهی سپرده
C6: طی ماه | G6: از ابتدای سال مالی تا پایان تیر 1405
A7: نام سپرده بانکی | C7: سود سپرده بانکی و گواهی سپرده | E7: درصد از کل درآمدها | G7: سود سپرده بانکی و گواهی سپرده | I7: درصد از کل درآمدها
C8: ریال | G8: ریال
A9: سپرده‌های بانکی | C9: 3228857104270 | E9: =C9/درآمد!$K$15 -> 0.41270488 | G9: 14261867837966 | I9: =G9/درآمد!$E$15 -> 0.49830192
A10: گواهی سپرده بانکی | C10: 90255013695 | E10: =C10/درآمد!$K$15 -> 0.011536182 | G10: 90255013695 | I10: =G10/درآمد!$E$15 -> 0.0031534612
A11: جمع کل | C11: =SUM(C9:C10) -> 3319112117965 | E11: =SUM(E9:E10) -> 0.42424106 | G11: =SUM(G9:G10) -> 14352122851661 | I11: =SUM(I9:I10) -> 0.50145538
F17: 14352122851661

Sheet درآمد گواهی سپرده کالایی
A1: صندوق سرمایه‌گذاری تداوم اطمینان تمدن
A2: صورت وضعیت درآمدها
A3: =[1]سهام!A3 -> برای ماه منتهی به 1405/03/31
A5: 5-2- درآمد حاصل از سرمایه‌گذاری در گواهی سپرده کالایی
C6: طی ماه | M6: از ابتدای سال مالی تا پایان خرداد 1405
A7: سهام | C7: درآمد سود سهام | E7: درآمد تغییر ارزش | G7: درآمد فروش | I7: جمع | M7: درآمد سود سهام | O7: درآمد تغییر ارزش | Q7: درآمد فروش | S7: جمع
I8: مبلغ | K8: درصد از کل درآمدها | S8: مبلغ | U8: درصد از کل درآمدها
C9: ریال | E9: ریال | G9: ریال | I9: ریال | M9: ریال | O9: ریال | Q9: ریال | S9: ریال
A10: شمش نقره SilverBar | C10: 0 | E10: 0 | G10: 0 | I10: =C10+E10+G10 -> 0 | K10: =I10/[1]درآمد!$K$15 -> 0 | M10: 0 | O10: 0 | Q10: -97941056024 | R10: 0 | S10: =M10+O10+Q10 -> -97941056024 | U10: =S10/[1]درآمد!$E$15 -> -0.0047093181
A11: جمع کل | C11: =SUM(C10:C10) -> 0 | E11: =SUM(E10:E10) -> 0 | G11: =SUM(G10:G10) -> 0 | I11: =SUM(I10:I10) -> 0 | K11: =SUM(K10:K10) -> 0 | M11: =SUM(M10:M10) -> 0 | O11: =SUM(O10:O10) -> 0 | Q11: =SUM(Q10:Q10) -> -97941056024 | S11: =SUM(S10:S10) -> -97941056024 | U11: =SUM(U10:U10) -> -0.0047093181

Sheet سایر درآمدها
A1: صندوق سرمایه‌گذاری تداوم اطمینان تمدن
A2: صورت وضعیت درآمدها
A3: =سهام!A3 -> برای ماه منتهی به 1405/04/31
A5: 6-2- سایر درآمدها
C6: طی ماه | E6: 1405/04/31
C7: مبلغ (ریال) | E7: مبلغ (ریال)
A8: تعدیل کارمزد کارگزار | E8: 103261609
A9: تنزیل سود بانک | C9: 0 | E9: 4954387672
A10: جمع کل | C10: =SUM(C8:C9) -> 0 | E10: =SUM(E8:E9) -> 5057649281

Sheet مبالغ تخصیصی اوراق
A1: صندوق سرمایه‌گذاری تداوم اطمینان تمدن
A2: صورت وضعیت درآمدها
A3: =سهام!A3 -> برای ماه منتهی به 1405/04/31
A5: مبالغ تخصیص یافته بابت خرید و نگهداری اوراق بهادار با درآمد ثابت (نرخ سود ترجیحی)
A7: طرف معامله | B7: نوع وابستگی | C7: نام ورقه بهادار | D7: تعداد اوراق | E7: بهای تمام شده اوراق (ریال) | F7: مبلغ شناسایی شده بابت قرارداد خرید و نگهداری اوراق بهادار (ریال) | G7: نرخ اسمی (درصد) | H7: میانگین نرخ بازده تا سررسید قراردادهای منعقده (درصد)
A8: تامین سرمایه تمدن | B8: مدیر صندوق | C8: مرابحه گلرنگ فرش بیدگل060224 | D8: 500000 | E8: 500000000000 | F8: 2790968719 | G8: 0.23 | H8: 0.4002
A9: تامین سرمایه تمدن | B9: مدیر صندوق | C9: صکوک مرابحه دیران72 | D9: 1499971 | E9: 1499971000000 | F9: 12370034811 | G9: 0.23 | H9: 0.355
A10: تامین سرمایه تمدن | B10: مدیر صندوق | C10: مرابحه پدیده جم-تمدن070617 | D10: 1500000 | E10: 1500000000000 | F10: 12433972590 | G10: 0.23 | H10: 0.36
A11: تامین سرمایه تمدن | B11: مدیر صندوق | C11: وراق مشارکت صکوک مرابحه دسبحان712-3 | D11: 3000000 | E11: 3000000000000 | F11: 3984986295 | G11: 0.23 | H11: 0.352
A12: تامین سرمایه تمدن | B12: مدیر صندوق | C12: اوراق مشارکت مرابحه پاریزشرق070228 | D12: 2000000 | E12: 2000000000000 | F12: 19238549036 | G12: 0.23 | H12: 0.3520057
A13: تامین سرمایه تمدن | B13: مدیر صندوق | C13: اوراق مشارکت صکوک مرابحه کگل0811-3 | D13: 5000000 | E13: 5000000000000 | F13: 48089493163 | G13: 0.23 | H13: 0.4156
A14: تامین سرمایه امید | B14: - | C14: صکوک مرابحه کگل81 | D14: 5000000 | E14: 5000000000000 | F14: 48067919054 | G14: 0.23 | H14: 0.4156
A15: تامین سرمایه تمدن | B15: مدیر صندوق | C15: قطار شهری شهرداری تبریز | D15: 5000000 | E15: 5000000000000 | F15: 41276712319 | G15: 0.23 | H15: 0.37
A16: تامین سرمایه تمدن | B16: مدیر صندوق | C16: اوراق آریس آمل | D16: 1000000 | E16: 1000000000000 | F16: 38473972590 | G16: 0.23 | H16: 0.39
A17: تامین سرمایه تمدن | B17: مدیر صندوق | C17: قطار شهری شهرداری تهران | D17: 5000000 | E17: 5000000000000 | F17: 41276712319 | G17: 0.23 | H17: 0.37
A18: تامین سرمایه تمدن | B18: مدیر صندوق | C18: اوراق مشارکت صکوک مرابحه دوچرخ83 | D18: 2000000 | E18: 2000000000000 | F18: 21220136988 | G18: 0.23 | H18: 0.405
A19: تامین سرمایه تمدن | B19: مدیر صندوق | C19: اوراق مشارکت صکوک مرابحه آکو903 | D19: 3999997 | E19: 3999997000000 | F19: 41153700630 | G19: 0.23 | H19: 0.4
... A22: تامین سرمایه تمدن | B22: مدیر صندوق | C22: اوراق مشارکت شهرداری اصفهان | D22: 26000000 | E22: 26000000000000 | F22: 301001780443 | G22: 0.23 | H22: 0.42

Sheet سود اوراق بهادار
A1: صندوق سرمایه‌گذاری تداوم اطمینان تمدن
A2: صورت وضعیت درآمدها
A3: =سهام!A3 -> برای ماه منتهی به 1405/04/31
A5: سود اوراق بهادار با درآمد ثابت
A6: شرح | I6: طی ماه | O6: از ابتدای سال مالی تا پایان تیر 1405
C7: تاریخ دریافت سود | E7: تاریخ سررسید | G7: نرخ سود علی‌الحساب | I7: درآمد سود | K7: هزینه تنزیل | M7: خالص درآمد | O7: درآمد سود | Q7: هزینه تنزیل | S7: خالص درآمد
G8: درصد | I8: ریال | K8: ریال | M8: ریال | O8: ریال | Q8: ریال | S8: ریال
A9: سود سپرده بانکی | E9: 0 | G9: - | I9: 3228857104270 | K9: 2866969392 | M9: 3231724073662 | O9: 14261867837966 | Q9: -10071765450 | S9: 14251796072516
A10: مرابحه عام دولت294-ش.خ070230 | E10: 1407/02/30 | G10: 0.23 | I10: 2974142487 | K10: 0 | M10: 2974142487 | O10: 2974142487 | Q10: 0 | S10: 2974142487
A11: سلف موازی آهن اسفنجی غدیر | E11: 1406/12/27 | G11: - | I11: 0 | M11: 0 | O11: 328872470160 | S11: 328872470160
A12: اوراق تبعی اختیار فروش تامین مالی خاور1 | E12: 1406/06/03 | G12: - | I12: 1290580000000 | M12: 1290580000000 | O12: 1290580000000 | S12: 1290580000000
A13: شهرداری تبریز- قطار شهر2 | E13: 1409/02/28 | G13: 0.23 | I13: 376338298501 | K13: 0 | M13: 376338298501 | O13: 376338298501 | Q13: 0 | S13: 376338298501
A14: شهرداری تبریز-اتوبوسرانی | E14: 1409/02/28 | G14: 0.23 | I14: 75267659672 | K14: 0 | M14: 75267659672 | O14: 75267659672 | Q14: 0 | S14: 75267659672
A15: شهرداری اصفهان-قطار شهری | E15: 1409/02/28 | G15: 0.23 | I15: 808892191375 | K15: 0 | M15: 808892191375 | O15: 808892191375 | Q15: 0 | S15: 808892191375
A16: صکوک مرابحه دوچرخ83-3ماهه23% | E16: 1408/03/09 | G16: 0.23 | I16: 59849109588 | K16: 0 | M16: 59849109588 | O16: 101404246644 | Q16: 0 | S16: 101404246644
A17: صکوک مرابحه آکو903-3ماهه23% | E17: 1409/03/02 | G17: 0.23 | I17: 119095286173 | K17: 0 | M17: 119095286173 | O17: 227765911516 | Q17: 0 | S17: 227765911516
A18: مرابحه آریس آمل 14081224 | E18: 1408/12/24 | G18: 0.23 | I18: 121654572590 | K18: 0 | M18: 121654572590 | O18: 481946705021 | Q18: 0 | S18: 481946705021
A19: مرابحه عام دولت275-ش.خ080205 | E19: 1408/05/05 | G19: 0.23 | I19: 142468231642 | K19: 0 | M19: 142468231642 | O19: 1471231835938 | Q19: 0 | S19: 1471231835938
A20: صکوک مرابحه کگل81-3ماهه23% | E20: 1408/11/20 | G20: 0.23 | I20: 156735706554 | K20: 0 | M20: 156735706554 | O20: 704075190896 | Q20: 0 | S20: 704075190896
A21: صکوک مرابحه کگل0811-3ماهه23% | E21: 1408/11/20 | G21: 0.23 | I21: 156757280663 | K21: 0 | M21: 156757280663 | O21: 718136871869 | Q21: 0 | S21: 718136871869
A22: مرابحه عام دولت266-ش.خ070930 | E22: 1407/09/30 | G22: 0.23 | I22: 57958099218 | K22: 0 | M22: 57958099218 | O22: 245538752998 | Q22: 0 | S22: 245538752998
A23: مرابحه عام دولت241-ش.خ070829 | E23: 1407/08/29 | G23: 0.23 | I23: 69292346094 | K23: 0 | M23: 69292346094 | O23: 312389155065 | Q23: 0 | S23: 312389155065
A24: مرابحه عام دولت234-ش.خ070808 | E24: 1407/08/08 | G24: 0.23 | I24: 101642507136 | K24: 0 | M24: 101642507136 | O24: 452484045190 | Q24: 0 | S24: 452484045190
... A40: مشارکت ش شیراز042-3ماهه18% | E40: 1404/12/25 | G40: 0.18 | I40: 0 | K40: 0 | M40: 0 | O40: 26187478355 | Q40: 0 | S40: 26187478355
A41: جمع کل | I41: =SUM(I9:I40) -> 7508915270367 | K41: =SUM(K9:K40) -> 2866969392 | M41: =SUM(M9:M40) -> 7511782239759 | O41: =SUM(O9:O40) -> 25295402597705 | Q41: =SUM(Q9:Q40) -> -10071765450 | S41: =SUM(S9:S40) -> 25285330832255

Sheet سود سپرده بانکی
A1: صندوق سرمایه‌گذاری تداوم اطمینان تمدن
A2: صورت وضعیت درآمدها
A3: =سهام!A3 -> برای ماه منتهی به 1405/04/31
A5: سود سپرده بانکی
A6: شرح | C6: طی ماه | I6: از ابتدای سال مالی تا پایان تیر 1405
C7: درآمد سود | E7: هزینه تنزیل | G7: خالص درآمد | I7: درآمد سود | K7: هزینه تنزیل | M7: خالص درآمد
C8: ریال | E8: ریال | G8: ریال | I8: ریال | K8: ریال | M8: ریال
A9: سپرده‌های بانکی | C9: 3228857104270 | E9: 2866969392 | G9: 3231724073662 | I9: 14261867837966 | K9: -10071765450 | M9: 14251796072516
A10: جمع کل | C10: =SUM(C9) -> 3228857104270 | E10: =SUM(E9) -> 2866969392 | G10: =SUM(G9) -> 3231724073662 | I10: =SUM(I9) -> 14261867837966 | K10: =SUM(K9) -> -10071765450 | M10: =SUM(M9) -> 14251796072516

Sheet درآمد ناشی از فروش
A1: صندوق سرمایه‌گذاری تداوم اطمینان تمدن
A2: صورت وضعیت درآمدها
A3: =سهام!A3 -> برای ماه منتهی به 1405/04/31
A5: سود(زیان) حاصل از فروش اوراق بهادار
A6: شرح | C6: طی ماه | K6: از ابتدای سال مالی تا پایان تیر 1405
C7: تعداد | E7: خالص بهای فروش | G7: ارزش دفتری | I7: سود و زیان ناشی از فروش | K7: تعداد | M7: خالص بهای فروش | O7: ارزش دفتری | Q7: سود و زیان ناشی از فروش
E8: ریال | G8: ریال | I8: ریال | M8: ریال | O8: ریال | Q8: ریال
A9: توسعه معادن وص.معدنی خاورمیانه | C9: 30000000 | E9: 219719206381 | G9: -172948232085 | I9: 46770974296 | K9: 121400000 | M9: 837566047604 | O9: =Q9-M9 -> -683360705020 | Q9: 154205342584
A10: صندوق س.موج گستر ثروت-س | C10: 0 | E10: 0 | G10: 0 | I10: 0 | K10: 990000 | M10: 10282333337 | O10: -9877230000 | Q10: 405103337
A11: شمش نقره SilverBar | C11: 0 | E11: 0 | G11: 0 | I11: 0 | K11: 89879 | M11: 353065294688 | O11: -451006350712 | Q11: -97941056024
A12: مرابحه عام دولت 166-ش.خ050419 | C12: 526865 | E12: 526865000000 | G12: -493450409484 | I12: 33414590516 | K12: 526865 | M12: 526865000000 | O12: -493450409484 | Q12: 33414590516
A13: مشارکت ش اصفهان042-3ماهه18% | C13: 0 | E13: 0 | G13: 0 | I13: 0 | K13: 4302000 | M13: 4302000000000 | O13: -4299660787500 | Q13: 2339212500
A14: مشارکت ش شیراز042-3ماهه18% | C14: 0 | E14: 0 | G14: 0 | I14: 0 | K14: 1983800 | M14: 1983800000000 | O14: -1982721308750 | Q14: 1078691250
A15: مشارکت ش تهران42-3ماهه18% | C15: 0 | E15: 0 | G15: 0 | I15: 0 | K15: 646000 | M15: 646000000000 | O15: -645648737500 | Q15: 351262500
A16: مرابحه عام دولت266-ش.خ070930 | C16: 0 | E16: 0 | G16: 0 | I16: 0 | K16: 122640 | M16: 99952812248 | O16: -94920774748 | Q16: 5032037500
A17: جمع کل | E17: =SUM(E9:E16) -> 746584206381 | G17: =SUM(G9:G16) -> -666398641569 | I17: =SUM(I9:I16) -> 80185564812 | M17: =SUM(M9:M16) -> 8759531487877 | O17: =SUM(O9:O16) -> -8660646303714 | Q17: =SUM(Q9:Q16) -> 98885184163

Sheet درآمد ناشی از تغییر قیمت اوراق
A1: صندوق سرمایه‌گذاری تداوم اطمینان تمدن
A2: صورت وضعیت درآمدها
A3: =سهام!A3 -> برای ماه منتهی به 1405/04/31
A5: درآمد ناشی از تغییر قیمت اوراق بهادار
A6: شرح | C6: طی ماه | K6: از ابتدای سال مالی تا پایان تیر 1405
C7: تعداد | E7: خالص ارزش فروش | G7: ارزش دفتری | I7: سود و زیان ناشی از تغییر قیمت | K7: تعداد | M7: خالص ارزش فروش | O7: ارزش دفتری | Q7: سود و زیان ناشی از تغییر قیمت
E8: ریال | G8: ریال | I8: ریال | M8: ریال | O8: ریال | Q8: ریال
A9: سلف آهن اسفنجی توسعه گل گهر | C9: 4197560 | E9: 11456922838048 | G9: -11157902028941 | I9: 299020809107 | K9: 4197560 | M9: 11456922838048 | O9: -9080185038611 | Q9: 2376737799437
A10: مرابحه عام دولت294-ش.خ070230 | C10: 5333147 | E10: 5135197369140 | G10: -4446244653900 | I10: 688952715240 | K10: 5333147 | M10: 5135197369140 | O10: -4446244653900 | Q10: 688952715240
A11: سلف موازی آهن اسفنجی غدیر | C11: 1926340 | E11: 5565538667330 | G11: -4996363848690 | I11: 569174818640 | K11: 1926340 | M11: 5565538667330 | O11: -4999988840600 | Q11: 565549826730
A12: ایران خودرو دیزل | C12: 10877447426 | E12: 15412924873562 | G12: -15229437672687 | I12: 183487200875 | K12: 10877447426 | M12: 15412924873562 | O12: -15034963086624 | Q12: 377961786938
A13: مرابحه عام دولت241-ش.خ070829 | C13: 3253232 | E13: 2815129718957 | G13: -2870336310170 | I13: -55206591213 | K13: 3253232 | M13: 2815129718957 | O13: -2564887367848 | Q13: 250242351109
A14: صندوق س.آرمان آتیه درخشان مس-س | C14: 1335006 | E14: 964427846847 | G14: -897631282214 | I14: 66796564633 | K14: 1335006 | M14: 964427846847 | O14: -738611504517 | Q14: 225816342330
A15: مرابحه عام دولت203-ش.خ050807 | C15: 2700000 | E15: 2698531875000 | G15: -2698531875000 | I15: 0 | K15: 2700000 | M15: 2698531875000 | O15: -2496141984375 | Q15: 202389890625
A16: صندوق س.هستی بخش آگاه-س | C16: 967000 | E16: 346547503280 | G16: -341173701517 | I16: 5373801763 | K16: 967000 | M16: 346547503280 | O16: -249912269811 | Q16: 96635233469
A17: توسعه معادن وص.معدنی خاورمیانه | C17: 145662568 | E17: 934862705187 | G17: -1034983313616 | I17: -100120608429 | K17: 145662568 | M17: 934862705187 | O17: -839736120564 | Q17: 95126584623
A18: صندوق س.كالاي زرگر كارآمد | C18: 29406000 | E18: 554842135504 | G18: -500578339700 | I18: 54263795804 | K18: 29406000 | M18: 554842135504 | O18: -500578339700 | Q18: 54263795804
A19: مشارکت ش اصفهان512-3ماهه18% | C19: 2650000 | E19: 2018202005625 | G19: -2351920447500 | I19: -333718441875 | K19: 2650000 | M19: 2018202005625 | O19: -1970837823910 | Q19: 47364181715
A20: صندوق س سروسودمند مدبران-سهام | C20: 6050000 | E20: 197585206390 | G20: -192533003245 | I20: 5052203145 | K20: 6050000 | M20: 197585206390 | O20: -150902125000 | Q20: 46683081390
... A39: مرابحه پاریزشرق070228 | C39: 2000000 | E39: 1799021250000 | G39: -1998912500000 | I39: -199891250000 | K39: 2000000 | M39: 1799021250000 | O39: -1799021250000 | Q39: 0
A40: مرابحه عام دولت 166-ش.خ050419 | C40: 526865 | E40: 526865000000 | G40: =-E40+I40 -> -559993107672 | I40: -33128107672 | K40: 0 | M40: 0 | O40: 0 | Q40: 0
A41: صکوک مرابحه کگل0811-3ماهه23% | C41: 5000000 | E41: 4497553125000 | G41: -4497553125000 | I41: 0 | K41: 5000000 | M41: 4497553125000 | O41: -4497553125000 | Q41: 0
A42: ظخاور06041 | C42: 10877447426 | E42: 10869207759 | G42: -10869207759 | I42: 0 | K42: 10877447426 | M42: 10869207759 | O42: -10869207759 | Q42: 0
A43: صندوق س.پشتوانه طلای صبا | C43: 5267000 | E43: 568663682721 | G43: -482351712524 | I43: 86311970197 | K43: 5267000 | M43: 568663682721 | O43: -573408815720 | Q43: -4745132999
A44: صندوق س.کالای تابان تمدن1 | C44: 61680000 | E44: 501349497792 | G44: -478678495680 | I44: 22671002112 | K44: 61680000 | M44: 501349497792 | O44: -513875107955 | Q44: -12525610163
A45: صندوق س.پشتوانه طلا تابان تمدن | C45: 54503519 | E45: 4046112880815 | G45: -3603482482158 | I45: 442630398657 | K45: 54503519 | M45: 4046112880815 | O45: -4087656514798 | Q45: -41543633983
A46: مرابحه عام دولت266-ش.خ070930 | C46: 2503046 | E46: 1869869419773 | G46: -1869869419773 | I46: 0 | K46: 2503046 | M46: 1869869419773 | O46: -1942457095332 | Q46: -72587675559
A47: مرابحه عام دولت234-ش.خ070808 | C47: 4744704 | E47: 3922097005003 | G47: -4031730171313 | I47: -109633166310 | K47: 4744704 | M47: 3922097005003 | O47: -4039530965403 | Q47: -117433960400
A48: مرابحه عام دولت223-ش.خ070431 | C48: 3200000 | E48: 2572440474500 | G48: -2572440474500 | I48: 0 | K48: 3200000 | M48: 2572440474500 | O48: -2728115780000 | Q48: -155675305500
A49: صکوک مرابحه دوچرخ83-3ماهه23% | C49: 2000000 | E49: 1799021250000 | G49: -1998912500000 | I49: -199891250000 | K49: 2000000 | M49: 1799021250000 | O49: -2000000000000 | Q49: -200978750000
A50: مرابحه عام دولت275-ش.خ080205 | C50: 6385595 | E50: 5385299067476 | G50: -6082609808179 | I50: -697310740703 | K50: 6385595 | M50: 5385299067476 | O50: -5659999840150 | Q50: -274700772674
A51: صکوک مرابحه آکو903-3ماهه23% | C51: 3999997 | E51: 3598039801468 | G51: -3997822001631 | I51: -399782200163 | K51: 3999997 | M51: 3598039801468 | O51: -3999997000000 | Q51: -401957198532
A52: مرابحه آریس آمل 14081224 | C52: 4000000 | E52: 3598042500000 | G52: -3907961889650 | I52: -309919389650 | K52: 4000000 | M52: 3598042500000 | O52: -4000000000000 | Q52: -401957500000
A53: صکوک مرابحه کگل81-3ماهه23% | C53: 5000000 | E53: 4497553125000 | G53: -4649270583750 | I53: -151717458750 | K53: 5000000 | M53: 4497553125000 | O53: -4997281250000 | Q53: -499728125000
A54: جمع کل | E54: =SUM(E9:E53) -> 99383859516797 | G54: =SUM(G9:G53) -> -99341804387378 | I54: =SUM(I9:I53) -> 42055129419 | M54: =SUM(M9:M53) -> 98856994516797 | O54: =SUM(O9:O53) -> -95827893780014 | Q54: =SUM(Q9:Q53) -> 3029100736783
