Workbook

Sheet صورت وضعیت
B10: صندوق سرمایه‌گذاری تداوم اطمینان تمدن
B11: صورت وضعیت پرتفوی
B12: برای ماه منتهی به 1405/05/31
B21: 1405/04/31
B22: 1405/05/31
B23: طی مرداد ماه
B24: از ابتدای سال مالی تا پایان مرداد ماه 1405

Sheet سهام
A1: صندوق سرمایه‌گذاری تداوم اطمینان تمدن | AA1: 308035635319717
A2: صورت وضعیت پرتفوی
A3: ='صورت وضعیت'!B12 -> برای ماه منتهی به 1405/05/31
A4: 1 - سرمایه‌گذاری‌ها
A5: 1 -1- سرمایه‌گذاری در سهام و حق تقدم سهام
C6: ='صورت وضعیت'!B21 -> 1405/04/31 | I6: تغییرات طی دوره | Q6: ='صورت وضعیت'!B22 -> 1405/05/31
A7: نام شرکت | C7: تعداد | E7: بهای تمام شده | G7: خالص ارزش فروش | I7: خرید طی دوره | M7: فروش طی دوره | Q7: تعداد | S7: قیمت بازار هر سهم | U7: بهای تمام شده | W7: خالص ارزش فروش | Y7: درصد به کل دارایی‌ها
I8: تعداد | K8: بهای تمام شده | M8: تعداد | O8: مبلغ فروش
E9: ریال | G9: ریال | K9: ریال | O9: ریال | S9: ریال | U9: ریال | W9: ریال
A10: ایران خودرو دیزل | C10: 10877447426 | E10: 15034963086624 | G10: 15412924873562 | I10: 0 | K10: 0 | M10: 0 | O10: 0 | Q10: =C10+I10-M10 -> 10877447426 | S10: 1376 | U10: 15034963086624 | W10: 1.485167e+13 | Y10: =W10/$AA$1 -> 0.048214129
A11: توسعه معادن وص.معدنی خاورمیانه | C11: 145662568 | E11: 631644756498 | G11: 934862705187 | I11: 0 | K11: 0 | M11: 0 | O11: 0 | Q11: =C11+I11-M11 -> 145662568 | S11: 6930 | U11: 631644756498 | W11: 1.0016386e+12 | Y11: =W11/$AA$1 -> 0.0032516972
A12: جمع کل | E12: =SUM(E10:E11) -> 15666607843122 | G12: =SUM(G10:G11) -> 16347787578749 | K12: =SUM(K10:K11) -> 0 | O12: =SUM(O10:O11) -> 0 | U12: =SUM(U10:U11) -> 15666607843122 | W12: =SUM(W10:W11) -> 1.5853309e+13 | Y12: =SUM(Y10:Y11) -> 0.051465826
C15: 11023109994 | E15: 15666607843122 | G15: 16347787578749 | Q15: =Q10+Q11 -> 11023109994 | U15: 15666607843122 | W15: 15853308518879
C16: 11023109994 | E16: =E12-E15 -> 0 | G16: =G12-G15 -> 0 | Q16: 11023109994 | U16: =U12-U15 -> 0 | W16: =W12-W15 -> 0.36132812
C17: =C15-C16 -> 0 | Q17: =Q15-Q16 -> 0

Sheet واحدهای صندوق
A1: صندوق سرمایه‌گذاری تداوم اطمینان تمدن
A2: صورت وضعیت پرتفوی
A3: =سهام!A3 -> برای ماه منتهی به 1405/05/31
A5: 2-1-سرمایه‌گذاری در واحدهای صندوق‌های سرمایه‌گذاری
C7: =سهام!C6 -> 1405/04/31 | I7: تغییرات طی دوره | Q7: =سهام!Q6 -> 1405/05/31
A8: صندوق | C8: تعداد واحد | E8: بهای تمام شده | G8: خالص ارزش فروش | I8: خرید طی دوره | M8: فروش طی دوره | Q8: تعداد | S8: قیمت ابطال / بازار هر واحد | U8: بهای تمام شده | W8: خالص ارزش فروش | Y8: درصد به کل دارایی‌ها
I9: تعداد | K9: بهای تمام شده | M9: تعداد | O9: مبلغ ابطال
E10: ریال | G10: ریال | K10: ریال | O10: ریال | S10: ریال | U10: ریال | W10: ریال
A11: صندوق س سروسودمند مدبران-سهام | C11: 6050000 | E11: 99940496613 | G11: 197585206390 | I11: 0 | K11: 0 | M11: 0 | O11: 0 | Q11: =C11+I11-M11 -> 6050000 | S11: 39047 | U11: 99940496613 | W11: 235691010995 | Y11: =W11/سهام!$AA$1 -> 0.00076514203
A12: صندوق س. شاخصی کیان-س | C12: 4710000 | E12: 96184113372 | G12: 138554938995 | I12: 0 | K12: 0 | M12: 0 | O12: 0 | Q12: =C12+I12-M12 -> 4710000 | S12: 38260 | U12: 96184113372 | W12: 179790129420 | Y12: =W12/سهام!$AA$1 -> 0.00058366666
A13: صندوق س.آرمان آتیه درخشان مس-س | C13: 1335006 | E13: 608872802761 | G13: 964427846847 | I13: 0 | K13: 0 | M13: 0 | O13: 0 | Q13: =C13+I13-M13 -> 1335006 | S13: 883798 | U13: 608872802761 | W13: 1177161918832 | Y13: =W13/سهام!$AA$1 -> 0.0038215121
A14: صندوق س.پشتوانه طلا تابان تمدن | C14: 54503519 | E14: 2747545295654 | G14: 4046112880815 | I14: 26540000 | K14: 1999141196041 | M14: 0 | O14: 0 | Q14: =C14+I14-M14 -> 81043519 | S14: 84125 | U14: 4746686491695 | W14: 6809604692631 | Y14: =W14/سهام!$AA$1 -> 0.022106548
A15: صندوق س.پشتوانه طلای دماوند | C15: 31096000 | E15: 1001230176771 | G15: 1031148335360 | I15: 0 | K15: 0 | M15: 0 | O15: 0 | Q15: =C15+I15-M15 -> 31096000 | S15: 37560 | U15: 1001230176771 | W15: 1166564201088 | Y15: =W15/سهام!$AA$1 -> 0.0037871079
A16: صندوق س.پشتوانه طلای زرین آگاه | C16: 4433240 | E16: 601821995826 | G16: 664289858962 | I16: 0 | K16: 0 | M16: 0 | O16: 0 | Q16: =C16+I16-M16 -> 4433240 | S16: 169251 | U16: 601821995826 | W16: 749429906876 | Y16: =W16/سهام!$AA$1 -> 0.0024329325
A17: صندوق س.پشتوانه طلای صبا | C17: 5267000 | E17: 330343677365 | G17: 568663682721 | I17: 0 | K17: 0 | M17: 0 | O17: 0 | Q17: =C17+I17-M17 -> 5267000 | S17: 122015 | U17: 330343677365 | W17: 641881821394 | Y17: =W17/سهام!$AA$1 -> 0.0020837908
A18: صندوق س.كالاي زرگر كارآمد | C18: 29406000 | E18: 500578339700 | G18: 554842135504 | I18: 0 | K18: 0 | M18: 0 | O18: 0 | Q18: =C18+I18-M18 -> 29406000 | S18: 21280 | U18: 500578339700 | W18: 625008768384 | Y18: =W18/سهام!$AA$1 -> 0.0020290145
A19: صندوق س.كالاي زمرد بيدار | C19: 44301000 | E19: 900214948142 | G19: 1131638477310 | I19: 0 | K19: 0 | M19: 0 | O19: 0 | Q19: =C19+I19-M19 -> 44301000 | S19: 28960 | U19: 900214948142 | W19: 1281417411648 | Y19: =W19/سهام!$AA$1 -> 0.0041599648
A20: صندوق س.مبتنی بر کالای فارابی | C20: 58384127 | E20: 962839992768 | G20: 980959219052 | I20: 0 | K20: 0 | M20: 0 | O20: 0 | Q20: =C20+I20-M20 -> 58384127 | S20: 18795 | U20: 962839992768 | W20: 1096012871364 | Y20: =W20/سهام!$AA$1 -> 0.0035580717
A21: صندوق س.هستی بخش آگاه-س | C21: 967000 | E21: 249912269811 | G21: 346547503280 | I21: 0 | K21: 0 | M21: 0 | O21: 0 | Q21: =C21+I21-M21 -> 967000 | S21: 444000 | U21: 249912269811 | W21: 428360499600 | Y21: =W21/سهام!$AA$1 -> 0.0013906199
A22: صندوق س.کالای تابان تمدن1 | C22: 61680000 | E22: 513875107955 | G22: 501349497792 | I22: 12252000 | K22: 99998157353 | M22: 0 | O22: 0 | Q22: =C22+I22-M22 -> 73932000 | S22: 9650 | U22: 613873265308 | W22: 712587667440 | Y22: =W22/سهام!$AA$1 -> 0.0023133287
... A24: صندوق س صنایع تمدن1-بخشی | C24: 0 | E24: 0 | G24: 0 | I24: 14716000 | K24: 204738536407 | M24: 0 | O24: 0 | Q24: =C24+I24-M24 -> 14716000 | S24: 14682 | U24: 204738536407 | W24: 215563373282 | Y24: =W24/سهام!$AA$1 -> 0.00069980012
A25: جمع کل | E25: =SUM(E11:E24) -> 8663359208524 | G25: =SUM(G11:G24) -> 11210214454965 | K25: =SUM(K11:K24) -> 2303877889801 | O25: =SUM(O11:O24) -> 0 | U25: =SUM(U11:U24) -> 10967237098325 | W25: =SUM(W11:W24) -> 15420301217805 | Y25: =SUM(Y11:Y24) -> 0.050060121
C28: 305674882 | E28: 8663359208524 | G28: 11210214454965 | Q28: 359182882 | U28: 10967237098325 | W28: 15420301217805
C29: 305674882 | E29: =E25-E28 -> 0 | G29: =G25-G28 -> 0 | Q29: 359182882 | U29: =U25-U28 -> 0 | W29: =W25-W28 -> 0
C30: =C28-C29 -> 0 | Q30: =Q28-Q29 -> 0
W31: =W28-U28 -> 4453064119480

Sheet اوراق
A1: صندوق سرمایه‌گذاری تداوم اطمینان تمدن
A2: صورت وضعیت پرتفوی
A3: =سهام!A3 -> برای ماه منتهی به 1405/05/31
A4: 3-1-سرمایه‌گذاری در اوراق بهادار با درآمد ثابت یا علی‌الحساب
O6: =سهام!C6 -> 1405/04/31 | U6: تغییرات طی دوره | AC6: =سهام!Q6 -> 1405/05/31
A7: نام اوراق | C7: دارای مجوز از سازمان | E7: پذیرفته شده در بورس یا فرابورس | G7: تاریخ انتشار اوراق | I7: تاریخ سررسید | K7: نرخ سود اسمی | M7: نرخ سود موثر | O7: تعداد | Q7: بهای تمام شده | S7: خالص ارزش فروش | U7: خرید طی دوره | Y7: فروش طی دوره | AC7: تعداد | AE7: قیمت بازار هر سهم | AG7: بهای تمام شده | AI7: خالص ارزش فروش | AK7: درصد به کل دارایی‌ها
U8: تعداد | W8: بهای تمام شده | Y8: تعداد | AA8: مبلغ فروش
Q9: ریال | S9: ریال | W9: ریال | AA9: ریال | AE9: ریال | AG9: ریال | AI9: ریال
A10: سلف آهن اسفنجی توسعه گل گهر | C10: بله | E10: بله | G10: 1404/11/19 | I10: 1406/11/19 | K10: 0 | M10: 0 | O10: 4197560 | Q10: 9999973114800 | S10: 11456922838048 | U10: 0 | W10: 0 | Y10: 0 | AA10: 0 | AC10: 4197560 | AE10: 2731404 | AG10: 9999973114800 | AI10: 11456922838048 | AK10: =AI10/سهام!$AA$1 -> 0.037193498
A11: سلف موازی آهن اسفنجی غدیر | C11: بله | E11: بله | G11: 1404/12/27 | I11: 1406/12/27 | K11: 0 | M11: 0 | O11: 1926340 | Q11: 4999988840600 | S11: 5565538667330 | U11: 0 | W11: 0 | Y11: 0 | AA11: 0 | AC11: 1926340 | AE11: 2964021 | AG11: 4999988840600 | AI11: 5705573741861 | AK11: =AI11/سهام!$AA$1 -> 0.018522447
A12: اسناد خزانه-م11بودجه02-050720 | C12: بله | E12: بله | G12: 1402/12/29 | I12: 1405/07/20 | K12: 0 | M12: 0 | O12: 193322 | Q12: 176175407144 | S12: 180366026396 | U12: 0 | W12: 0 | Y12: 0 | AA12: 0 | AC12: 193322 | AE12: 955970 | AG12: 176175407144 | AI12: 184709541884 | AK12: =AI12/سهام!$AA$1 -> 0.00059963693
A13: اسناد خزانه-م12بودجه02-050916 | C13: بله | E13: بله | G13: 1402/12/29 | I13: 1405/09/16 | K13: 0 | M13: 0 | O13: 439081 | Q13: 378884942082 | S13: 390481833788 | U13: 0 | W13: 0 | Y13: 50489 | AA13: 44974862648 | AC13: 388592 | AE13: 908200 | AG13: 335317760079 | AI13: 352727354555 | AK13: =AI13/سهام!$AA$1 -> 0.0011450862
A14: اسناد خزانه-م13بودجه02-051021 | C14: بله | E14: بله | G14: 1402/12/29 | I14: 1405/10/21 | K14: 0 | M14: 0 | O14: 257359 | Q14: 214946773608 | S14: 221108077063 | U14: 0 | W14: 0 | Y14: 0 | AA14: 0 | AC14: 257359 | AE14: 883230 | AG14: 214946773608 | AI14: 227183591285 | AK14: =AI14/سهام!$AA$1 -> 0.00073752373
A15: اسنادخزانه-م10بودجه02-051112 | C15: بله | E15: بله | G15: 1402/12/21 | I15: 1405/11/12 | K15: 0 | M15: 0 | O15: 40094 | Q15: 33448834136 | S15: 33920715636 | U15: 0 | W15: 0 | Y15: 0 | AA15: 0 | AC15: 40094 | AE15: 861920 | AG15: 33448834136 | AI15: 34539029665 | AK15: =AI15/سهام!$AA$1 -> 0.00011212673
A16: اسنادخزانه-م2بودجه02-050923 | C16: بله | E16: بله | G16: 1402/06/19 | I16: 1405/09/23 | K16: 0 | M16: 0 | O16: 26458 | Q16: 23100058151 | S16: 23243936233 | U16: 0 | W16: 0 | Y16: 0 | AA16: 0 | AC16: 26458 | AE16: 902510 | AG16: 23100058151 | AI16: 23865625586 | AK16: =AI16/سهام!$AA$1 -> 7.7476833e-05
A17: اسنادخزانه-م4بودجه02-051021 | C17: بله | E17: بله | G17: 1402/12/15 | I17: 1405/10/21 | K17: 0 | M17: 0 | O17: 20001 | Q17: 16709912222 | S17: 17187708908 | U17: 0 | W17: 0 | Y17: 0 | AA17: 0 | AC17: 20001 | AE17: 873020 | AG17: 16709912222 | AI17: 17451778452 | AK17: =AI17/سهام!$AA$1 -> 5.6655063e-05
A18: صکوک مرابحه آکو903-3ماهه23% | C18: بله | E18: بله | G18: 1405/03/02 | I18: 1409/03/02 | K18: 23 | M18: 23 | O18: 3999997 | Q18: 3999997000000 | S18: 3598039801468 | U18: 0 | W18: 0 | Y18: 0 | AA18: 0 | AC18: 3999997 | AE18: 900000 | AG18: 3999997000000 | AI18: 3598039801468 | AK18: =AI18/سهام!$AA$1 -> 0.011680596
A19: صکوک مرابحه دسبحان712-3ماهه23% | C19: بله | E19: بله | G19: 1403/12/26 | I19: 1407/12/26 | K19: 23 | M19: 23 | O19: 500000 | Q19: 500000000000 | S19: 449755312500 | U19: 0 | W19: 0 | Y19: 0 | AA19: 0 | AC19: 500000 | AE19: 900000 | AG19: 500000000000 | AI19: 449755312500 | AK19: =AI19/سهام!$AA$1 -> 0.0014600756
A20: صکوک مرابحه دوچرخ83-3ماهه23% | C20: بله | E20: بله | G20: 1405/03/09 | I20: 1408/03/09 | K20: 23 | M20: 23 | O20: 2000000 | Q20: 2000000000000 | S20: 1799021250000 | U20: 0 | W20: 0 | Y20: 0 | AA20: 0 | AC20: 2000000 | AE20: 900000 | AG20: 2000000000000 | AI20: 1799021250000 | AK20: =AI20/سهام!$AA$1 -> 0.0058403024
A21: صکوک مرابحه دیران72-3ماهه23% | C21: بله | E21: بله | G21: 1403/02/22 | I21: 1407/02/22 | K21: 23 | M21: 23 | O21: 1499971 | Q21: 1500205374093 | S21: 1349239851691 | U21: 0 | W21: 0 | Y21: 0 | AA21: 0 | AC21: 1499971 | AE21: 900000 | AG21: 1500205374093 | AI21: 1349239851691 | AK21: =AI21/سهام!$AA$1 -> 0.0043801421
... A44: شهرداری تبریز | C44: خیر | E44: خیر | G44: 1403/12/28 | I44: 1407/12/28 | K44: 23 | M44: 23 | O44: 5000000 | Q44: 5000000000000 | S44: 5000000000000 | U44: 0 | W44: 0 | Y44: 0 | AA44: 0 | AC44: 5000000 | AE44: 1000000 | AG44: 5000000000000 | AI44: 5000000000000 | AK44: =AI44/سهام!$AA$1 -> 0.016231888
A45: جمع | Q45: =SUM(Q10:Q44) -> 123280216942565 | S45: =SUM(S10:S44) -> 122288123275324 | W45: =SUM(W10:W44) -> 34873283778000 | AA45: =SUM(AA10:AA44) -> 114974862648 | AG45: =SUM(AG10:AG44) -> 158041064411327 | AI45: =SUM(AI10:AI44) -> 157062162509268 | AK45: =SUM(AK10:AK44) -> 0.50988309
O48: 118467907 | Q48: 123280216942565 | S48: 122288123275324 | AG48: =51000000000000+14999961955400+92041102455927 -> 158041064411327 | AI48: =-3141436526568+AG48+2162534624509 -> 157062162509268
O49: 118467907 | Q49: =Q45-Q48 -> 0 | S49: =S45-S48 -> 0 | AG49: =AG45-AG48 -> 0 | AI49: =AI45-AI48 -> 0
V51: 0

Sheet تعدیل قیمت
A1: صندوق سرمایه‌گذاری تداوم اطمینان تمدن
A2: صورت وضعیت پرتفوی
A3: =سهام!A3 -> برای ماه منتهی به 1405/05/31
A5: اوراق بهاداری که ارزش آنها در تاریخ گزارش تعدیل شده
A6: (بر اساس دستورالعمل نحوه تعیین قیمت خرید و فروش اوراق بهادار در صندوق‌های سرمایه‌گذاری)
A8: نام اوراق بهادار | C8: =سهام!Q6 -> 1405/05/31
C9: تعداد | E9: قیمت پایانی | G9: قیمت تعدیل شده | I9: درصد تعدیل | K9: خالص ارزش فروش تعدیل شده | M9: دلیل تعدیل
E10: ریال | G10: ریال | K10: ریال
A11: ایران خودرو دیزل | C11: 10877447426 | E11: 1453 | G11: 1376 | I11: -10.00% | K11: 14967367658176 | M11: سایر
A12: صکوک مرابحه دیران72-3ماهه23% | C12: 1499971 | E12: 1000000 | G12: 900000 | I12: -10.00% | K12: 1349239851691 | M12: سایر
A13: مرابحه گلرنگ فرش بیدگل060224 | C13: 500000 | E13: 1000000 | G13: 900000 | I13: -10.00% | K13: 449755312500 | M13: سایر
A14: مرابحه پدیده جم-تمدن070617 | C14: 1500000 | E14: 1000000 | G14: 900000 | I14: 1.11% | K14: 1349265937500 | M14: سایر
A15: مشارکت ش اصفهان512-3ماهه18% | C15: 2650000 | E15: 845619 | G15: 762000 | I15: -9.89% | K15: 2018202005625 | M15: سایر
A16: صکوک مرابحه دسبحان712-3ماهه23% | C16: 500000 | E16: 1000000 | G16: 900000 | I16: 4.11% | K16: 449755312500 | M16: سایر
A17: مرابحه پاریزشرق070228 | C17: 2000000 | E17: 1000000 | G17: 900000 | I17: -10.00% | K17: 1799021250000 | M17: سایر
A18: سلف آهن اسفنجی توسعه گل گهر | C18: 4197560 | E18: 2789610.5 | G18: 2731404.7 | I18: -10.00% | K18: 11456922838048 | M18: سایر
A19: صکوک مرابحه کگل81-3ماهه23% | C19: 5000000 | E19: 1000000 | G19: 900000 | I19: -4.35% | K19: 4497553125000 | M19: سایر
A20: صکوک مرابحه کگل0811-3ماهه23% | C20: 5000000 | E20: 1000000 | G20: 900000 | I20: -0.60% | K20: 4497553125000 | M20: سایر
A21: مرابحه آریس آمل 14081224 | C21: 4000000 | E21: 1000000 | G21: 900000 | I21: 2.37% | K21: 3598042500000 | M21: سایر
A22: صکوک مرابحه آکو903-3ماهه23% | C22: 3999997 | E22: 1000000 | G22: 900000 | I22: -5.99% | K22: 3598039801468 | M22: سایر
A23: صکوک مرابحه دوچرخ83-3ماهه23% | C23: 2000000 | E23: 1000000 | G23: 900000 | I23: 0.24% | K23: 1799021250000 | M23: سایر

Sheet سپرده 
A1: صندوق سرمایه‌گذاری تداوم اطمینان تمدن
A2: صورت وضعیت پرتفوی
A3: =سهام!A3 -> برای ماه منتهی به 1405/05/31
A5: 4-1- سرمایه‌گذاری در سپرده‌ بانکی
C6: =سهام!C6 -> 1405/04/31 | E6: تغییرات طی دوره | I6: =سهام!Q6 -> 1405/05/31
A7: سپرده | C7: مبلغ | E7: افزایش | G7: کاهش | I7: مبلغ | K7: درصد به کل دارایی‌ها
C8: ریال | E8: ریال | G8: ریال | I8: ریال
A9: سپرده های بانکی | C9: 104924177474677 | E9: 134084548046721 | G9: -134162081844393 | I9: =C9+E9+G9 -> 104846643677005 | K9: =I9/سهام!$AA$1 -> 0.3403718
A10: جمع کل | C10: =SUM(C9) -> 104924177474677 | E10: =SUM(E9) -> 134084548046721 | G10: =SUM(G9) -> -134162081844393 | I10: =SUM(I9) -> 104846643677005 | K10: =SUM(K9) -> 0.3403718
C12: 104924177474677 | I12: 104846643677005
C13: =C10-C12 -> 0 | I13: =I10-I12 -> 0

Sheet گواهی سپرده بانکی
A1: صندوق سرمایه‌گذاری تداوم اطمینان تمدن
A2: صورت وضعیت پرتفوی
A3: =سهام!A3 -> برای ماه منتهی به 1405/05/31
A5: 5-1- سرمایه‌گذاری در سپرده‌ بانکی
C6: =سهام!C6 -> 1405/04/31 | E6: تغییرات طی دوره | I6: =سهام!Q6 -> 1405/05/31
A7: سپرده | C7: مبلغ | E7: افزایش | G7: کاهش | I7: مبلغ | K7: درصد به کل دارایی‌ها
C8: ریال | E8: ریال | G8: ریال | I8: ریال
A9: گواهی سپرده بانک تجارت | C9: 0 | E9: 12632000000000 | G9: 0 | I9: 12632000000000 | K9: =I9/سهام!$AA$1 -> 0.041008242
A10: جمع کل | C10: =SUM(C9) -> 0 | E10: =SUM(E9) -> 12632000000000 | G10: =SUM(G9) -> 0 | I10: =SUM(I9) -> 12632000000000 | K10: =SUM(K9) -> 0.041008242
I13: 12632000000000
I14: =I10-I13 -> 0

Sheet درآمد
A1: صندوق سرمایه‌گذاری تداوم اطمینان تمدن | K1: 308035635319717
A2: صورت وضعیت درآمدها
A3: ='صورت وضعیت'!B12 -> برای ماه منتهی به 1405/05/31
A5: 2- درآمد حاصل از سرمایه‌گذاری‌ها
A7: شرح | C7: یادداشت | E7: مبلغ | G7: درصد از کل درآمدها | I7: درصد از کل دارایی‌ها
E8: ریال
A9: درآمد حاصل از سرمایه‌گذاری در سهام و حق تقدم سهام | C9: 1-2 | E9: ='درآمد سرمایه گذاری در سهام'!S12 -> 243935090860 | G9: =E9/$E$15 -> 0.0065593009 | I9: =E9/$K$1 -> 0.00079190543 | K9: ='درآمد سرمایه گذاری در سهام'!I12 -> -494479059870 | M9: =K9/$K$15 -> -0.057702765
A10: درآمد حاصل از سرمایه‌گذاری در واحدهای صندوق‌های سرمایه‌گذاری | C10: 2-2 | E10: ='درآمد سرمایه گذاری در صندوق'!S25 -> 2397741087499 | G10: =E10/$E$15 -> 0.06447414 | I10: =E10/$K$1 -> 0.0077839731 | K10: ='درآمد سرمایه گذاری در صندوق'!I25 -> 1906208873039 | M10: =K10/$K$15 -> 0.22244324
A11: درآمد حاصل از سرمایه‌گذاری در اوراق بهادار با درآمد ثابت | C11: 3-2 | E11: ='درآمد سرمایه گذاری در اوراق'!S50 -> 16727325713357 | G11: =E11/$E$15 -> 0.44978999 | I11: =E11/$K$1 -> 0.054303216 | K11: ='درآمد سرمایه گذاری در اوراق'!I50 -> 3586666201426 | M11: =K11/$K$15 -> 0.41854261
A12: درآمد حاصل از سرمایه‌گذاری در سپرده بانکی و گواهی سپرده | C12: 4-2 | E12: ='درآمد سپرده و گواهی سپرده بانکی'!G11 -> 17913072148088 | G12: =E12/$E$15 -> 0.48167416 | I12: =E12/$K$1 -> 0.058152597 | K12: ='درآمد سپرده و گواهی سپرده بانکی'!C11 -> 3571021061877 | M12: =K12/$K$15 -> 0.41671692
A13: درآمد حاصل از سرمایه‌گذاری در گواهی سپرده کالایی | C13: 5-2 | E13: ='درآمد گواهی سپرده کالایی'!S11 -> -97941056024 | G13: =E13/$E$15 -> -0.0026335893 | I13: =E13/$K$1 -> -0.00031795365 | K13: ='درآمد گواهی سپرده کالایی'!I11 -> 0 | M13: =K13/$K$15 -> 0
A14: سایر درآمدها | C14: 6-2 | E14: ='سایر درآمدها'!E10 -> 5057649281 | G14: =E14/$E$15 -> 0.00013599783 | I14: =E14/$K$1 -> 1.641904e-05 | K14: ='سایر درآمدها'!C10 -> 0 | M14: =K14/$K$15 -> 0
A15: جمع کل | E15: =SUM(E9:E14) -> 37189190633061 | G15: =SUM(G9:G14) -> 1 | I15: =SUM(I9:I14) -> 0.12073016 | K15: =SUM(K9:K14) -> 8569417076472 | M15: =SUM(M9:M14) -> 1
K16: =8572041016812-24468382 -> 8572016548430
K17: =K15-K16 -> -2599471958
E18: =37208611967648-5828389803-921707376-12671237408 -> 37189190633061
E19: =E15-E18 -> 0

Sheet درآمد سرمایه گذاری در سهام
A1: صندوق سرمایه‌گذاری تداوم اطمینان تمدن
A2: صورت وضعیت درآمدها
A3: =سهام!A3 -> برای ماه منتهی به 1405/05/31
A5: 1-2- درآمد حاصل از سرمایه‌گذاری در سهام و حق تقدم سهام
C6: ='صورت وضعیت'!B23 -> طی مرداد ماه | M6: ='صورت وضعیت'!B24 -> از ابتدای سال مالی تا پایان مرداد ماه 1405
A7: سهام | C7: درآمد سود سهام | E7: درآمد تغییر ارزش | G7: درآمد فروش | I7: جمع | M7: درآمد سود سهام | O7: درآمد تغییر ارزش | Q7: درآمد فروش | S7: جمع
I8: مبلغ | K8: درصد از کل درآمدها | S8: مبلغ | U8: درصد از کل درآمدها
C9: ریال | E9: ریال | G9: ریال | I9: ریال | M9: ریال | O9: ریال | Q9: ریال | S9: ریال
A10: توسعه معادن وص.معدنی خاورمیانه | C10: 0 | E10: 66775907514 | G10: 0 | I10: =C10+E10+G10 -> 66775907514 | K10: =I10/درآمد!$K$15 -> 0.0077923512 | M10: 12144350623 | O10: 161902492137 | Q10: 160730161290 | R10: -146868018401 | S10: =M10+O10+Q10 -> 334777004050 | U10: =S10/درآمد!$E$15 -> 0.0090019976
A11: ایران خودرو دیزل | C11: 0 | E11: -561254967384 | G11: 0 | I11: =C11+E11+G11 -> -561254967384 | K11: =I11/درآمد!$K$15 -> -0.065495116 | M11: 92451267256 | O11: -183293180446 | Q11: 0 | R11: 0 | S11: =M11+O11+Q11 -> -90841913190 | U11: =S11/درآمد!$E$15 -> -0.0024426967
A12: جمع کل | C12: =SUM(C10:C11) -> 0 | E12: =SUM(E10:E11) -> -494479059870 | G12: =SUM(G10:G11) -> 0 | I12: =SUM(I10:I11) -> -494479059870 | K12: =SUM(K10:K11) -> -0.057702765 | M12: =SUM(M10:M11) -> 104595617879 | O12: =SUM(O10:O11) -> -21390688309 | Q12: =SUM(Q10:Q11) -> 160730161290 | S12: =SUM(S10:S11) -> 243935090860 | U12: =SUM(U10:U11) -> 0.0065593009
E14: -494479059870 | I14: =C14+E14+G14 -> -494479059870 | M14: =110424007682-5828389803 -> 104595617879 | O14: -21390688309 | Q14: =160730161290 -> 160730161290 | S14: =M14+O14+Q14 -> 243935090860
E15: =E12-E14 -> 0 | I15: =I12-I14 -> 0 | M15: =M12-M14 -> 0 | O15: =O12-O14 -> 0 | Q15: =Q12-Q14 -> 0 | S15: =S12-S14 -> 0

Sheet درآمد سرمایه گذاری در صندوق
A1: صندوق سرمایه‌گذاری تداوم اطمینان تمدن
A2: صورت وضعیت درآمدها
A3: =سهام!A3 -> برای ماه منتهی به 1405/05/31
A5: 2-2- درآمد حاصل از سرمایه‌گذاری در واحدهای صندوق
C6: ='صورت وضعیت'!B23 -> طی مرداد ماه | M6: ='صورت وضعیت'!B24 -> از ابتدای سال مالی تا پایان مرداد ماه 1405
A7: صندوق | C7: درآمد سود صندوق | E7: درآمد تغییر ارزش | G7: درآمد فروش | I7: جمع | M7: درآمد سود صندوق | O7: درآمد تغییر ارزش | Q7: درآمد فروش | S7: جمع
I8: مبلغ | K8: درصد از کل درآمدها | S8: مبلغ | U8: درصد از کل درآمدها
C9: ریال | E9: ریال | G9: ریال | I9: ریال | M9: ریال | O9: ریال | Q9: ریال | S9: ریال
A10: صندوق س.موج گستر ثروت-س | C10: 0 | E10: 0 | G10: 0 | I10: =C10+E10+G10 -> 0 | K10: =I10/درآمد!$K$15 -> 0 | M10: 0 | O10: 0 | Q10: 428807164 | R10: 0 | S10: =M10+O10+Q10 -> 428807164 | U10: =S10/درآمد!$E$15 -> 1.1530425e-05
A11: صندوق س.آرمان آتیه درخشان مس-س | C11: 0 | E11: 212734071985 | G11: 0 | I11: =C11+E11+G11 -> 212734071985 | K11: =I11/درآمد!$K$15 -> 0.024824801 | M11: 0 | O11: 438550414315 | Q11: 0 | R11: 0 | S11: =M11+O11+Q11 -> 438550414315 | U11: =S11/درآمد!$E$15 -> 0.011792416
A12: صندوق س.هستی بخش آگاه-س | C12: 0 | E12: 81812996320 | G12: 0 | I12: =C12+E12+G12 -> 81812996320 | K12: =I12/درآمد!$K$15 -> 0.00954709 | M12: 0 | O12: 178448229789 | Q12: 0 | R12: 0 | S12: =M12+O12+Q12 -> 178448229789 | U12: =S12/درآمد!$E$15 -> 0.0047983897
A13: صندوق س سروسودمند مدبران-سهام | C13: 0 | E13: 38105804605 | G13: 0 | I13: =C13+E13+G13 -> 38105804605 | K13: =I13/درآمد!$K$15 -> 0.0044467207 | M13: 0 | O13: 84788885995 | Q13: 0 | R13: 0 | S13: =M13+O13+Q13 -> 84788885995 | U13: =S13/درآمد!$E$15 -> 0.0022799336
A14: صندوق س.پشتوانه طلای زرین آگاه | C14: 0 | E14: 85140047914 | G14: 0 | I14: =C14+E14+G14 -> 85140047914 | K14: =I14/درآمد!$K$15 -> 0.0099353372 | M14: 0 | O14: 91939189676 | Q14: 0 | R14: 0 | S14: =M14+O14+Q14 -> 91939189676 | U14: =S14/درآمد!$E$15 -> 0.002472202
A15: صندوق س. شاخصی کیان-س | C15: 0 | E15: 41235190425 | G15: 0 | I15: =C15+E15+G15 -> 41235190425 | K15: =I15/درآمد!$K$15 -> 0.0048119014 | M15: 0 | O15: 78180041379 | Q15: 0 | R15: 0 | S15: =M15+O15+Q15 -> 78180041379 | U15: =S15/درآمد!$E$15 -> 0.0021022249
A16: صندوق سرمایه گذاری عقیق-سهام | C16: 0 | E16: 17132072914 | G16: 0 | I16: =C16+E16+G16 -> 17132072914 | K16: =I16/درآمد!$K$15 -> 0.001999211 | M16: 0 | O16: 35674149355 | Q16: 0 | R16: 0 | S16: =M16+O16+Q16 -> 35674149355 | U16: =S16/درآمد!$E$15 -> 0.00095926125
A17: صندوق س.پشتوانه طلای صبا | C17: 0 | E17: 73218138673 | G17: 0 | I17: =C17+E17+G17 -> 73218138673 | K17: =I17/درآمد!$K$15 -> 0.0085441213 | M17: 0 | O17: 68473005674 | Q17: 0 | R17: 0 | S17: =M17+O17+Q17 -> 68473005674 | U17: =S17/درآمد!$E$15 -> 0.0018412072
A18: صندوق س.پشتوانه طلا تابان تمدن | C18: 0 | E18: 764350615775 | G18: 0 | I18: =C18+E18+G18 -> 764350615775 | K18: =I18/درآمد!$K$15 -> 0.08919517 | M18: 0 | O18: 722806981792 | Q18: 0 | R18: 0 | S18: =M18+O18+Q18 -> 722806981792 | U18: =S18/درآمد!$E$15 -> 0.019435943
A19: صندوق س.پشتوانه طلای دماوند | C19: 0 | E19: 135415865728 | G19: 0 | I19: =C19+E19+G19 -> 135415865728 | K19: =I19/درآمد!$K$15 -> 0.015802226 | M19: 0 | O19: 165334024317 | Q19: 0 | R19: 0 | S19: =M19+O19+Q19 -> 165334024317 | U19: =S19/درآمد!$E$15 -> 0.0044457548
A20: صندوق س.كالاي زمرد بيدار | C20: 0 | E20: 149778934338 | G20: 0 | I20: =C20+E20+G20 -> 149778934338 | K20: =I20/درآمد!$K$15 -> 0.017478311 | M20: 0 | O20: 165974811756 | Q20: 0 | S20: =M20+O20+Q20 -> 165974811756 | U20: =S20/درآمد!$E$15 -> 0.0044629853
A21: صندوق س.كالاي زرگر كارآمد | C21: 0 | E21: 70166632880 | G21: 0 | I21: =C21+E21+G21 -> 70166632880 | K21: =I21/درآمد!$K$15 -> 0.0081880287 | M21: 0 | O21: 124430428684 | Q21: 0 | S21: =M21+O21+Q21 -> 124430428684 | U21: =S21/درآمد!$E$15 -> 0.0033458762
A22: صندوق س.مبتنی بر کالای فارابی | C22: 0 | E22: 115053652312 | G22: 0 | I22: =C22+E22+G22 -> 115053652312 | K22: =I22/درآمد!$K$15 -> 0.013426077 | M22: 0 | O22: 133172878596 | Q22: 0 | R22: 0 | S22: =M22+O22+Q22 -> 133172878596 | U22: =S22/درآمد!$E$15 -> 0.0035809566
A23: صندوق س.کالای تابان تمدن1 | C23: 0 | E23: 111240012295 | G23: 0 | I23: =C23+E23+G23 -> 111240012295 | K23: =I23/درآمد!$K$15 -> 0.012981048 | M23: 0 | O23: 98714402132 | Q23: 0 | R23: 0 | S23: =M23+O23+Q23 -> 98714402132 | U23: =S23/درآمد!$E$15 -> 0.0026543843
A24: صندوق س صنایع تمدن1-بخشی | C24: 0 | E24: 10824836875 | G24: 0 | I24: =C24+E24+G24 -> 10824836875 | K24: =I24/درآمد!$K$15 -> 0.0012631941 | M24: 0 | O24: 10824836875 | Q24: 0 | R24: 0 | S24: =M24+O24+Q24 -> 10824836875 | U24: =S24/درآمد!$E$15 -> 0.00029107482
A25: جمع کل | C25: =SUM(C10:C24) -> 0 | E25: =SUM(E10:E24) -> 1906208873039 | G25: =SUM(G10:G24) -> 0 | I25: =SUM(I10:I24) -> 1906208873039 | K25: =SUM(K11:K24) -> 0.22244324 | M25: =SUM(M10:M24) -> 0 | O25: =SUM(O10:O24) -> 2397312280335 | Q25: =SUM(Q10:Q24) -> 428807164 | S25: =SUM(S10:S24) -> 2397741087499 | U25: =SUM(U10:U24) -> 0.06447414
E28: 1906208873039 | I28: =C28+E28+G28 -> 1906208873039 | O28: 2397312280335 | Q28: =428807164 -> 428807164 | S28: =M28+O28+Q28 -> 2397741087499
E29: =E25-E28 -> 0 | I29: =I25-I28 -> 0 | O29: =O25-O28 -> 0 | Q29: =Q25-Q28 -> 0 | S29: =S25-S28 -> 0

Sheet درآمد سرمایه گذاری در اوراق
A1: صندوق سرمایه‌گذاری تداوم اطمینان تمدن
A2: صورت وضعیت درآمدها
A3: =سهام!A3 -> برای ماه منتهی به 1405/05/31
A5: 3-2- درآمد حاصل از سرمایه‌گذاری در اوراق بهادار با درآمد ثابت:
C6: ='صورت وضعیت'!B23 -> طی مرداد ماه | M6: ='صورت وضعیت'!B24 -> از ابتدای سال مالی تا پایان مرداد ماه 1405
A7: عنوان | C7: درآمد سود اوراق | E7: درآمد تغییر ارزش | G7: درآمد فروش | I7: جمع | M7: درآمد سود اوراق | O7: درآمد تغییر ارزش | Q7: درآمد فروش | S7: جمع
I8: مبلغ | K8: درصد از کل درآمدها | S8: مبلغ | U8: درصد از کل درآمدها
C9: ریال | E9: ریال | G9: ریال | I9: ریال | M9: ریال | O9: ریال | Q9: ریال | S9: ریال
A10: اسناد خزانه-م12بودجه02-050916 | C10: 0 | E10: 5812702770 | G10: 1407680645 | I10: =C10+E10+G10 -> 7220383415 | K10: =I10/درآمد!$K$15 -> 0.0008425758 | M10: 0 | O10: 17409594476 | Q10: 1407680645 | S10: =M10+O10+Q10 -> 18817275121 | U10: =S10/درآمد!$E$15 -> 0.00050598776
A11: مرابحه عام دولت211-ش.خ050528 | C11: 1332404619 | E11: 0 | G11: 1130872765 | I11: =C11+E11+G11 -> 2463277384 | K11: =I11/درآمد!$K$15 -> 0.00028744982 | M11: 2936588634 | O11: 0 | Q11: 1130872765 | S11: =M11+O11+Q11 -> 4067461399 | U11: =S11/درآمد!$E$15 -> 0.00010937214
A12: مرابحه عام دولت 166-ش.خ050419 | C12: 0 | E12: 0 | G12: 0 | I12: =C12+E12+G12 -> 0 | K12: =I12/درآمد!$K$15 -> 0 | M12: 48031023503 | O12: 0 | Q12: 33414590516 | S12: =M12+O12+Q12 -> 81445614019 | U12: =S12/درآمد!$E$15 -> 0.0021900346
A13: مرابحه عام دولت266-ش.خ070930 | C13: 44260827768 | E13: 131478555217 | G13: 0 | I13: =C13+E13+G13 -> 175739382985 | K13: =I13/درآمد!$K$15 -> 0.020507741 | M13: 289799580766 | O13: 58890879658 | Q13: 5032037500 | S13: =M13+O13+Q13 -> 353722497924 | U13: =S13/درآمد!$E$15 -> 0.0095114331
A14: مشارکت ش اصفهان042-3ماهه18% | C14: 0 | E14: 0 | G14: 0 | I14: =C14+E14+G14 -> 0 | K14: =I14/درآمد!$K$15 -> 0 | M14: 56789258937 | O14: 0 | Q14: 2339212500 | S14: =M14+O14+Q14 -> 59128471437 | U14: =S14/درآمد!$E$15 -> 0.001589937
A15: مشارکت ش شیراز042-3ماهه18% | C15: 0 | E15: 0 | G15: 0 | I15: =C15+E15+G15 -> 0 | K15: =I15/درآمد!$K$15 -> 0 | M15: 26187478355 | O15: 0 | Q15: 1078691250 | S15: =M15+O15+Q15 -> 27266169605 | U15: =S15/درآمد!$E$15 -> 0.00073317459
A16: مشارکت ش تهران42-3ماهه18% | C16: 0 | E16: 0 | G16: 0 | I16: =C16+E16+G16 -> 0 | K16: =I16/درآمد!$K$15 -> 0 | M16: 8527629312 | O16: 0 | Q16: 351262500 | S16: =M16+O16+Q16 -> 8878891812 | U16: =S16/درآمد!$E$15 -> 0.00023874926
A17: مرابحه عام دولت297-ش.خ070706 | C17: 520918997924 | E17: 48038979157 | G17: 0 | I17: =C17+E17+G17 -> 568957977081 | K17: =I17/درآمد!$K$15 -> 0.066394012 | M17: 520918997924 | O17: 48038979157 | Q17: 0 | S17: =M17+O17+Q17 -> 568957977081 | U17: =S17/درآمد!$E$15 -> 0.015299015
A18: مرابحه عام دولت294-ش.خ070230 | C18: 94304899241 | E18: 195049732178 | G18: 0 | I18: =C18+E18+G18 -> 289354631419 | K18: =I18/درآمد!$K$15 -> 0.033765964 | M18: 97279041728 | O18: 884002447412 | Q18: 0 | S18: =M18+O18+Q18 -> 981281489140 | U18: =S18/درآمد!$E$15 -> 0.026386202
A19: مرابحه عام دولت296-ش.خ070930 | C19: 89612236946 | E19: 438047540 | G19: 0 | I19: =C19+E19+G19 -> 90050284486 | K19: =I19/درآمد!$K$15 -> 0.010508333 | M19: 89612236946 | O19: 438047540 | Q19: 0 | S19: =M19+O19+Q19 -> 90050284486 | U19: =S19/درآمد!$E$15 -> 0.0024214102
A20: شهرداری تبریز | C20: 384215010828 | E20: 0 | G20: 0 | I20: =C20+E20+G20 -> 384215010828 | K20: =I20/درآمد!$K$15 -> 0.044835606 | M20: 760553309329 | O20: 0 | Q20: 0 | S20: =M20+O20+Q20 -> 760553309329 | U20: =S20/درآمد!$E$15 -> 0.020450924
A21: شهرداری تبریز | C21: 76843002135 | E21: 0 | G21: 0 | I21: =C21+E21+G21 -> 76843002135 | K21: =I21/درآمد!$K$15 -> 0.0089671213 | M21: 152110661807 | O21: 0 | Q21: 0 | S21: =M21+O21+Q21 -> 152110661807 | U21: =S21/درآمد!$E$15 -> 0.0040901848
... A49: تبعی تامین مالی خاور | C49: 0 | E49: 0 | G49: 0 | I49: =C49+E49+G49 -> 0 | K49: =I49/درآمد!$K$15 -> 0 | M49: 1290580000000 | O49: 0 | Q49: 0 | S49: =M49+O49+Q49 -> 1290580000000 | U49: =S49/درآمد!$E$15 -> 0.034703095
A50: جمع کل | C50: =SUM(C10:C49) -> 3570935882834 | E50: =SUM(E10:E49) -> 13191765182 | G50: =SUM(G10:G49) -> 2538553410 | I50: =SUM(I10:I49) -> 3586666201426 | K50: =SUM(K10:K48) -> 0.41854261 | M50: =SUM(M10:M49) -> 14604470642573 | O50: =SUM(O10:O49) -> 2078100723108 | Q50: =SUM(Q10:Q49) -> 44754347676 | S50: =SUM(S10:S49) -> 16727325713357 | U50: =SUM(U10:U48) -> 0.4150869
C51: =2033890701939+1537045180895 -> 3570935882834 | E51: =140035074531-126843309349 -> 13191765182 | G51: =2563021792-24468382 -> 2538553410 | I51: =C51+E51+G51 -> 3586666201426 | M51: =8815924157290+5788546485283 -> 14604470642573 | O51: =3082322700698-1004221977590 -> 2078100723108 | Q51: =44826659810-72312134 -> 44754347676 | S51: =M51+O51+Q51 -> 16727325713357
C52: =C50-C51 -> 0 | E52: =E50-E51 -> 0 | G52: =G50-G51 -> 0 | I52: =I50-I51 -> 0 | M52: =M50-M51 -> 0 | O52: =O50-O51 -> 0 | Q52: =Q50-Q51 -> 0 | S52: =S50-S51 -> 0
E61: قش
C62: مرابحه عام دولت294-ش.خ070230 | E62: 195049732178
C63: سلف موازی آهن اسفنجی غدیر | E63: 140035074531
C64: مرابحه عام دولت266-ش.خ070930 | E64: 131478555217
C65: مرابحه عام دولت223-ش.خ070431 | E65: 98042660300
C66: مرابحه عام دولت297-ش.خ070706 | E66: 48038979157
C67: اسناد خزانه-م13بودجه02-051021 | E67: 6075514222
C68: اسناد خزانه-م12بودجه02-050916 | E68: 5812702770
C69: اسناد خزانه-م11بودجه02-050720 | E69: 4343515488
C70: اسنادخزانه-م2بودجه02-050923 | E70: 621689353
C71: اسنادخزانه-م10بودجه02-051112 | E71: 618314029
C72: مرابحه عام دولت296-ش.خ070930 | E72: 438047540
C73: اسنادخزانه-م4بودجه02-051021 | E73: 264069544
... C77: مرابحه عام دولت275-ش.خ080205 | E77: -356186275293

Sheet درآمد سپرده و گواهی سپرده بانکی
A1: صندوق سرمایه‌گذاری تداوم اطمینان تمدن
A2: صورت وضعیت درآمدها
A3: =سهام!A3 -> برای ماه منتهی به 1405/05/31
A5: 4-2- درآمد حاصل از سرمایه‌گذاری در سپرده بانکی و گواهی سپرده
C6: ='صورت وضعیت'!B23 -> طی مرداد ماه | G6: ='صورت وضعیت'!B24 -> از ابتدای سال مالی تا پایان مرداد ماه 1405
A7: نام سپرده بانکی | C7: سود سپرده بانکی و گواهی سپرده | E7: درصد از کل درآمدها | G7: سود سپرده بانکی و گواهی سپرده | I7: درصد از کل درآمدها
C8: ریال | G8: ریال
A9: سپرده‌های بانکی | C9: 3238436075582 | E9: =C9/درآمد!$K$15 -> 0.37790623 | G9: 17490232148098 | I9: =G9/درآمد!$E$15 -> 0.47030419
A10: گواهی سپرده بانکی | C10: 332584986295 | E10: =C10/درآمد!$K$15 -> 0.03881069 | G10: 422839999990 | I10: =G10/درآمد!$E$15 -> 0.01136997
A11: جمع کل | C11: =SUM(C9:C10) -> 3571021061877 | E11: =SUM(E9:E10) -> 0.41671692 | G11: =SUM(G9:G10) -> 17913072148088 | I11: =SUM(I9:I10) -> 0.48167416
C15: =332584986295+3241035547540-2599471958 -> 3571021061877 | G15: =17502903385506+422839999990-12671237408 -> 17913072148088
C16: =C11-C15 -> 0 | G16: =G11-G15 -> 0
F17: 14352122851661

Sheet درآمد گواهی سپرده کالایی
A1: صندوق سرمایه‌گذاری تداوم اطمینان تمدن
A2: صورت وضعیت درآمدها
A3: =[1]سهام!A3 -> برای ماه منتهی به 1405/03/31
A5: 5-2- درآمد حاصل از سرمایه‌گذاری در گواهی سپرده کالایی
C6: ='صورت وضعیت'!B23 -> طی مرداد ماه | M6: ='صورت وضعیت'!B24 -> از ابتدای سال مالی تا پایان مرداد ماه 1405
A7: سهام | C7: درآمد سود سهام | E7: درآمد تغییر ارزش | G7: درآمد فروش | I7: جمع | M7: درآمد سود سهام | O7: درآمد تغییر ارزش | Q7: درآمد فروش | S7: جمع
I8: مبلغ | K8: درصد از کل درآمدها | S8: مبلغ | U8: درصد از کل درآمدها
C9: ریال | E9: ریال | G9: ریال | I9: ریال | M9: ریال | O9: ریال | Q9: ریال | S9: ریال
A10: شمش نقره SilverBar | C10: 0 | E10: 0 | G10: 0 | I10: =C10+E10+G10 -> 0 | K10: =I10/[1]درآمد!$K$15 -> 0 | M10: 0 | O10: 0 | Q10: -97941056024 | R10: 0 | S10: =M10+O10+Q10 -> -97941056024 | U10: =S10/[1]درآمد!$E$15 -> -0.0047093181
A11: جمع کل | C11: =SUM(C10:C10) -> 0 | E11: =SUM(E10:E10) -> 0 | G11: =SUM(G10:G10) -> 0 | I11: =SUM(I10:I10) -> 0 | K11: =SUM(K10:K10) -> 0 | M11: =SUM(M10:M10) -> 0 | O11: =SUM(O10:O10) -> 0 | Q11: =SUM(Q10:Q10) -> -97941056024 | S11: =SUM(S10:S10) -> -97941056024 | U11: =SUM(U10:U10) -> -0.0047093181
Q12: =-97091660782-849395242 -> -97941056024
Q13: =Q11-Q12 -> 0

Sheet سایر درآمدها
A1: صندوق سرمایه‌گذاری تداوم اطمینان تمدن
A2: صورت وضعیت درآمدها
A3: =سهام!A3 -> برای ماه منتهی به 1405/05/31
A5: 6-2- سایر درآمدها
C6: ='صورت وضعیت'!B23 -> طی مرداد ماه | E6: ='صورت وضعیت'!B24 -> از ابتدای سال مالی تا پایان مرداد ماه 1405
C7: مبلغ (ریال) | E7: مبلغ (ریال)
A8: تعدیل کارمزد کارگزار | E8: 103261609
A9: تنزیل سود بانک | C9: 0 | E9: 4954387672
A10: جمع کل | C10: =SUM(C8:C9) -> 0 | E10: =SUM(E8:E9) -> 5057649281
E12: =4954387672+103261609 -> 5057649281
E13: =E10-E12 -> 0

Sheet درآمد سود سهام
A1: صندوق سرمایه‌گذاری تداوم اطمینان تمدن
A2: صورت وضعیت درآمدها
A3: =سهام!A3 -> برای ماه منتهی به 1405/05/31
A5: درآمد سود سهام
A6: نام سهام | C6: اطلاعات مجمع | I6: طی ماه | O6: از ابتدای سال مالی
C7: تاریخ تشکیل مجمع | E7: تعداد سهام متعلقه در زمان مجمع | G7: سود متعلق به هر سهم | I7: جمع درآمد سود سهام | K7: هزینه تنزیل | M7: خالص درآمد سود سهام | O7: جمع درآمد سود سهام | Q7: هزینه تنزیل | S7: خالص درآمد سود سهام
A8: توسعه معادن وص.معدنی خاورمیانه | C8: 1405/04/09 | E8: 145662568 | G8: 86 | I8: 0 | K8: 0 | M8: 0 | O8: 12526980848 | Q8: -382630225 | S8: =O8+Q8 -> 12144350623
A9: ایران خودرو دیزل | C9: 1405/04/27 | E9: 10877447426 | G9: 9 | I9: 0 | K9: 0 | M9: 0 | O9: 97897026834 | Q9: -5445759578 | S9: =O9+Q9 -> 92451267256
A10: جمع | I10: 0 | K10: 0 | M10: 0 | O10: 110424007682 | Q10: 5828389803 | S10: 104595617879
S12: ='درآمد سرمایه گذاری در سهام'!M12 -> 104595617879
S13: =S10-S12 -> 0

Sheet سود اوراق بهادار
A1: صندوق سرمایه‌گذاری تداوم اطمینان تمدن
A2: صورت وضعیت درآمدها
A3: =سهام!A3 -> برای ماه منتهی به 1405/05/31
A5: سود اوراق بهادار با درآمد ثابت
A6: شرح | I6: ='صورت وضعیت'!B23 -> طی مرداد ماه | O6: ='صورت وضعیت'!B24 -> از ابتدای سال مالی تا پایان مرداد ماه 1405
C7: تاریخ دریافت سود | E7: تاریخ سررسید | G7: نرخ سود علی‌الحساب | I7: درآمد سود | K7: هزینه تنزیل | M7: خالص درآمد | O7: درآمد سود | Q7: هزینه تنزیل | S7: خالص درآمد
G8: درصد | I8: ریال | K8: ریال | M8: ریال | O8: ریال | Q8: ریال | S8: ریال
A9: مرابحه عام دولت297-ش.خ070706 | E9: 1407/07/06 | G9: 23 | I9: 520918997924 | K9: 0 | M9: =I9+K9 -> 520918997924 | O9: 520918997924 | Q9: 0 | S9: =O9+Q9 -> 520918997924
A10: مرابحه عام دولت294-ش.خ070230 | E10: 1407/02/30 | G10: 23 | I10: 94304899241 | K10: 0 | M10: =I10+K10 -> 94304899241 | O10: 97279041728 | Q10: 0 | S10: =O10+Q10 -> 97279041728
A11: مرابحه عام دولت296-ش.خ070930 | E11: 1407/09/30 | G11: 23 | I11: 89612236946 | K11: 0 | M11: =I11+K11 -> 89612236946 | O11: 89612236946 | Q11: 0 | S11: =O11+Q11 -> 89612236946
A12: شهرداری تبریز | E12: 1409/02/28 | G12: 23 | I12: 384215010828 | K12: 0 | M12: =I12+K12 -> 384215010828 | O12: 760553309329 | Q12: 0 | S12: =O12+Q12 -> 760553309329
A13: شهرداری تبریز | E13: 1409/02/28 | G13: 23 | I13: 76843002135 | K13: 0 | M13: =I13+K13 -> 76843002135 | O13: 152110661807 | Q13: 0 | S13: =O13+Q13 -> 152110661807
A14: شهرداری اصفهان | E14: 1409/02/28 | G14: 23 | I14: 799182456523 | K14: 0 | M14: =I14+K14 -> 799182456523 | O14: 1608074647898 | Q14: 0 | S14: =O14+Q14 -> 1608074647898
A15: صکوک مرابحه دوچرخ83-3ماهه23% | E15: 1408/03/09 | G15: 23 | I15: 60678493040 | K15: 0 | M15: =I15+K15 -> 60678493040 | O15: 162082739684 | Q15: 0 | S15: =O15+Q15 -> 162082739684
A16: صکوک مرابحه آکو903-3ماهه23% | E16: 1409/03/02 | G16: 23 | I16: 120795553174 | K16: 0 | M16: =I16+K16 -> 120795553174 | O16: 348561464690 | Q16: 0 | S16: =O16+Q16 -> 348561464690
A17: مرابحه آریس آمل 14081224 | E17: 1408/12/24 | G17: 23 | I17: 116053561900 | K17: 0 | M17: =I17+K17 -> 116053561900 | O17: 598000266921 | Q17: 0 | S17: =O17+Q17 -> 598000266921
A18: مرابحه عام دولت275-ش.خ080205 | E18: 1408/05/05 | G18: 23 | I18: 135947147088 | K18: 0 | M18: =I18+K18 -> 135947147088 | O18: 1607178983026 | Q18: 0 | S18: =O18+Q18 -> 1607178983026
A19: صکوک مرابحه کگل81-3ماهه23% | E19: 1408/11/20 | G19: 23 | I19: 145289755520 | K19: 0 | M19: =I19+K19 -> 145289755520 | O19: 849364946416 | Q19: 0 | S19: =O19+Q19 -> 849364946416
A20: صکوک مرابحه کگل0811-3ماهه23% | E20: 1408/11/20 | G20: 23 | I20: 145310633690 | K20: 0 | M20: =I20+K20 -> 145310633690 | O20: 863447505559 | Q20: 0 | S20: =O20+Q20 -> 863447505559
... A41: تبعی تامین مالی خاور | E41: - | G41: 0 | I41: 0 | K41: 0 | M41: =I41+K41 -> 0 | O41: 1290580000000 | Q41: 0 | S41: =O41+Q41 -> 1290580000000
A42: جمع کل | I42: =SUM(I9:I41) -> 3570935882834 | K42: =SUM(K9:K41) -> 0 | M42: =SUM(M9:M41) -> 3570935882834 | O42: =SUM(O9:O41) -> 14604470642573 | Q42: =SUM(Q9:Q41) -> 0 | S42: =SUM(S9:S41) -> 14604470642573
M43: ='درآمد سرمایه گذاری در اوراق'!C50 -> 3570935882834 | S43: ='درآمد سرمایه گذاری در اوراق'!M50 -> 14604470642573
M44: =M42-M43 -> 0 | S44: =S42-S43 -> 0

Sheet مبالغ تخصیصی اوراق
A1: صندوق سرمایه‌گذاری تداوم اطمینان تمدن
A2: صورت وضعیت درآمدها
A3: برای ماه منتهی به 1405/05/31
A5: مبالغ تخصیص یافته بابت خرید و نگهداری اوراق بهادار با درآمد ثابت (نرخ سود ترجیحی)
A7: طرف معامله | B7: نوع وابستگی | C7: نام ورقه بهادار | D7: تعداد اوراق | E7: بهای تمام شده اوراق (ریال) | F7: مبلغ شناسایی شده بابت قرارداد خرید و نگهداری اوراق بهادار (ریال) | G7: نرخ اسمی (درصد) | H7: میانگین نرخ بازده تا سررسید قراردادهای منعقده (درصد)
A8: تامین سرمایه تمدن | B8: مدیر صندوق | C8: مرابحه گلرنگ فرش بیدگل060224 | D8: 500000 | E8: 500000000000 | F8: 2700937470 | G8: 0.23 | H8: 0.4002
A9: تامین سرمایه تمدن | B9: مدیر صندوق | C9: صکوک مرابحه دیران72 | D9: 1499971 | E9: 1499971000000 | F9: 11971001430 | G9: 0.23 | H9: 0.355
A10: تامین سرمایه تمدن | B10: مدیر صندوق | C10: مرابحه پدیده جم-تمدن070617 | D10: 1500000 | E10: 1500000000000 | F10: 12032876700 | G10: 0.23 | H10: 0.36
A11: تامین سرمایه تمدن | B11: مدیر صندوق | C11: وراق مشارکت صکوک مرابحه دسبحان712-3 | D11: 3000000 | E11: 3000000000000 | F11: 3856438350 | G11: 0.23 | H11: 0.352
A12: تامین سرمایه تمدن | B12: مدیر صندوق | C12: اوراق مشارکت مرابحه پاریزشرق070228 | D12: 2000000 | E12: 2000000000000 | F12: 18617950680 | G12: 0.23 | H12: 0.3520057
A13: تامین سرمایه تمدن | B13: مدیر صندوق | C13: اوراق مشارکت صکوک مرابحه کگل0811-3 | D13: 5000000 | E13: 5000000000000 | F13: 46538219190 | G13: 0.23 | H13: 0.4156
A14: تامین سرمایه امید | B14: - | C14: صکوک مرابحه کگل81 | D14: 5000000 | E14: 5000000000000 | F14: 46517341020 | G14: 0.23 | H14: 0.4156
A15: تامین سرمایه تمدن | B15: مدیر صندوق | C15: قطار شهری شهرداری تبریز | D15: 5000000 | E15: 5000000000000 | F15: 40121916929 | G15: 0.23 | H15: 0.37
A16: تامین سرمایه تمدن | B16: مدیر صندوق | C16: اوراق آریس آمل | D16: 1000000 | E16: 1000000000000 | F16: 37232876700 | G16: 0.23 | H16: 0.39
A17: تامین سرمایه تمدن | B17: مدیر صندوق | C17: قطار شهری شهرداری تهران | D17: 5000000 | E17: 5000000000000 | F17: 41340328758 | G17: 0.23 | H17: 0.37
A18: تامین سرمایه تمدن | B18: مدیر صندوق | C18: اوراق مشارکت صکوک مرابحه دوچرخ83 | D18: 2000000 | E18: 2000000000000 | F18: 20535616440 | G18: 0.23 | H18: 0.405
A19: تامین سرمایه تمدن | B19: مدیر صندوق | C19: اوراق مشارکت صکوک مرابحه آکو903 | D19: 3999997 | E19: 3999997000000 | F19: 39826161900 | G19: 0.23 | H19: 0.4
... A22: تامین سرمایه تمدن | B22: مدیر صندوق | C22: اوراق مشارکت شهرداری اصفهان | D22: 26000000 | E22: 26000000000000 | F22: 291292045590 | G22: 0.23 | H22: 0.42

Sheet سود سپرده بانکی
A1: صندوق سرمایه‌گذاری تداوم اطمینان تمدن
A2: صورت وضعیت درآمدها
A3: =سهام!A3 -> برای ماه منتهی به 1405/05/31
A5: سود سپرده بانکی
A6: شرح | C6: ='صورت وضعیت'!B23 -> طی مرداد ماه | I6: ='صورت وضعیت'!B24 -> از ابتدای سال مالی تا پایان مرداد ماه 1405
C7: درآمد سود | E7: هزینه تنزیل | G7: خالص درآمد | I7: درآمد سود | K7: هزینه تنزیل | M7: خالص درآمد
C8: ریال | E8: ریال | G8: ریال | I8: ریال | K8: ریال | M8: ریال
A9: سپرده‌های بانکی | C9: 3241035547540 | E9: -2599471958 | G9: =C9+E9 -> 3238436075582 | I9: 17502903385506 | K9: -12671237408 | M9: =I9+K9 -> 17490232148098
A10: جمع کل | C10: =SUM(C9) -> 3241035547540 | E10: =SUM(E9) -> -2599471958 | G10: =SUM(G9) -> 3238436075582 | I10: =SUM(I9) -> 17502903385506 | K10: =SUM(K9) -> -12671237408 | M10: =SUM(M9) -> 17490232148098
C12: 3241035547540 | E12: -2599471958 | G12: ='درآمد سپرده و گواهی سپرده بانکی'!C9 -> 3238436075582 | I12: 17502903385506 | K12: -12671237408 | M12: ='درآمد سپرده و گواهی سپرده بانکی'!G9 -> 17490232148098
C13: =C10-C12 -> 0 | E13: =E10-E12 -> 0 | G13: =G10-G12 -> 0 | I13: =I10-I12 -> 0 | K13: =K10-K12 -> 0 | M13: =M10-M12 -> 0

Sheet درآمد ناشی از فروش
A1: صندوق سرمایه‌گذاری تداوم اطمینان تمدن
A2: صورت وضعیت درآمدها
A3: =سهام!A3 -> برای ماه منتهی به 1405/05/31
A5: سود(زیان) حاصل از فروش اوراق بهادار
A6: شرح | C6: ='صورت وضعیت'!B23 -> طی مرداد ماه | K6: ='صورت وضعیت'!B24 -> از ابتدای سال مالی تا پایان مرداد ماه 1405
C7: تعداد | E7: خالص بهای فروش | G7: ارزش دفتری | I7: سود و زیان ناشی از فروش | K7: تعداد | M7: خالص بهای فروش | O7: ارزش دفتری | Q7: سود و زیان ناشی از فروش
E8: ریال | G8: ریال | I8: ریال | M8: ریال | O8: ریال | Q8: ریال
A9: شمش نقره SilverBar | C9: 0 | E9: 0 | G9: =I9-E9 -> 0 | I9: 0 | K9: 89879 | M9: 353065294688 | O9: =Q9-M9 -> -451006350712 | Q9: -97941056024
A10: صندوق س.موج گستر ثروت-س | C10: 0 | E10: 0 | G10: =I10-E10 -> 0 | I10: 0 | K10: 990000 | M10: 10282333337 | O10: =Q10-M10 -> -9853526173 | Q10: 428807164
A11: توسعه معادن وص.معدنی خاورمیانه | C11: 0 | E11: 0 | G11: =I11-E11 -> 0 | I11: 0 | K11: 121400000 | M11: 837566047604 | O11: =Q11-M11 -> -676835886314 | Q11: 160730161290
A12: اسناد خزانه-م12بودجه02-050916 | C12: 50489 | E12: 44974862648 | G12: =I12-E12 -> -43567182003 | I12: 1407680645 | K12: 50489 | M12: 44974862648 | O12: =Q12-M12 -> -43567182003 | Q12: 1407680645
A13: مرابحه عام دولت211-ش.خ050528 | C13: 70000 | E13: 70000000000 | G13: =I13-E13 -> -68869127235 | I13: 1130872765 | K13: 70000 | M13: 70000000000 | O13: =Q13-M13 -> -68869127235 | Q13: 1130872765
A14: مرابحه عام دولت 166-ش.خ050419 | C14: 0 | E14: 0 | G14: =I14-E14 -> 0 | I14: 0 | K14: 526865 | M14: 526865000000 | O14: =Q14-M14 -> -493450409484 | Q14: 33414590516
A15: مرابحه عام دولت266-ش.خ070930 | C15: 0 | E15: 0 | G15: =I15-E15 -> 0 | I15: 0 | K15: 122640 | M15: 99952812248 | O15: =Q15-M15 -> -94920774748 | Q15: 5032037500
A16: مشارکت ش اصفهان042-3ماهه18% | C16: 0 | E16: 0 | G16: =I16-E16 -> 0 | I16: 0 | K16: 4302000 | M16: 4302000000000 | O16: =Q16-M16 -> -4299660787500 | Q16: 2339212500
A17: مشارکت ش شیراز042-3ماهه18% | C17: 0 | E17: 0 | G17: =I17-E17 -> 0 | I17: 0 | K17: 1983800 | M17: 1983800000000 | O17: =Q17-M17 -> -1982721308750 | Q17: 1078691250
A18: مشارکت ش تهران42-3ماهه18% | C18: 0 | E18: 0 | G18: =I18-E18 -> 0 | I18: 0 | K18: 646000 | M18: 646000000000 | O18: =Q18-M18 -> -645648737500 | Q18: 351262500
A19: جمع کل | E19: =SUM(E9:E18) -> 114974862648 | G19: =SUM(G9:G18) -> -112436309238 | I19: =SUM(I9:I18) -> 2538553410 | M19: =SUM(M9:M18) -> 8874506350525 | O19: =SUM(O9:O18) -> -8766534090419 | Q19: =SUM(Q9:Q18) -> 107972260106
I20: ='درآمد سرمایه گذاری در اوراق'!G50 -> 2538553410 | Q20: ='درآمد سرمایه گذاری در سهام'!Q12+'درآمد سرمایه گذاری در صندوق'!Q25+'درآمد سرمایه گذاری در اوراق'!Q50+'درآمد گواهی سپرده کالایی'!Q11 -> 107972260106
I21: =I19-I20 -> 0 | Q21: =Q19-Q20 -> 0

Sheet درآمد ناشی از تغییر قیمت اوراق
A1: صندوق سرمایه‌گذاری تداوم اطمینان تمدن
A2: صورت وضعیت درآمدها
A3: =سهام!A3 -> برای ماه منتهی به 1405/05/31
A5: درآمد ناشی از تغییر قیمت اوراق بهادار
A6: شرح | C6: ='صورت وضعیت'!B23 -> طی مرداد ماه | K6: ='صورت وضعیت'!B24 -> از ابتدای سال مالی تا پایان مرداد ماه 1405
C7: تعداد | E7: خالص ارزش فروش | G7: ارزش دفتری | I7: سود و زیان ناشی از تغییر قیمت | K7: تعداد | M7: خالص ارزش فروش | O7: ارزش دفتری | Q7: سود و زیان ناشی از تغییر قیمت
E8: ریال | G8: ریال | I8: ریال | M8: ریال | O8: ریال | Q8: ریال
A9: صندوق س.آرمان آتیه درخشان مس-س | C9: 1335006 | E9: 1177161918832 | G9: =I9-E9 -> -964427846847 | I9: 212734071985 | K9: 1335006 | M9: 1177161918832 | O9: =Q9-M9 -> -738611504517 | Q9: 438550414315
A10: صندوق س.هستی بخش آگاه-س | C10: 967000 | E10: 428360499600 | G10: =I10-E10 -> -346547503280 | I10: 81812996320 | K10: 967000 | M10: 428360499600 | O10: =Q10-M10 -> -249912269811 | Q10: 178448229789
A11: صندوق س سروسودمند مدبران-سهام | C11: 6050000 | E11: 235691010995 | G11: =I11-E11 -> -197585206390 | I11: 38105804605 | K11: 6050000 | M11: 235691010995 | O11: =Q11-M11 -> -150902125000 | Q11: 84788885995
A12: توسعه معادن وص.معدنی خاورمیانه | C12: 145662568 | E12: 1001638612701 | G12: =I12-E12 -> -934862705187 | I12: 66775907514 | K12: 145662568 | M12: 1001638612701 | O12: =Q12-M12 -> -839736120564 | Q12: 161902492137
A13: صندوق س.پشتوانه طلای زرین آگاه | C13: 4433240 | E13: 749429906876 | G13: =I13-E13 -> -664289858962 | I13: 85140047914 | K13: 4433240 | M13: 749429906876 | O13: =Q13-M13 -> -657490717200 | Q13: 91939189676
A14: صندوق س. شاخصی کیان-س | C14: 4710000 | E14: 179790129420 | G14: =I14-E14 -> -138554938995 | I14: 41235190425 | K14: 4710000 | M14: 179790129420 | O14: =Q14-M14 -> -101610088041 | Q14: 78180041379
A15: صندوق سرمایه گذاری عقیق-سهام | C15: 3541990 | E15: 101226944851 | G15: =I15-E15 -> -84094871937 | I15: 17132072914 | K15: 3541990 | M15: 101226944851 | O15: =Q15-M15 -> -65552795496 | Q15: 35674149355
A16: صندوق س.پشتوانه طلای صبا | C16: 5267000 | E16: 641881821394 | G16: =I16-E16 -> -568663682721 | I16: 73218138673 | K16: 5267000 | M16: 641881821394 | O16: =Q16-M16 -> -573408815720 | Q16: 68473005674
A17: صندوق س.پشتوانه طلا تابان تمدن | C17: 81043519 | E17: 6809604692631 | G17: =I17-E17 -> -6045254076856 | I17: 764350615775 | K17: 81043519 | M17: 6809604692631 | O17: =Q17-M17 -> -6086797710839 | Q17: 722806981792
A18: ایران خودرو دیزل | C18: 10877447426 | E18: 14851669906178 | G18: =I18-E18 -> -15412924873561 | I18: -561254967383 | K18: 10877447426 | M18: 14851669906178 | O18: =Q18-M18 -> -15034963086623 | Q18: -183293180445
A19: صندوق س.پشتوانه طلای دماوند | C19: 31096000 | E19: 1166564201088 | G19: =I19-E19 -> -1031148335360 | I19: 135415865728 | K19: 31096000 | M19: 1166564201088 | O19: =Q19-M19 -> -1001230176771 | Q19: 165334024317
A20: صندوق س.كالاي زمرد بيدار | C20: 44301000 | E20: 1281417411648 | G20: =I20-E20 -> -1131638477310 | I20: 149778934338 | K20: 44301000 | M20: 1281417411648 | O20: =Q20-M20 -> -1115442599892 | Q20: 165974811756
... A54: ظخاور06041 | C54: 10877447426 | E54: 10869207759 | G54: =I54-E54 -> -10869207759 | I54: 0 | K54: 10877447426 | M54: 10869207759 | O54: =Q54-M54 -> -10869207759 | Q54: 0
A55: جمع کل | E55: =SUM(E9:E54) -> 137346641453711 | G55: =SUM(G9:G54) -> -135921719875360 | I55: =SUM(I9:I54) -> 1424921578351 | M55: =SUM(M9:M54) -> 137346641453711 | O55: =SUM(O9:O54) -> -132892619138577 | Q55: =SUM(Q9:Q54) -> 4454022315134
I56: ='درآمد سرمایه گذاری در سهام'!E12+'درآمد سرمایه گذاری در صندوق'!E25+'درآمد سرمایه گذاری در اوراق'!E50 -> 1424921578351 | Q56: ='درآمد سرمایه گذاری در سهام'!O12+'درآمد سرمایه گذاری در صندوق'!O25+'درآمد سرمایه گذاری در اوراق'!O50+'درآمد گواهی سپرده کالایی'!O11 -> 4454022315134
I57: =I55-I56 -> 0 | Q57: =Q55-Q56 -> 0
