Workbook

Sheet صورت وضعیت
B10: صندوق سرمایه‌گذاری تداوم اطمینان تمدن
B11: صورت وضعیت پرتفوی
B12: برای ماه منتهی به 1405/06/31

Sheet سهام
A1: صندوق سرمایه‌گذاری تداوم اطمینان تمدن | AA1: 334379619303206
A2: صورت وضعیت پرتفوی
A3: برای ماه منتهی به 1405/06/31
A4: 1 - سرمایه‌گذاری‌ها
A5: 1 -1- سرمایه‌گذاری در سهام و حق تقدم سهام
C6: 1405/05/31 | I6: تغییرات طی دوره | Q6: 1405/06/31
A7: نام شرکت | C7: تعداد | E7: بهای تمام شده | G7: خالص ارزش فروش | I7: خرید طی دوره | M7: فروش طی دوره | Q7: تعداد | S7: قیمت بازار هر سهم | U7: بهای تمام شده | W7: خالص ارزش فروش | Y7: درصد به کل دارایی‌ها
I8: تعداد | K8: بهای تمام شده | M8: تعداد | O8: مبلغ فروش
E9: ریال | G9: ریال | K9: ریال | O9: ریال | S9: ریال | U9: ریال | W9: ریال
A10: ایران خودرو دیزل | C10: 10877447426 | E10: 15034963086624 | G10: 14851669906178 | I10: 0 | K10: 0 | M10: 0 | O10: 0 | Q10: =C10+I10+M10 -> 10877447426 | S10: 1354 | U10: 15034963086624 | W10: 14614215881515 | Y10: =W10/$AA$1 -> 0.043705462
A11: توسعه معادن وص.معدنی خاورمیانه | C11: 145662568 | E11: 631644756498 | G11: 1001638612701 | I11: 0 | K11: 0 | M11: 0 | O11: 0 | Q11: =C11+I11+M11 -> 145662568 | S11: 6881 | U11: 631644756498 | W11: 994556319479 | Y11: =W11/$AA$1 -> 0.0029743329
A12: جمع کل | E12: =SUM(E10:E11) -> 15666607843122 | G12: =SUM(G10:G11) -> 15853308518879 | K12: =SUM(K10:K11) -> 0 | O12: =SUM(O10:O11) -> 0 | U12: =SUM(U10:U11) -> 15666607843122 | W12: =SUM(W10:W11) -> 15608772200994 | Y12: =SUM(Y10:Y11) -> 0.046679795

Sheet واحدهای صندوق
A1: صندوق سرمایه‌گذاری تداوم اطمینان تمدن
A2: صورت وضعیت پرتفوی
A3: برای ماه منتهی به 1405/06/31
A5: 2-1-سرمایه‌گذاری در واحدهای صندوق‌های سرمایه‌گذاری
C7: =سهام!C6 -> 1405/05/31 | I7: تغییرات طی دوره | Q7: =سهام!Q6 -> 1405/06/31
A8: صندوق | C8: تعداد واحد | E8: بهای تمام شده | G8: خالص ارزش فروش | I8: خرید طی دوره | M8: فروش طی دوره | Q8: تعداد | S8: قیمت ابطال / بازار هر واحد | U8: بهای تمام شده | W8: خالص ارزش فروش | Y8: درصد به کل دارایی‌ها
I9: تعداد | K9: بهای تمام شده | M9: تعداد | O9: مبلغ ابطال
E10: ریال | G10: ریال | K10: ریال | O10: ریال | S10: ریال | U10: ریال | W10: ریال
A11: صندوق س سروسودمند مدبران-سهام | C11: 6050000 | E11: 99940496613 | G11: 235691010995 | I11: 0 | K11: 0 | M11: 0 | O11: 0 | Q11: =C11+I11+M11 -> 6050000 | S11: 40670 | U11: 99940496613 | W11: 245487576950 | Y11: =W11/سهام!$AA$1 -> 0.00073415831
A12: صندوق س صنایع تمدن1-بخشی | C12: 14716000 | E12: 204738536407 | G12: 215563373282 | I12: 0 | K12: 0 | M12: 0 | O12: 0 | Q12: =C12+I12+M12 -> 14716000 | S12: 14650 | U12: 204738536407 | W12: 215093544380 | Y12: =W12/سهام!$AA$1 -> 0.00064326153
A13: صندوق س. شاخصی کیان-س | C13: 4710000 | E13: 96184113372 | G13: 179790129420 | I13: 0 | K13: 0 | M13: 0 | O13: 0 | Q13: =C13+I13+M13 -> 4710000 | S13: 42011 | U13: 96184113372 | W13: 197416704837 | Y13: =W13/سهام!$AA$1 -> 0.00059039694
A14: صندوق س.آرمان آتیه درخشان مس-س | C14: 1335006 | E14: 608872802761 | G14: 1177161918832 | I14: 0 | K14: 0 | M14: 0 | O14: 0 | Q14: =C14+I14+M14 -> 1335006 | S14: 983000 | U14: 608872802761 | W14: 1309292582934 | Y14: =W14/سهام!$AA$1 -> 0.0039155873
A15: صندوق س.پشتوانه طلا تابان تمدن | C15: 81043519 | E15: 4746686491695 | G15: 6809604692631 | I15: 5244061 | K15: 500195880246 | M15: 0 | O15: 0 | Q15: =C15+I15+M15 -> 86287580 | S15: 95200 | U15: 5246882371941 | W15: 8204720122860 | Y15: =W15/سهام!$AA$1 -> 0.024537142
A16: صندوق س.پشتوانه طلای دماوند | C16: 31096000 | E16: 1001230176771 | G16: 1166564201088 | I16: 0 | K16: 0 | M16: 0 | O16: 0 | Q16: =C16+I16+M16 -> 31096000 | S16: 42590 | U16: 1001230176771 | W16: 1322789385632 | Y16: =W16/سهام!$AA$1 -> 0.003955951
A17: صندوق س.پشتوانه طلای زرین آگاه | C17: 4433240 | E17: 601821995826 | G17: 749429906876 | I17: 0 | K17: 0 | M17: 0 | O17: 0 | Q17: =C17+I17+M17 -> 4433240 | S17: 191200 | U17: 601821995826 | W17: 846618325414 | Y17: =W17/سهام!$AA$1 -> 0.0025319077
A18: صندوق س.پشتوانه طلای صبا | C18: 5267000 | E18: 330343677365 | G18: 641881821394 | I18: 0 | K18: 0 | M18: 0 | O18: 0 | Q18: =C18+I18+M18 -> 5267000 | S18: 138400 | U18: 330343677365 | W18: 728078056640 | Y18: =W18/سهام!$AA$1 -> 0.0021773996
A19: صندوق س.كالاي زرگر كارآمد | C19: 29406000 | E19: 500578339700 | G19: 625008768384 | I19: 0 | K19: 0 | M19: 0 | O19: 0 | Q19: =C19+I19+M19 -> 29406000 | S19: 24208 | U19: 500578339700 | W19: 711006215462 | Y19: =W19/سهام!$AA$1 -> 0.0021263444
A20: صندوق س.كالاي زمرد بيدار | C20: 44301000 | E20: 900214948142 | G20: 1281417411648 | I20: 0 | K20: 0 | M20: 0 | O20: 0 | Q20: =C20+I20+M20 -> 44301000 | S20: 32720 | U20: 900214948142 | W20: 1447789285536 | Y20: =W20/سهام!$AA$1 -> 0.0043297773
A21: صندوق س.مبتنی بر کالای فارابی | C21: 58384127 | E21: 962839992768 | G21: 1096012871364 | I21: 0 | K21: 0 | M21: 0 | O21: 0 | Q21: =C21+I21+M21 -> 58384127 | S21: 21386 | U21: 962839992768 | W21: 1247104616493 | Y21: =W21/سهام!$AA$1 -> 0.0037296071
A22: صندوق س.هستی بخش آگاه-س | C22: 967000 | E22: 249912269811 | G22: 428360499600 | I22: 0 | K22: 0 | Q22: =C22+I22+M22 -> 967000 | S22: 488959 | U22: 249912269811 | W22: 471735859288 | Y22: =W22/سهام!$AA$1 -> 0.0014107793
A23: صندوق س.کالای تابان تمدن1 | C23: 73932000 | E23: 613873265308 | G23: 712587667440 | I23: 21500000 | K23: 200620454917 | M23: 0 | O23: 0 | Q23: =C23+I23+M23 -> 95432000 | S23: 9290 | U23: 814493720225 | W23: 885499404064 | Y23: =W23/سهام!$AA$1 -> 0.0026481859
A24: صندوق سرمایه گذاری عقیق-سهام | C24: 3541990 | E24: 49999991786 | G24: 101226944851 | I24: 0 | K24: 0 | M24: 0 | O24: 0 | Q24: =C24+I24+M24 -> 3541990 | S24: 32600 | U24: 49999991786 | W24: 115203295589 | Y24: =W24/سهام!$AA$1 -> 0.00034452846
A25: جمع کل | E25: =SUM(E11:E24) -> 10967237098325 | G25: =SUM(G11:G24) -> 15420301217805 | K25: =SUM(K11:K24) -> 700816335163 | O25: =SUM(O11:O24) -> 0 | U25: =SUM(U11:U24) -> 11668053433488 | W25: =SUM(W11:W24) -> 17947834976079 | Y25: =SUM(Y11:Y24) -> 0.053675027

Sheet اوراق
A1: صندوق سرمایه‌گذاری تداوم اطمینان تمدن
A2: صورت وضعیت پرتفوی
A3: =سهام!A3 -> برای ماه منتهی به 1405/06/31
A4: 3-1-سرمایه‌گذاری در اوراق بهادار با درآمد ثابت یا علی‌الحساب
O6: =سهام!C6 -> 1405/05/31 | U6: تغییرات طی دوره | AC6: =سهام!Q6 -> 1405/06/31
A7: نام اوراق | C7: دارای مجوز از سازمان | E7: پذیرفته شده در بورس یا فرابورس | G7: تاریخ انتشار اوراق | I7: تاریخ سررسید | K7: نرخ سود اسمی | M7: نرخ سود موثر | O7: تعداد | Q7: بهای تمام شده | S7: خالص ارزش فروش | U7: خرید طی دوره | Y7: فروش طی دوره | AC7: تعداد | AE7: قیمت بازار هر سهم | AG7: بهای تمام شده | AI7: خالص ارزش فروش | AK7: درصد به کل دارایی‌ها
U8: تعداد | W8: بهای تمام شده | Y8: تعداد | AA8: مبلغ فروش
Q9: ریال | S9: ریال | W9: ریال | AA9: ریال | AE9: ریال | AG9: ریال | AI9: ریال
A10: سلف آهن اسفنجی توسعه گل گهر | C10: بله | E10: بله | G10: 1404/11/19 | I10: 1406/11/19 | K10: 0 | M10: 0 | O10: 4197560 | Q10: 9999973114800 | S10: 11456922838048 | U10: 0 | W10: 0 | Y10: 0 | AA10: 0 | AC10: =O10+U10-Y10 -> 4197560 | AE10: 2630940 | AG10: 9999973114800 | AI10: 11035521948232 | AK10: =AI10/سهام!$AA$1 -> 0.033002974
A11: سلف موازی آهن اسفنجی غدیر | C11: بله | E11: بله | G11: 1404/12/27 | I11: 1406/12/27 | K11: 0 | M11: 0 | O11: 1926340 | Q11: 4999988840600 | S11: 5705573741861 | U11: 0 | W11: 0 | Y11: 0 | AA11: 0 | AC11: =O11+U11-Y11 -> 1926340 | AE11: 3036769 | AG11: 4999988840600 | AI11: 5845608816200 | AK11: =AI11/سهام!$AA$1 -> 0.017481953
A12: اسناد خزانه-م11بودجه02-050720 | C12: بله | E12: بله | G12: 1402/12/29 | I12: 1405/07/20 | K12: 0 | M12: 0 | O12: 193322 | Q12: 176175407144 | S12: 184709541884 | U12: 0 | W12: 0 | Y12: 48755 | AA12: 47770974654 | AC12: =O12+U12-Y12 -> 144567 | AE12: 983010 | AG12: 131744706162 | AI12: 142033533918 | AK12: =AI12/سهام!$AA$1 -> 0.00042476732
A13: اسناد خزانه-م12بودجه02-050916 | C13: بله | E13: بله | G13: 1402/12/29 | I13: 1405/09/16 | K13: 0 | M13: 0 | O13: 388592 | Q13: 335317760079 | S13: 352727354555 | U13: 50489 | W13: 46839865912 | Y13: 261934 | AA13: 243425253910 | AC13: =O13+U13-Y13 -> 177147 | AE13: 930000 | AG13: 154181294502 | AI13: 164657128976 | AK13: =AI13/سهام!$AA$1 -> 0.00049242573
A14: اسناد خزانه-م13بودجه02-051021 | C14: بله | E14: بله | G14: 1402/12/29 | I14: 1405/10/21 | K14: 0 | M14: 0 | O14: 257359 | Q14: 214946773608 | S14: 227183591285 | U14: 126002 | W14: 112833109656 | Y14: 184007 | AA14: 165981258590 | AC14: =O14+U14-Y14 -> 199354 | AE14: 906000 | AG14: 170450908799 | AI14: 180516514743 | AK14: =AI14/سهام!$AA$1 -> 0.00053985502
A15: اسنادخزانه-م10بودجه02-051112 | C15: بله | E15: بله | G15: 1402/12/21 | I15: 1405/11/12 | K15: 0 | M15: 0 | O15: 40094 | Q15: 33448834136 | S15: 34539029665 | U15: 30304 | W15: 26745780809 | Y15: 13396 | AA15: 11864276733 | AC15: =O15+U15-Y15 -> 57002 | AE15: 883260 | AG15: 48810138274 | AI15: 50320210019 | AK15: =AI15/سهام!$AA$1 -> 0.00015048827
A16: اسنادخزانه-م2بودجه02-050923 | C16: بله | E16: بله | G16: 1402/06/19 | I16: 1405/09/23 | K16: 0 | M16: 0 | O16: 26458 | Q16: 23100058151 | S16: 23865625586 | U16: 0 | W16: 0 | Y16: 26458 | AA16: 24492219646 | AC16: =O16+U16-Y16 -> 0 | AE16: 0 | AG16: 0 | AI16: 0 | AK16: =AI16/سهام!$AA$1 -> 0
A17: اسنادخزانه-م4بودجه02-051021 | C17: بله | E17: بله | G17: 1402/12/15 | I17: 1405/10/21 | K17: 0 | M17: 0 | O17: 20001 | Q17: 16709912222 | S17: 17451778452 | U17: 0 | W17: 0 | Y17: 0 | AA17: 0 | AC17: =O17+U17-Y17 -> 20001 | AE17: 896210 | AG17: 16709912222 | AI17: 17915349438 | AK17: =AI17/سهام!$AA$1 -> 5.3577875e-05
A18: صکوک مرابحه آکو903-3ماهه23% | C18: بله | E18: بله | G18: 1405/03/02 | I18: 1409/03/02 | K18: 23 | M18: 23 | O18: 3999997 | Q18: 3999997000000 | S18: 3598039801468 | U18: 0 | W18: 0 | Y18: 0 | AA18: 0 | AC18: =O18+U18-Y18 -> 3999997 | AE18: 984922 | AG18: 3999997000000 | AI18: 3937542841490 | AK18: =AI18/سهام!$AA$1 -> 0.011775666
A19: صکوک مرابحه دسبحان712-3ماهه23% | C19: بله | E19: بله | G19: 1403/12/26 | I19: 1407/12/26 | K19: 23 | M19: 23 | O19: 500000 | Q19: 500000000000 | S19: 449755312500 | U19: 0 | W19: 0 | Y19: 0 | AA19: 0 | AC19: =O19+U19-Y19 -> 500000 | AE19: 900000 | AG19: 500000000000 | AI19: 449755312500 | AK19: =AI19/سهام!$AA$1 -> 0.001345044
A20: صکوک مرابحه دوچرخ83-3ماهه23% | C20: بله | E20: بله | G20: 1405/03/09 | I20: 1408/03/09 | K20: 23 | M20: 23 | O20: 2000000 | Q20: 2000000000000 | S20: 1799021250000 | U20: 0 | W20: 0 | Y20: 0 | AA20: 0 | AC20: =O20+U20-Y20 -> 2000000 | AE20: 972125 | AG20: 2000000000000 | AI20: 1943192814062 | AK20: =AI20/سهام!$AA$1 -> 0.0058113375
A21: صکوک مرابحه دیران72-3ماهه23% | C21: بله | E21: بله | G21: 1403/02/22 | I21: 1407/02/22 | K21: 23 | M21: 23 | O21: 1499971 | Q21: 1500205374093 | S21: 1349239851691 | U21: 0 | W21: 0 | Y21: 0 | AA21: 0 | AC21: =O21+U21-Y21 -> 1499971 | AE21: 907975 | AG21: 1500205374093 | AI21: 1361195615933 | AK21: =AI21/سهام!$AA$1 -> 0.0040708092
... A46: شهرداری تبریز | C46: خیر | E46: خیر | G46: 1403/12/28 | I46: 1407/12/28 | K46: 23 | M46: 23 | O46: 5000000 | Q46: 5000000000000 | S46: 5000000000000 | U46: 0 | W46: 0 | Y46: 0 | AA46: 0 | AC46: =O46+U46-Y46 -> 5000000 | AE46: 1000000 | AG46: 5000000000000 | AI46: 5000000000000 | AK46: =AI46/سهام!$AA$1 -> 0.014953064
A47: جمع | Q47: =SUM(Q10:Q46) -> 158041064411327 | S47: =SUM(S10:S46) -> 157062162509268 | W47: =SUM(W10:W46) -> 31253925242536 | AA47: =SUM(AA10:AA46) -> 8524590921739 | AG47: =SUM(AG10:AG46) -> 181175326365025 | AI47: =SUM(AI10:AI46) -> 180372211403041 | AK47: =SUM(AK10:AK46) -> 0.53942346

Sheet سپرده 
A1: صندوق سرمایه‌گذاری تداوم اطمینان تمدن
A2: صورت وضعیت پرتفوی
A3: =سهام!A3 -> برای ماه منتهی به 1405/06/31
A5: 4-1- سرمایه‌گذاری در سپرده‌ بانکی
C6: =سهام!C6 -> 1405/05/31 | E6: تغییرات طی دوره | I6: =سهام!Q6 -> 1405/06/31
A7: سپرده | C7: مبلغ | E7: افزایش | G7: کاهش | I7: مبلغ | K7: درصد به کل دارایی‌ها
C8: ریال | E8: ریال | G8: ریال | I8: ریال
A9: سپرده های بانکی | C9: 104846643677005 | E9: 255301623141019 | G9: -262062668424171 | I9: =C9+E9+G9 -> 98085598393853 | K9: =I9/سهام!$AA$1 -> 0.29333605
A10: جمع کل | C10: =SUM(C9) -> 104846643677005 | E10: =SUM(E9) -> 255301623141019 | G10: =SUM(G9) -> -262062668424171 | I10: =SUM(I9) -> 98085598393853 | K10: =SUM(K9) -> 0.29333605

Sheet گواهی سپرده بانکی
A1: صندوق سرمایه‌گذاری تداوم اطمینان تمدن
A2: صورت وضعیت پرتفوی
A3: =سهام!A3 -> برای ماه منتهی به 1405/06/31
A5: 5-1- سرمایه‌گذاری در سپرده‌ بانکی
C6: =سهام!C6 -> 1405/05/31 | E6: تغییرات طی دوره | I6: =سهام!Q6 -> 1405/06/31
A7: سپرده | C7: مبلغ | E7: افزایش | G7: کاهش | I7: مبلغ | K7: درصد به کل دارایی‌ها
C8: ریال | E8: ریال | G8: ریال | I8: ریال
A9: گواهی سپرده بانک تجارت | C9: 0 | E9: 12632000000000 | G9: 0 | I9: 12632000000000 | K9: =I9/سهام!$AA$1 -> 0.037777422
A10: جمع کل | C10: =SUM(C9) -> 0 | E10: =SUM(E9) -> 12632000000000 | G10: =SUM(G9) -> 0 | I10: =SUM(I9) -> 12632000000000 | K10: =SUM(K9) -> 0.037777422

Sheet تعدیل قیمت
A1: صندوق سرمایه‌گذاری تداوم اطمینان تمدن
A2: صورت وضعیت پرتفوی
A3: =سهام!A3 -> برای ماه منتهی به 1405/06/31
A5: اوراق بهاداری که ارزش آنها در تاریخ گزارش تعدیل شده
A6: (بر اساس دستورالعمل نحوه تعیین قیمت خرید و فروش اوراق بهادار در صندوق‌های سرمایه‌گذاری)
A8: نام اوراق بهادار | C8: =سهام!Q6 -> 1405/06/31
C9: تعداد | E9: قیمت پایانی | G9: قیمت تعدیل شده | I9: درصد تعدیل | K9: ارزش ناشی از تعدیل قیمت | M9: دلیل تعدیل
E10: ریال | G10: ریال | K10: ریال
A11: ایران خودرو دیزل | C11: 10877447426 | E11: 1478 | G11: 1354 | I11: -0.0839 | K11: 14728063814804 | M11: سایر
A12: صکوک مرابحه دیران72-3ماهه23% | C12: 1499971 | E12: 1000000 | G12: 907975 | I12: -0.092 | K12: 1361936168725 | M12: سایر
A13: مرابحه گلرنگ فرش بیدگل060224 | C13: 500000 | E13: 1000000 | G13: 900000 | I13: -0.1 | K13: 450000000000 | M13: سایر
A14: مرابحه پدیده جم-تمدن070617 | C14: 1500000 | E14: 1000000 | G14: 900000 | I14: -0.1 | K14: 1350000000000 | M14: سایر
A15: مشارکت ش اصفهان512-3ماهه18% | C15: 2650000 | E15: 870987 | G15: 793000 | I15: -0.0895 | K15: 2101450000000 | M15: سایر
A16: صکوک مرابحه دسبحان712-3ماهه23% | C16: 500000 | E16: 1000000 | G16: 900000 | I16: -0.1 | K16: 450000000000 | M16: سایر
A17: مرابحه پاریزشرق070228 | C17: 2000000 | E17: 1000000 | G17: 900000 | I17: -0.1 | K17: 1800000000000 | M17: سایر
A18: سلف آهن اسفنجی توسعه گل گهر | C18: 4197560 | E18: 2854358 | G18: 2630940 | I18: -0.0783 | K18: 11043528506400 | M18: سایر
A19: صکوک مرابحه کگل0811-3ماهه23% | C19: 5000000 | E19: 1000000 | G19: 972686 | I19: -0.0273 | K19: 4863430000000 | M19: سایر
A20: مرابحه آریس آمل 14081224 | C20: 4000000 | E20: 1000000 | G20: 977914 | I20: -0.0221 | K20: 3911656000000 | M20: سایر
A21: صکوک مرابحه آکو903-3ماهه23% | C21: 3999997 | E21: 1000000 | G21: 984922 | I21: -0.0151 | K21: 3939685045234 | M21: سایر
A22: صکوک مرابحه دوچرخ83-3ماهه23% | C22: 2000000 | E22: 1000000 | G22: 972125 | I22: -0.0279 | K22: 1944250000000 | M22: سایر

Sheet درآمد
A1: صندوق سرمایه‌گذاری تداوم اطمینان تمدن | K1: 274228358895597
A2: صورت وضعیت درآمدها
A3: ='صورت وضعیت'!B12 -> برای ماه منتهی به 1405/06/31
A5: 2- درآمد حاصل از سرمایه‌گذاری‌ها
A7: شرح | C7: یادداشت | E7: مبلغ | G7: درصد از کل درآمدها | I7: درصد از کل دارایی‌ها
E8: ریال
A9: درآمد حاصل از سرمایه‌گذاری در سهام و حق تقدم سهام | C9: 1-2 | E9: ='درآمد سرمایه گذاری در سهام'!S12 -> -4979066430 | G9: =E9/$E$15 -> -0.00010564465 | I9: =E9/$K$1 -> -1.8156643e-05 | K9: ='درآمد سرمایه گذاری در سهام'!I12 -> -244536317885 | M9: =K9/$K$15 -> -0.024587551
A10: درآمد حاصل از سرمایه‌گذاری در واحدهای صندوق‌های سرمایه‌گذاری | C10: 2-2 | E10: ='درآمد سرمایه گذاری در صندوق'!S25 -> 4224434806783 | G10: =E10/$E$15 -> 0.089633055 | I10: =E10/$K$1 -> 0.015404807 | K10: ='درآمد سرمایه گذاری در صندوق'!I25 -> 1826717423111 | M10: =K10/$K$15 -> 0.18367213
A11: درآمد حاصل از سرمایه‌گذاری در اوراق بهادار با درآمد ثابت | C11: 3-2 | E11: ='درآمد سرمایه گذاری در اوراق'!S53 -> 21166005644039 | G11: =E11/$E$15 -> 0.44909528 | I11: =E11/$K$1 -> 0.077183869 | K11: ='درآمد سرمایه گذاری در اوراق'!I53 -> 4438679930682 | M11: =K11/$K$15 -> 0.44629881
A12: درآمد حاصل از سرمایه‌گذاری در سپرده بانکی و گواهی سپرده | C12: 4-2 | E12: ='درآمد سپرده و گواهی سپرده بانکی'!G11 -> 21837744905596 | G12: =E12/$E$15 -> 0.46334809 | I12: =E12/$K$1 -> 0.07963343 | K12: ='درآمد سپرده و گواهی سپرده بانکی'!C11 -> 3924672757508 | M12: =K12/$K$15 -> 0.3946166
A13: درآمد حاصل از سرمایه‌گذاری در گواهی سپرده کالایی | C13: 5-2 | E13: ='درآمد گواهی سپرده کالایی'!S11 -> -97941056024 | G13: =E13/$E$15 -> -0.0020780901 | I13: =E13/$K$1 -> -0.00035715145 | K13: 0 | M13: =K13/$K$15 -> 0
A14: سایر درآمدها | C14: 6-2 | E14: ='سایر درآمدها'!E10 -> 5057649281 | G14: =E14/$E$15 -> 0.000107312 | I14: =E14/$K$1 -> 1.8443203e-05 | K14: 0 | M14: =K14/$K$15 -> 0
A15: جمع کل | E15: =SUM(E9:E14) -> 47130322883245 | G15: =SUM(G9:G14) -> 1 | I15: =SUM(I9:I14) -> 0.17186524 | K15: =SUM(K9:K14) -> 9945533793416 | M15: =SUM(M9:M14) -> 1

Sheet درآمد سرمایه گذاری در سهام
A1: صندوق سرمایه‌گذاری تداوم اطمینان تمدن
A2: صورت وضعیت درآمدها
A3: =سهام!A3 -> برای ماه منتهی به 1405/06/31
A5: 1-2- درآمد حاصل از سرمایه‌گذاری در سهام و حق تقدم سهام
C6: طی ماه | M6: از ابتدای سال مالی تا پایان شهریور 1405
A7: سهام | C7: درآمد سود سهام | E7: درآمد تغییر ارزش | G7: درآمد فروش | I7: جمع | M7: درآمد سود سهام | O7: درآمد تغییر ارزش | Q7: درآمد فروش | S7: جمع
I8: مبلغ | K8: درصد از کل درآمدها | S8: مبلغ | U8: درصد از کل درآمدها
C9: ریال | E9: ریال | G9: ریال | I9: ریال | M9: ریال | O9: ریال | Q9: ریال | S9: ریال
A10: توسعه معادن وص.معدنی خاورمیانه | C10: 0 | E10: -7082293223 | G10: 0 | I10: =C10+E10+G10 -> -7082293223 | K10: =I10/درآمد!$K$15 -> -0.0007121079 | M10: 12399587822 | O10: =154820198915-1 -> 154820198914 | Q10: 154205342584 | R10: -146868018401 | S10: =M10+O10+Q10 -> 321425129320 | U10: =S10/درآمد!E15 -> 0.0068199221
A11: ایران خودرو دیزل | C11: 0 | E11: -237454024662 | G11: 0 | I11: =C11+E11+G11 -> -237454024662 | K11: =I11/درآمد!$K$15 -> -0.023875443 | M11: 94343009358 | O11: -420747205108 | Q11: 0 | R11: 0 | S11: =M11+O11+Q11 -> -326404195750 | U11: =S11/درآمد!E15 -> -0.0069255667
A12: جمع کل | C12: =SUM(C10:C11) -> 0 | E12: =SUM(E10:E11) -> -244536317885 | G12: =SUM(G10:G11) -> 0 | I12: =SUM(I10:I11) -> -244536317885 | K12: =SUM(K10:K11) -> -0.024587551 | M12: =SUM(M10:M11) -> 106742597180 | O12: =SUM(O10:O11) -> -265927006194 | Q12: =SUM(Q10:Q11) -> 154205342584 | S12: =SUM(S10:S11) -> -4979066430 | U12: =SUM(U10:U11) -> -0.00010564465

Sheet درآمد سرمایه گذاری در صندوق
A1: صندوق سرمایه‌گذاری تداوم اطمینان تمدن
A2: صورت وضعیت درآمدها
A3: =سهام!A3 -> برای ماه منتهی به 1405/06/31
A5: 2-2- درآمد حاصل از سرمایه‌گذاری در واحدهای صندوق
C6: طی ماه | M6: ='درآمد سرمایه گذاری در سهام'!M6:U6 -> از ابتدای سال مالی تا پایان شهریور 1405
A7: صندوق | C7: درآمد سود صندوق | E7: درآمد تغییر ارزش | G7: درآمد فروش | I7: جمع | M7: درآمد سود صندوق | O7: درآمد تغییر ارزش | Q7: درآمد فروش | S7: جمع
I8: مبلغ | K8: درصد از کل درآمدها | S8: مبلغ | U8: درصد از کل درآمدها
C9: ریال | E9: ریال | G9: ریال | I9: ریال | M9: ریال | O9: ریال | Q9: ریال | S9: ریال
A10: صندوق س.موج گستر ثروت-س | C10: 0 | E10: 0 | G10: 0 | I10: =C10+E10+G10 -> 0 | K10: =I10/درآمد!$K$15 -> 0 | M10: 0 | N10: 91261431706 | O10: 0 | Q10: 405103337 | R10: 0 | S10: =O10+Q10 -> 405103337 | U10: =S10/درآمد!$E$15 -> 8.5953864e-06
A11: صندوق س.آرمان آتیه درخشان مس-س | C11: 0 | E11: 132130664100 | G11: 0 | I11: =C11+E11+G11 -> 132130664100 | K11: =I11/درآمد!$K$15 -> 0.013285427 | M11: 0 | N11: 41630878245 | O11: 570681078417 | Q11: 0 | R11: 0 | S11: =O11+Q11 -> 570681078417 | U11: =S11/درآمد!$E$15 -> 0.012108576
A12: صندوق س.هستی بخش آگاه-س | C12: 0 | E12: 43375359688 | G12: 0 | I12: =C12+E12+G12 -> 43375359688 | K12: =I12/درآمد!$K$15 -> 0.0043612903 | O12: 221823589477 | Q12: 0 | R12: 0 | S12: =O12+Q12 -> 221823589477 | U12: =S12/درآمد!$E$15 -> 0.0047066003
A13: صندوق س سروسودمند مدبران-سهام | C13: 0 | E13: 9796565955 | G13: 0 | I13: =C13+E13+G13 -> 9796565955 | K13: =I13/درآمد!$K$15 -> 0.00098502163 | M13: 0 | N13: 33646035720 | O13: 94585451950 | Q13: 0 | R13: 0 | S13: =O13+Q13 -> 94585451950 | U13: =S13/درآمد!$E$15 -> 0.0020068917
A14: صندوق س.پشتوانه طلای زرین آگاه | C14: 0 | E14: 97188418538 | G14: 0 | I14: =C14+E14+G14 -> 97188418538 | K14: =I14/درآمد!$K$15 -> 0.0097720666 | M14: 0 | N14: 0 | O14: 189127608214 | Q14: 0 | R14: 0 | S14: =O14+Q14 -> 189127608214 | U14: =S14/درآمد!$E$15 -> 0.0040128647
A15: صندوق س. شاخصی کیان-س | C15: 0 | E15: 17626575417 | G15: 0 | I15: =C15+E15+G15 -> 17626575417 | K15: =I15/درآمد!$K$15 -> 0.0017723106 | M15: 0 | N15: -134022172033 | O15: 95806616796 | Q15: 0 | R15: 0 | S15: =O15+Q15 -> 95806616796 | U15: =S15/درآمد!$E$15 -> 0.002032802
A16: صندوق سرمایه گذاری عقیق-سهام | C16: 0 | E16: 13976350738 | G16: 0 | I16: =C16+E16+G16 -> 13976350738 | K16: =I16/درآمد!$K$15 -> 0.0014052892 | M16: 0 | N16: -35196612274 | O16: 49650500093 | Q16: 0 | R16: 0 | S16: =O16+Q16 -> 49650500093 | U16: =S16/درآمد!$E$15 -> 0.0010534725
A17: صندوق س.پشتوانه طلای صبا | C17: 0 | E17: 86196235246 | G17: 0 | I17: =C17+E17+G17 -> 86196235246 | K17: =I17/درآمد!$K$15 -> 0.0086668285 | M17: 0 | N17: -150883961890 | O17: 154669240920 | Q17: 0 | R17: 0 | S17: =O17+Q17 -> 154669240920 | U17: =S17/درآمد!$E$15 -> 0.0032817352
A18: صندوق س.پشتوانه طلا تابان تمدن | C18: 0 | E18: 894919549983 | G18: 0 | I18: =C18+E18+G18 -> 894919549983 | K18: =I18/درآمد!$K$15 -> 0.089982053 | M18: 0 | N18: -129009131532 | O18: 1617726531775 | Q18: 0 | R18: 0 | S18: =O18+Q18 -> 1617726531775 | U18: =S18/درآمد!$E$15 -> 0.034324537
A19: صندوق س.كالاي زمرد بيدار | C19: 0 | E19: 166371873888 | G19: 0 | I19: =C19+E19+G19 -> 166371873888 | K19: =I19/درآمد!$K$15 -> 0.0167283 | M19: 0 | N19: 14580637963 | O19: 332346685644 | Q19: 0 | R19: 0 | S19: =O19+Q19 -> 332346685644 | U19: =S19/درآمد!$E$15 -> 0.0070516531
A20: صندوق س.پشتوانه طلای دماوند | C20: 0 | E20: 156225184544 | G20: 0 | I20: =C20+E20+G20 -> 156225184544 | K20: =I20/درآمد!$K$15 -> 0.015708074 | M20: 0 | O20: 321559208861 | Q20: 0 | S20: =O20+Q20 -> 321559208861 | U20: =S20/درآمد!$E$15 -> 0.0068227669
A21: صندوق س.كالاي زرگر كارآمد | C21: 0 | E21: 85997447078 | G21: 0 | I21: =C21+E21+G21 -> 85997447078 | K21: =I21/درآمد!$K$15 -> 0.0086468408 | M21: 0 | N21: -91057103195 | O21: 210427875762 | Q21: 0 | R21: 0 | S21: =O21+Q21 -> 210427875762 | U21: =S21/درآمد!$E$15 -> 0.0044648087
A22: صندوق س.مبتنی بر کالای فارابی | C22: 0 | E22: 151091745129 | I22: =C22+E22+G22 -> 151091745129 | K22: =I22/درآمد!$K$15 -> 0.015191919 | M22: 0 | O22: 284264623725 | Q22: 0 | S22: =O22+Q22 -> 284264623725 | U22: =S22/درآمد!$E$15 -> 0.0060314593
A23: صندوق س.کالای تابان تمدن1 | C23: 0 | E23: -27708718292 | G23: 0 | I23: =C23+E23+G23 -> -27708718292 | K23: =I23/درآمد!$K$15 -> -0.0027860464 | M23: 0 | N23: -484174032639 | O23: 71005683839 | Q23: 0 | R23: 0 | S23: =O23+Q23 -> 71005683839 | U23: =S23/درآمد!$E$15 -> 0.0015065817
A24: صندوق س صنایع تمدن1-بخشی | C24: 0 | E24: -469828901 | G24: 0 | I24: =C24+E24+G24 -> -469828901 | K24: =I24/درآمد!$K$15 -> -4.7240189e-05 | M24: 0 | N24: -93820914862 | O24: 10355007973 | Q24: 0 | R24: 0 | S24: =O24+Q24 -> 10355007973 | U24: =S24/درآمد!$E$15 -> 0.0002197101
A25: جمع کل | C25: =SUM(C10:C24) -> 0 | E25: =SUM(E10:E24) -> 1826717423111 | G25: =SUM(G10:G24) -> 0 | I25: =SUM(I10:I24) -> 1826717423111 | K25: =SUM(K11:K24) -> 0.18367213 | M25: =SUM(M10:M24) -> 0 | O25: =SUM(O10:O24) -> 4224029703446 | Q25: =SUM(Q10:Q24) -> 405103337 | S25: =SUM(S10:S24) -> 4224434806783 | U25: =SUM(U10:U24) -> 0.089633055

Sheet درآمد سرمایه گذاری در اوراق
A1: صندوق سرمایه‌گذاری تداوم اطمینان تمدن
A2: صورت وضعیت درآمدها
A3: =سهام!A3 -> برای ماه منتهی به 1405/06/31
A5: 3-2- درآمد حاصل از سرمایه‌گذاری در اوراق بهادار با درآمد ثابت:
C6: طی ماه | M6: ='درآمد سرمایه گذاری در سهام'!M6:U6 -> از ابتدای سال مالی تا پایان شهریور 1405
A7: عنوان | C7: درآمد سود اوراق | E7: درآمد تغییر ارزش | G7: درآمد فروش | I7: جمع | M7: درآمد سود اوراق | O7: درآمد تغییر ارزش | Q7: درآمد فروش | S7: جمع
I8: مبلغ | K8: درصد از کل درآمدها | S8: مبلغ | U8: درصد از کل درآمدها
C9: ریال | E9: ریال | G9: ریال | I9: ریال | M9: ریال | O9: ریال | Q9: ریال | S9: ریال
A10: اسنادخزانه-م2بودجه02-050923 | C10: 0 | E10: =-765567435-9 -> -765567444 | G10: 1392161495 | I10: =C10+E10+G10 -> 626594051 | K10: =I10/درآمد!$K$15 -> 6.3002556e-05 | M10: 0 | O10: 0 | Q10: =1392161495 -> 1392161495 | S10: =M10+O10+Q10 -> 1392161495 | U10: =S10/درآمد!$E$15 -> 2.9538552e-05
A11: اسناد خزانه-م12بودجه02-050916 | C11: 0 | E11: -6933760001 | G11: 15448922421 | I11: =C11+E11+G11 -> 8515162420 | K11: =I11/درآمد!$K$15 -> 0.00085617953 | M11: 0 | O11: 10475834474 | Q11: 16856603066 | S11: =M11+O11+Q11 -> 27332437540 | U11: =S11/درآمد!$E$15 -> 0.00057993317
A12: اسناد خزانه-م13بودجه02-051021 | C12: 0 | E12: -2171211732 | G12: 8652284125 | I12: =C12+E12+G12 -> 6481072393 | K12: =I12/درآمد!$K$15 -> 0.00065165657 | M12: 0 | O12: 10065605944 | Q12: 8652284125 | S12: =M12+O12+Q12 -> 18717890069 | U12: =S12/درآمد!$E$15 -> 0.00039715175
A13: اسناد خزانه-م11بودجه02-050720 | C13: 0 | E13: 1754693016 | G13: 3340273672 | I13: =C13+E13+G13 -> 5094966688 | K13: =I13/درآمد!$K$15 -> 0.0005122869 | M13: 0 | O13: 10288827756 | Q13: 3340273672 | S13: =M13+O13+Q13 -> 13629101428 | U13: =S13/درآمد!$E$15 -> 0.00028917904
A14: مرابحه عام دولت294-ش.خ070230 | C14: 69402017316 | E14: -884002447418 | G14: 48705794605 | I14: =C14+E14+G14 -> -765894635497 | K14: =I14/درآمد!$K$15 -> -0.077008902 | M14: 166681059044 | O14: 0 | Q14: 48705794605 | S14: =M14+O14+Q14 -> 215386853649 | U14: =S14/درآمد!$E$15 -> 0.0045700271
A15: اسنادخزانه-م10بودجه02-051112 | C15: 0 | E15: 419876216 | G15: 479800062 | I15: =C15+E15+G15 -> 899676278 | K15: =I15/درآمد!$K$15 -> 9.0460331e-05 | M15: 0 | O15: 1510071745 | Q15: 479800062 | S15: =M15+O15+Q15 -> 1989871807 | U15: =S15/درآمد!$E$15 -> 4.2220628e-05
A16: مرابحه عام دولت176-ش.خ050603 | C16: 7311285181 | E16: -35260816500 | G16: 37179166500 | I16: =C16+E16+G16 -> 9229635181 | K16: =I16/درآمد!$K$15 -> 0.00092801808 | M16: 422480351213 | O16: 0 | Q16: 37179166500 | S16: =M16+O16+Q16 -> 459659517713 | U16: =S16/درآمد!$E$15 -> 0.0097529465
A17: مرابحه عام دولت241-ش.خ070829 | C17: 67350770871 | E17: -163192323014 | G17: 222369021 | I17: =C17+E17+G17 -> -95619183122 | K17: =I17/درآمد!$K$15 -> -0.0096142837 | M17: 444671991857 | O17: 32087296611 | Q17: 222369021 | S17: =M17+O17+Q17 -> 476981657489 | U17: =S17/درآمد!$E$15 -> 0.010120484
A18: مرابحه عام دولت 166-ش.خ050419 | C18: 0 | E18: 0 | G18: 0 | I18: =C18+E18+G18 -> 0 | K18: =I18/درآمد!$K$15 -> 0 | M18: 48031023503 | O18: 0 | Q18: 33414590516 | S18: =M18+O18+Q18 -> 81445614019 | U18: =S18/درآمد!$E$15 -> 0.0017280937
A19: مرابحه عام دولت211-ش.خ050528 | C19: 0 | E19: 0 | G19: 0 | I19: =C19+E19+G19 -> 0 | K19: =I19/درآمد!$K$15 -> 0 | M19: 2936588634 | O19: 0 | Q19: 1130872765 | S19: =M19+O19+Q19 -> 4067461399 | U19: =S19/درآمد!$E$15 -> 8.630243e-05
A20: مشارکت ش اصفهان042-3ماهه18% | C20: 0 | E20: 0 | G20: 0 | I20: =C20+E20+G20 -> 0 | K20: =I20/درآمد!$K$15 -> 0 | M20: 56789258937 | O20: 0 | Q20: 2339212500 | S20: =M20+O20+Q20 -> 59128471437 | U20: =S20/درآمد!$E$15 -> 0.0012545739
A21: مشارکت ش شیراز042-3ماهه18% | C21: 0 | E21: 0 | G21: 0 | I21: =C21+E21+G21 -> 0 | K21: =I21/درآمد!$K$15 -> 0 | M21: 26187478355 | O21: 0 | Q21: 1078691250 | S21: =M21+O21+Q21 -> 27266169605 | U21: =S21/درآمد!$E$15 -> 0.00057852711
A22: مشارکت ش تهران42-3ماهه18% | C22: 0 | E22: 0 | G22: 0 | I22: =C22+E22+G22 -> 0 | K22: =I22/درآمد!$K$15 -> 0 | M22: 8527629312 | O22: 0 | Q22: 351262500 | S22: =M22+O22+Q22 -> 8878891812 | U22: =S22/درآمد!$E$15 -> 0.00018839022
... A50: سلف آهن اسفنجی توسعه گل گهر | C50: 0 | E50: -421400889815 | G50: 0 | I50: =C50+E50+G50 -> -421400889815 | K50: =I50/درآمد!$K$15 -> -0.042370867 | M50: 0 | O50: 1955336909621 | Q50: 0 | S50: =M50+O50+Q50 -> 1955336909621 | U50: =S50/درآمد!$E$15 -> 0.041487874
A51: اوراق تبعی اختیار فروش تامین مالی خاور1 | C51: 0 | E51: 0 | G51: 0 | I51: =C51+E51+G51 -> 0 | K51: =I51/درآمد!$K$15 -> 0 | M51: 1290580000000 | S51: =M51+O51+Q51 -> 1290580000000 | U51: =S51/درآمد!$E$15 -> 0.02738322
A52: سلف موازی آهن اسفنجی غدیر | C52: 0 | E52: 140035074339 | G52: 0 | I52: =C52+E52+G52 -> 140035074339 | K52: =I52/درآمد!$K$15 -> 0.014080197 | M52: 328872470160 | O52: 845619975591 | Q52: 0 | S52: =M52+O52+Q52 -> 1174492445751 | U52: =S52/درآمد!$E$15 -> 0.024920102
A53: جمع کل | C53: =SUM(C10:C52) -> 3857965357706 | E53: =SUM(E10:E52) -> 465293801075 | G53: =SUM(G10:G52) -> 115420771901 | I53: =SUM(I10:I52) -> 4438679930682 | K53: =SUM(K10:K52) -> 0.44629881 | M53: =SUM(M10:M52) -> 18462436000279 | O53: =SUM(O10:O52) -> 2543394524183 | Q53: =SUM(Q10:Q52) -> 160175119577 | S53: =SUM(S10:S52) -> 21166005644039 | U53: =SUM(U10:U52) -> 0.44909528

Sheet درآمد سپرده و گواهی سپرده بانکی
A1: صندوق سرمایه‌گذاری تداوم اطمینان تمدن
A2: صورت وضعیت درآمدها
A3: =سهام!A3 -> برای ماه منتهی به 1405/06/31
A5: 4-2- درآمد حاصل از سرمایه‌گذاری در سپرده بانکی و گواهی سپرده
C6: طی ماه | G6: از ابتدای سال مالی تا پایان شهریور 1405
A7: نام سپرده بانکی | C7: سود سپرده بانکی و گواهی سپرده | E7: درصد از کل درآمدها | G7: سود سپرده بانکی و گواهی سپرده | I7: درصد از کل درآمدها
C8: ریال | G8: ریال
A9: سپرده‌های بانکی | C9: ='سود سپرده بانکی'!G9 -> 3592087771213 | E9: =C9/درآمد!$K$15 -> 0.36117597 | G9: ='سود سپرده بانکی'!M9 -> 21082319919311 | I9: =G9/درآمد!$E$15 -> 0.44731966
A10: گواهی سپرده بانکی | C10: 332584986295 | E10: =C10/درآمد!$K$15 -> 0.033440637 | G10: 755424986285 | I10: =G10/درآمد!$E$15 -> 0.016028428
A11: جمع کل | C11: =SUM(C9:C10) -> 3924672757508 | E11: =SUM(E9:E10) -> 0.3946166 | G11: =SUM(G9:G10) -> 21837744905596 | I11: =SUM(I9:I10) -> 0.46334809

Sheet درآمد گواهی سپرده کالایی
A1: صندوق سرمایه‌گذاری تداوم اطمینان تمدن
A2: صورت وضعیت درآمدها
A3: =سهام!A3 -> برای ماه منتهی به 1405/06/31
A5: 5-2- درآمد حاصل از سرمایه‌گذاری در گواهی سپرده کالایی
C6: طی ماه | M6: از ابتدای سال مالی تا پایان شهریور 1405
A7: سهام | C7: درآمد سود سهام | E7: درآمد تغییر ارزش | G7: درآمد فروش | I7: جمع | M7: درآمد سود سهام | O7: درآمد تغییر ارزش | Q7: درآمد فروش | S7: جمع
I8: مبلغ | K8: درصد از کل درآمدها | S8: مبلغ | U8: درصد از کل درآمدها
C9: ریال | E9: ریال | G9: ریال | I9: ریال | M9: ریال | O9: ریال | Q9: ریال | S9: ریال
A10: شمش نقره SilverBar | C10: 0 | E10: 0 | G10: 0 | I10: =C10+E10+G10 -> 0 | K10: =I10/[1]درآمد!$K$15 -> 0 | M10: 0 | O10: 0 | Q10: -97941056024 | S10: -97941056024 | U10: =S10/درآمد!E15 -> -0.0020780901
A11: جمع کل | C11: =SUM(C10:C10) -> 0 | E11: =SUM(E10:E10) -> 0 | G11: =SUM(G10:G10) -> 0 | I11: =SUM(I10:I10) -> 0 | K11: =SUM(K10:K10) -> 0 | M11: =SUM(M10:M10) -> 0 | O11: =SUM(O10:O10) -> 0 | Q11: =SUM(Q10:Q10) -> -97941056024 | S11: =SUM(S10:S10) -> -97941056024 | U11: =SUM(U10:U10) -> -0.0020780901

Sheet سایر درآمدها
A1: صندوق سرمایه‌گذاری تداوم اطمینان تمدن
A2: صورت وضعیت درآمدها
A3: =سهام!A3 -> برای ماه منتهی به 1405/06/31
A5: 6-2- سایر درآمدها
C6: طی ماه | E6: 1405/06/31
C7: مبلغ (ریال) | E7: مبلغ (ریال)
A8: تعدیل کارمزد کارگزار | C8: 0 | E8: 103261609
A9: تنزیل سود بانک | C9: 0 | E9: 4954387672
A10: جمع کل | C10: =SUM(C8:C9) -> 0 | E10: =SUM(E8:E9) -> 5057649281

Sheet مبالغ تخصیصی اوراق
A1: صندوق سرمایه‌گذاری تداوم اطمینان تمدن
A2: صورت وضعیت درآمدها
A3: =سهام!A3 -> برای ماه منتهی به 1405/06/31
A5: مبالغ تخصیص یافته بابت خرید و نگهداری اوراق بهادار با درآمد ثابت (نرخ سود ترجیحی)
A7: طرف معامله | B7: نوع وابستگی | C7: نام ورقه بهادار | D7: تعداد اوراق | E7: بهای تمام شده اوراق (ریال) | F7: مبلغ شناسایی شده بابت قرارداد خرید و نگهداری اوراق بهادار (ریال) | G7: نرخ اسمی (درصد) | H7: میانگین نرخ بازده تا سررسید قراردادهای منعقده (درصد)
A8: تامین سرمایه تمدن | B8: مدیر صندوق | C8: مرابحه گلرنگ فرش بیدگل060224 | D8: 500000 | E8: 500000000000 | F8: 2880999968 | G8: 0.23 | H8: 0.4002
A9: تامین سرمایه تمدن | B9: مدیر صندوق | C9: صکوک مرابحه دیران72 | D9: 1499971 | E9: 1499971000000 | F9: 12769068192 | G9: 0.23 | H9: 0.355
A10: تامین سرمایه تمدن | B10: مدیر صندوق | C10: مرابحه پدیده جم-تمدن070617 | D10: 1500000 | E10: 1500000000000 | F10: 13958712316 | G10: 0.23 | H10: 0.36
A11: تامین سرمایه تمدن | B11: مدیر صندوق | C11: وراق مشارکت صکوک مرابحه دسبحان712-3 | D11: 500000 | E11: 500000000000 | F11: 4113534240 | G11: 0.23 | H11: 0.352
A12: تامین سرمایه تمدن | B12: مدیر صندوق | C12: اوراق مشارکت مرابحه پاریزشرق070228 | D12: 2000000 | E12: 2000000000000 | F12: 19859147392 | G12: 0.23 | H12: 0.3520057
A13: تامین سرمایه تمدن | B13: مدیر صندوق | C13: اوراق مشارکت صکوک مرابحه کگل0811-3 | D13: 5000000 | E13: 5000000000000 | F13: 49640767136 | G13: 0.23 | H13: 0.4156
A14: تامین سرمایه امید | B14: - | C14: صکوک مرابحه کگل81 | D14: 5000000 | E14: 5000000000000 | F14: 49618497088 | G14: 0.23 | H14: 0.4156
A15: تامین سرمایه تمدن | B15: مدیر صندوق | C15: قطار شهری شهرداری تبریز | D15: 5000000 | E15: 5000000000000 | F15: 54673965632 | G15: 0.23 | H15: 0.37
A16: تامین سرمایه تمدن | B16: مدیر صندوق | C16: اوراق آریس آمل | D16: 4000000 | E16: 4000000000000 | F16: 39715068480 | G16: 0.23 | H16: 0.39
A17: تامین سرمایه تمدن | B17: مدیر صندوق | C17: قطار شهری شهرداری تهران | D17: 5000000 | E17: 5000000000000 | F17: 53769205472 | G17: 0.23 | H17: 0.37
A18: تامین سرمایه تمدن | B18: مدیر صندوق | C18: اوراق مشارکت صکوک مرابحه دوچرخ83 | D18: 2000000 | E18: 2000000000000 | F18: 21904657536 | G18: 0.23 | H18: 0.405
A19: تامین سرمایه تمدن | B19: مدیر صندوق | C19: اوراق مشارکت صکوک مرابحه آکو903 | D19: 3999997 | E19: 3999997000000 | F19: 42481239360 | G19: 0.23 | H19: 0.4
... A22: تامین سرمایه تمدن | B22: مدیر صندوق | C22: اوراق مشارکت شهرداری اصفهان | D22: 26000000 | E22: 26000000000000 | F22: 310711515296 | G22: 0.23 | H22: 0.42

Sheet سود اوراق بهادار
A1: صندوق سرمایه‌گذاری تداوم اطمینان تمدن
A2: صورت وضعیت درآمدها
A3: =سهام!A3 -> برای ماه منتهی به 1405/06/31
A5: سود اوراق بهادار با درآمد ثابت
A6: شرح | I6: طی ماه | O6: از ابتدای سال مالی تا پایان شهریور 1405
C7: تاریخ دریافت سود | E7: تاریخ سررسید | G7: نرخ سود علی‌الحساب | I7: درآمد سود | K7: هزینه تنزیل | M7: خالص درآمد | O7: درآمد سود | Q7: هزینه تنزیل | S7: خالص درآمد
G8: درصد | I8: ریال | K8: ریال | M8: ریال | O8: ریال | Q8: ریال | S8: ریال
A9: سود سپرده بانکی | E9: 0 | G9: - | I9: 3596021226552 | K9: 3933455339 | M9: =I9-K9 -> 3592087771213 | O9: 21098924612058 | Q9: 16604692747 | S9: =O9-Q9 -> 21082319919311
A10: مرابحه عام دولت297-ش.خ070706 | E10: 1407/07/06 | G10: 23 | I10: 671468725950 | K10: 0 | M10: =I10-K10 -> 671468725950 | O10: 1192387723874 | Q10: 0 | S10: =O10-Q10 -> 1192387723874
A11: مرابحه عام دولت294-ش.خ070230 | E11: 1407/02/30 | G11: 23 | I11: 69402017316 | K11: 0 | M11: =I11-K11 -> 69402017316 | O11: 166681059044 | Q11: 0 | S11: =O11-Q11 -> 166681059044
A12: مرابحه عام دولت296-ش.خ070930 | E12: 1407/09/30 | G12: 23 | I12: 115444654449 | K12: 0 | M12: =I12-K12 -> 115444654449 | O12: 205056891395 | Q12: 0 | S12: =O12-Q12 -> 205056891395
A13: شهرداری تبریز | E13: 1409/02/28 | G13: 23 | I13: 393550806072 | K13: 0 | M13: =I13-K13 -> 393550806072 | O13: 1154104115401 | Q13: 0 | S13: =O13-Q13 -> 1154104115401
A14: شهرداری تبریز | E14: 1409/02/28 | G14: 23 | I14: 78710161183 | K14: 0 | M14: =I14-K14 -> 78710161183 | O14: 230820822990 | Q14: 0 | S14: =O14-Q14 -> 230820822990
A15: شهرداری اصفهان | E15: 1409/02/28 | G15: 23 | I15: 818601926229 | K15: 0 | M15: =I15-K15 -> 818601926229 | O15: 2426676574127 | Q15: 0 | S15: =O15-Q15 -> 2426676574127
A16: صکوک مرابحه دوچرخ83-3ماهه23% | E16: 1408/03/09 | G16: 23 | I16: 60346374336 | K16: 0 | M16: =I16-K16 -> 60346374336 | O16: 222429114020 | Q16: 0 | S16: =O16-Q16 -> 222429114020
A17: صکوک مرابحه آکو903-3ماهه23% | E17: 1409/03/02 | G17: 23 | I17: 118009471513 | K17: 0 | M17: =I17-K17 -> 118009471513 | O17: 466570936203 | Q17: 0 | S17: =O17-Q17 -> 466570936203
A18: مرابحه آریس آمل 14081224 | E18: 1408/12/24 | G18: 23 | I18: 119513935680 | K18: 0 | M18: =I18-K18 -> 119513935680 | O18: 717514202601 | Q18: 0 | S18: =O18-Q18 -> 717514202601
A19: مرابحه عام دولت275-ش.خ080205 | E19: 1408/05/05 | G19: 23 | I19: 116640733545 | K19: 0 | M19: =I19-K19 -> 116640733545 | O19: 1723819716571 | Q19: 0 | S19: =O19-Q19 -> 1723819716571
A20: صکوک مرابحه کگل81-3ماهه23% | E20: 1408/11/20 | G20: 23 | I20: 144882831588 | K20: 0 | M20: =I20-K20 -> 144882831588 | O20: 994247778004 | Q20: 0 | S20: =O20-Q20 -> 994247778004
A21: صکوک مرابحه کگل0811-3ماهه23% | E21: 1408/11/20 | G21: 23 | I21: 144905101636 | K21: 0 | M21: =I21-K21 -> 144905101636 | O21: 1008352607195 | Q21: 0 | S21: =O21-Q21 -> 1008352607195
... A43: مشارکت ش شیراز042-3ماهه18% | E43: 1404/12/25 | G43: 18 | I43: 0 | K43: 0 | M43: =I43-K43 -> 0 | O43: 26187478355 | Q43: 0 | S43: =O43-Q43 -> 26187478355
A44: اوراق تبعی اختیار فروش تامین مالی خاور1 | E44: - | G44: - | I44: 0 | K44: 0 | M44: =I44-K44 -> 0 | O44: 1290580000000 | Q44: 0 | S44: 1290580000000
A45: اوراق سلف موازی آهن اسفنجی غدیر | E45: - | G45: - | I45: 0 | K45: 0 | M45: =I45-K45 -> 0 | O45: 328872470160 | Q45: 0 | S45: 328872470160
A46: جمع کل | I46: =SUM(I9:I45) -> 7453986584258 | K46: =SUM(K9:K45) -> 3933455339 | M46: =SUM(M9:M45) -> 7450053128919 | O46: =SUM(O9:O45) -> 39561360612337 | Q46: =SUM(Q9:Q45) -> 16604692747 | S46: =SUM(S9:S45) -> 39544755919590

Sheet سود سپرده بانکی
A1: صندوق سرمایه‌گذاری تداوم اطمینان تمدن
A2: صورت وضعیت درآمدها
A3: =سهام!A3 -> برای ماه منتهی به 1405/06/31
A5: سود سپرده بانکی
A6: شرح | C6: طی ماه | I6: از ابتدای سال مالی تا پایان شهریور 1405
C7: درآمد سود | E7: هزینه تنزیل | G7: خالص درآمد | I7: درآمد سود | K7: هزینه تنزیل | M7: خالص درآمد
C8: ریال | E8: ریال | G8: ریال | I8: ریال | K8: ریال | M8: ریال
A9: سپرده‌های بانکی | C9: 3596021226552 | E9: 3933455339 | G9: =C9-E9 -> 3592087771213 | I9: 21098924612058 | K9: 16604692747 | M9: =I9-K9 -> 21082319919311
A10: جمع کل | C10: =SUM(C9) -> 3596021226552 | E10: =SUM(E9) -> 3933455339 | G10: =SUM(G9) -> 3592087771213 | I10: =SUM(I9) -> 21098924612058 | K10: =SUM(K9) -> 16604692747 | M10: =SUM(M9) -> 21082319919311

Sheet درآمد ناشی از فروش
A1: صندوق سرمایه‌گذاری تداوم اطمینان تمدن
A2: صورت وضعیت درآمدها
A3: =سهام!A3 -> برای ماه منتهی به 1405/06/31
A5: سود(زیان) حاصل از فروش اوراق بهادار
A6: شرح | C6: طی ماه | K6: از ابتدای سال مالی تا پایان شهریور 1405
C7: تعداد | E7: خالص بهای فروش | G7: ارزش دفتری | I7: سود و زیان ناشی از فروش | K7: تعداد | M7: خالص بهای فروش | O7: ارزش دفتری | Q7: سود و زیان ناشی از فروش
E8: ریال | G8: ریال | I8: ریال | M8: ریال | O8: ریال | Q8: ریال
A9: صندوق س.موج گستر ثروت-س | C9: 0 | E9: 0 | G9: 0 | I9: =E9-G9 -> 0 | K9: 990000 | M9: 10282333337 | O9: 9877230000 | Q9: =M9-O9 -> 405103337
A10: شمش نقره SilverBar | C10: 0 | E10: 0 | G10: 0 | I10: =E10-G10 -> 0 | K10: 89879 | M10: 353065294688 | O10: 451006350712 | Q10: =M10-O10 -> -97941056024
A11: توسعه معادن وص.معدنی خاورمیانه | C11: 0 | E11: 0 | G11: 0 | I11: =E11-G11 -> 0 | K11: 121400000 | M11: 837566047604 | O11: =M11-Q11 -> 683360705020 | Q11: =160730161290-4220454334-2304364372 -> 154205342584
A12: اسنادخزانه-م2بودجه02-050923 | C12: 26458 | E12: 24492219646 | G12: 23100058151 | I12: =E12-G12 -> 1392161495 | K12: 26458 | M12: 24492219646 | O12: 23100058151 | Q12: =M12-O12 -> 1392161495
A13: اسناد خزانه-م12بودجه02-050916 | C13: 261934 | E13: 243425253910 | G13: 227976331489 | I13: =E13-G13 -> 15448922421 | K13: 312423 | M13: 288400116558 | O13: 271543513492 | Q13: =M13-O13 -> 16856603066
A14: اسناد خزانه-م13بودجه02-051021 | C14: 184007 | E14: 165981258590 | G14: 157328974465 | I14: =E14-G14 -> 8652284125 | K14: 184007 | M14: 165981258590 | O14: 157328974465 | Q14: =M14-O14 -> 8652284125
A15: اسناد خزانه-م11بودجه02-050720 | C15: 48755 | E15: 47770974654 | G15: 44430700982 | I15: =E15-G15 -> 3340273672 | K15: 48755 | M15: 47770974654 | O15: 44430700982 | Q15: =M15-O15 -> 3340273672
A16: مرابحه عام دولت294-ش.خ070230 | C16: 5333147 | E16: 4494950448505 | G16: 4446244653900 | I16: =E16-G16 -> 48705794605 | K16: 5333147 | M16: 4494950448505 | O16: 4446244653900 | Q16: =M16-O16 -> 48705794605
A17: اسنادخزانه-م10بودجه02-051112 | C17: 13396 | E17: 11864276733 | G17: 11384476671 | I17: =E17-G17 -> 479800062 | K17: 13396 | M17: 11864276733 | O17: 11384476671 | Q17: =M17-O17 -> 479800062
A18: مرابحه عام دولت176-ش.خ050603 | C18: 3528000 | E18: 3528000000000 | G18: 3490820833500 | I18: =E18-G18 -> 37179166500 | K18: 3528000 | M18: 3528000000000 | O18: 3490820833500 | Q18: =M18-O18 -> 37179166500
A19: مرابحه عام دولت241-ش.خ070829 | C19: 10000 | E19: 8106489701 | G19: 7884120680 | I19: =E19-G19 -> 222369021 | K19: 10000 | M19: 8106489701 | O19: 7884120680 | Q19: =M19-O19 -> 222369021
A20: مرابحه عام دولت 166-ش.خ050419 | C20: 0 | E20: 0 | G20: 0 | I20: =E20-G20 -> 0 | K20: 526865 | M20: 526865000000 | O20: 493450409484 | Q20: =M20-O20 -> 33414590516
A21: مرابحه عام دولت211-ش.خ050528 | C21: 0 | E21: 0 | G21: 0 | I21: =E21-G21 -> 0 | K21: 70000 | M21: 70000000000 | O21: 68869127235 | Q21: =M21-O21 -> 1130872765
A22: مشارکت ش اصفهان042-3ماهه18% | C22: 0 | E22: 0 | G22: 0 | I22: =E22-G22 -> 0 | K22: 4302000 | M22: 4302000000000 | O22: 4299660787500 | Q22: =M22-O22 -> 2339212500
A23: مشارکت ش شیراز042-3ماهه18% | C23: 0 | E23: 0 | G23: 0 | I23: =E23-G23 -> 0 | K23: 1983800 | M23: 1983800000000 | O23: 1982721308750 | Q23: =M23-O23 -> 1078691250
... A25: مرابحه عام دولت266-ش.خ070930 | C25: 0 | E25: 0 | G25: 0 | I25: =E25-G25 -> 0 | K25: 122640 | M25: 99952812248 | O25: 94920774748 | Q25: =M25-O25 -> 5032037500
A26: جمع کل | E26: =SUM(E9:E25) -> 8524590921739 | G26: =SUM(G9:G25) -> 8409170149838 | I26: =SUM(I9:I25) -> 115420771901 | M26: =SUM(M9:M25) -> 17399097272264 | O26: =SUM(O9:O25) -> 17182252762790 | Q26: =SUM(Q9:Q25) -> 216844509474

Sheet درآمد ناشی از تغییر قیمت اوراق
A1: صندوق سرمایه‌گذاری تداوم اطمینان تمدن
A2: صورت وضعیت درآمدها
A3: =سهام!A3 -> برای ماه منتهی به 1405/06/31
A5: درآمد ناشی از تغییر قیمت اوراق بهادار
A6: شرح | C6: طی ماه | K6: از ابتدای سال مالی تا پایان شهریور 1405
C7: تعداد | E7: خالص ارزش فروش | G7: ارزش دفتری | I7: سود و زیان ناشی از تغییر قیمت | K7: تعداد | M7: خالص ارزش فروش | O7: ارزش دفتری | Q7: سود و زیان ناشی از تغییر قیمت
E8: ریال | G8: ریال | I8: ریال | M8: ریال | O8: ریال | Q8: ریال
A9: صندوق س.آرمان آتیه درخشان مس-س | C9: 1335006 | E9: 1309292582934 | G9: 1177161918832 | I9: =E9-G9 -> 132130664102 | K9: 1335006 | M9: 1309292582934 | O9: 738611504517 | Q9: =M9-O9 -> 570681078417
A10: صندوق س.هستی بخش آگاه-س | C10: 967000 | E10: 471735859288 | G10: 428360499600 | I10: =E10-G10 -> 43375359688 | K10: 967000 | M10: 471735859288 | O10: 249912269811 | Q10: =M10-O10 -> 221823589477
A11: صندوق س سروسودمند مدبران-سهام | C11: 6050000 | E11: 245487576950 | G11: 235691010995 | I11: =E11-G11 -> 9796565955 | K11: 6050000 | M11: 245487576950 | O11: 150902125000 | Q11: =M11-O11 -> 94585451950
A12: توسعه معادن وص.معدنی خاورمیانه | C12: 145662568 | E12: 994556319479 | G12: 1001638612701 | I12: =E12-G12 -> -7082293222 | K12: 145662568 | M12: 994556319479 | O12: 839736120564 | Q12: =M12-O12 -> 154820198915
A13: صندوق س.پشتوانه طلای زرین آگاه | C13: 4433240 | E13: 846618325414 | G13: 749429906876 | I13: =E13-G13 -> 97188418538 | K13: 4433240 | M13: 846618325414 | O13: 657490717200 | Q13: =M13-O13 -> 189127608214
A14: صندوق س. شاخصی کیان-س | C14: 4710000 | E14: 197416704837 | G14: 179790129420 | I14: =E14-G14 -> 17626575417 | K14: 4710000 | M14: 197416704837 | O14: 101610088041 | Q14: =M14-O14 -> 95806616796
A15: صندوق سرمایه گذاری عقیق-سهام | C15: 3541990 | E15: 115203295589 | G15: 101226944851 | I15: =E15-G15 -> 13976350738 | K15: 3541990 | M15: 115203295589 | O15: 65552795496 | Q15: =M15-O15 -> 49650500093
A16: صندوق س.پشتوانه طلای صبا | C16: 5267000 | E16: 728078056640 | G16: 641881821394 | I16: =E16-G16 -> 86196235246 | K16: 5267000 | M16: 728078056640 | O16: 573408815720 | Q16: =M16-O16 -> 154669240920
A17: صندوق س.پشتوانه طلا تابان تمدن | C17: 86287580 | E17: 8204720122860 | G17: 7309800572877 | I17: =E17-G17 -> 894919549983 | K17: 86287580 | M17: 8204720122860 | O17: 6586993591085 | Q17: =M17-O17 -> 1617726531775
A18: ایران خودرو دیزل | C18: 10877447426 | E18: 14614215881515 | G18: 14851669906178 | I18: =E18-G18 -> -237454024663 | K18: 10877447426 | M18: 14614215881515 | O18: 15034963086624 | Q18: =M18-O18 -> -420747205109
A19: صندوق س.كالاي زمرد بيدار | C19: 44301000 | E19: 1447789285536 | G19: 1281417411648 | I19: =E19-G19 -> 166371873888 | K19: 44301000 | M19: 1447789285536 | O19: 1115442599892 | Q19: =M19-O19 -> 332346685644
A20: صندوق س.پشتوانه طلای دماوند | C20: 31096000 | E20: 1322789385632 | G20: 1166564201088 | I20: =E20-G20 -> 156225184544 | K20: 31096000 | M20: 1322789385632 | O20: 1001230176771 | Q20: =M20-O20 -> 321559208861
... A53: مرابحه عام دولت240-ش.خ060929 | C53: 11987879 | E53: 10291988747491 | G53: 10298309405724 | I53: =E53-G53 -> -6320658233 | K53: 11987879 | M53: 10291988747491 | O53: 10298309405724 | Q53: =M53-O53 -> -6320658233
A54: اسنادخزانه-م2بودجه02-050923 | C54: 26458 | E54: 24492219646 | G54: 25257787081 | I54: =E54-G54 -> -765567435 | K54: 0 | M54: 0 | O54: 0 | Q54: 0
A55: مرابحه عام دولت176-ش.خ050603 | C55: 3,528,000 | E55: 3528000000000 | G55: 3563260816500 | I55: =E55-G55 -> -35260816500 | K55: 0 | M55: 0 | O55: 0 | Q55: 0
A56: مرابحه عام دولت294-ش.خ070230 | C56: 5333147 | E56: 4494950448505 | G56: 5378952895923 | I56: =E56-G56 -> -884002447418 | K56: 0 | M56: 0 | O56: 0 | Q56: 0
A57: ظخاور06041 | C57: 10877447426 | E57: 10869207759 | G57: 10869207759 | I57: =E57-G57 -> 0 | K57: 10877447426 | M57: 10869207759 | O57: 10869207759 | Q57: =M57-O57 -> 0
A58: جمع کل | E58: =SUM(E9:E57) -> 170987130456024 | G58: =SUM(G9:G57) -> 168939655549723 | I58: =SUM(I9:I57) -> 2047474906301 | M58: =SUM(M9:M57) -> 162939687787873 | O58: =SUM(O9:O57) -> 156438190566438 | Q58: =SUM(Q9:Q57) -> 6501497221435
