Workbook

Sheet صورت وضعیت
B10: صندوق سرمایه‌گذاری تداوم اطمینان تمدن
B11: صورت وضعیت پرتفوی
B12: برای ماه منتهی به 1405/07/30

Sheet سهام
A1: صندوق سرمایه‌گذاری تداوم اطمینان تمدن | AA1: 347207400812924
A2: صورت وضعیت پرتفوی
A3: برای ماه منتهی به 1405/07/30
A4: 1 - سرمایه‌گذاری‌ها
A5: 1 -1- سرمایه‌گذاری در سهام و حق تقدم سهام
C6: 1405/06/31 | I6: تغییرات طی دوره | Q6: 1405/07/30
A7: نام شرکت | C7: تعداد | E7: بهای تمام شده | G7: خالص ارزش فروش | I7: خرید طی دوره | M7: فروش طی دوره | Q7: تعداد | S7: قیمت بازار هر سهم | U7: بهای تمام شده | W7: خالص ارزش فروش | Y7: درصد به کل دارایی‌ها
I8: تعداد | K8: بهای تمام شده | M8: تعداد | O8: مبلغ فروش
E9: ریال | G9: ریال | K9: ریال | O9: ریال | S9: ریال | U9: ریال | W9: ریال
A10: ایران خودرو دیزل | C10: 10877447426 | E10: 15034963086624 | G10: 14614215881515 | I10: 0 | K10: 0 | M10: 0 | O10: 0 | Q10: =C10+I10+M10 -> 10877447426 | S10: 1503 | U10: 15034963086624 | W10: 16222427230367 | Y10: =W10/$AA$1 -> 0.046722585
A11: توسعه معادن وص.معدنی خاورمیانه | C11: 145662568 | E11: 631644756498 | G11: 994556319479 | I11: 0 | K11: 0 | M11: 0 | O11: 0 | Q11: =C11+I11+M11 -> 145662568 | S11: 7090 | U11: 631644756498 | W11: 1024764468116 | Y11: =W11/$AA$1 -> 0.0029514477
A12: جمع کل | E12: =SUM(E10:E11) -> 15666607843122 | G12: =SUM(G10:G11) -> 15608772200994 | K12: =SUM(K10:K11) -> 0 | O12: =SUM(O10:O11) -> 0 | U12: =SUM(U10:U11) -> 15666607843122 | W12: =SUM(W10:W11) -> 17247191698483 | Y12: =SUM(Y10:Y11) -> 0.049674032

Sheet واحدهای صندوق
A1: صندوق سرمایه‌گذاری تداوم اطمینان تمدن
A2: صورت وضعیت پرتفوی
A3: برای ماه منتهی به 1405/07/30
A5: 2-1-سرمایه‌گذاری در واحدهای صندوق‌های سرمایه‌گذاری
C7: =سهام!C6 -> 1405/06/31 | I7: تغییرات طی دوره | Q7: =سهام!Q6 -> 1405/07/30
A8: صندوق | C8: تعداد واحد | E8: بهای تمام شده | G8: خالص ارزش فروش | I8: خرید طی دوره | M8: فروش طی دوره | Q8: تعداد | S8: قیمت ابطال / بازار هر واحد | U8: بهای تمام شده | W8: خالص ارزش فروش | Y8: درصد به کل دارایی‌ها
I9: تعداد | K9: بهای تمام شده | M9: تعداد | O9: مبلغ ابطال
E10: ریال | G10: ریال | K10: ریال | O10: ریال | S10: ریال | U10: ریال | W10: ریال
A11: صندوق س سروسودمند مدبران-سهام | C11: 6050000 | E11: 99940496613 | G11: 245487576950 | I11: 0 | K11: 0 | M11: 0 | O11: 0 | Q11: =C11+I11+M11 -> 6050000 | S11: 47340 | U11: 99940496613 | W11: 285748263900 | Y11: =W11/سهام!$AA$1 -> 0.00082299013
A12: صندوق س صنایع تمدن1-بخشی | C12: 14716000 | E12: 204738536407 | G12: 215093544380 | I12: 33000000 | K12: 503117969795 | M12: 0 | O12: 0 | Q12: =C12+I12+M12 -> 47716000 | S12: 15718 | U12: 707856506202 | W12: 748275087797 | Y12: =W12/سهام!$AA$1 -> 0.0021551242
A13: صندوق س. شاخصی کیان-س | C13: 4710000 | E13: 96184113372 | G13: 197416704837 | I13: 0 | K13: 0 | M13: 0 | O13: 0 | Q13: =C13+I13+M13 -> 4710000 | S13: 51552 | U13: 96184113372 | W13: 242251457184 | Y13: =W13/سهام!$AA$1 -> 0.00069771398
A14: صندوق س.آرمان آتیه درخشان مس-س | C14: 1335006 | E14: 608872802761 | G14: 1309292582934 | I14: 0 | K14: 0 | M14: 0 | O14: 0 | Q14: =C14+I14+M14 -> 1335006 | S14: 1112000 | U14: 608872802761 | W14: 1481112260654 | Y14: =W14/سهام!$AA$1 -> 0.0042657854
A15: صندوق س.پشتوانه طلا تابان تمدن | C15: 86287580 | E15: 5246882371941 | G15: 8204720122860 | I15: 5400000 | K15: 509344379530 | M15: 0 | O15: 0 | Q15: =C15+I15+M15 -> 91687580 | S15: 105803 | U15: 5756226751471 | W15: 9689180041507 | Y15: =W15/سهام!$AA$1 -> 0.02790603
A16: صندوق س.پشتوانه طلای دماوند | C16: 31096000 | E16: 1001230176771 | G16: 1322789385632 | I16: 0 | K16: 0 | M16: 0 | O16: 0 | Q16: =C16+I16+M16 -> 31096000 | S16: 47225 | U16: 1001230176771 | W16: 1466746389680 | Y16: =W16/سهام!$AA$1 -> 0.0042244099
A17: صندوق س.پشتوانه طلای زرین آگاه | C17: 4433240 | E17: 601821995826 | G17: 846618325414 | I17: 0 | K17: 0 | M17: 0 | O17: 0 | Q17: =C17+I17+M17 -> 4433240 | S17: 212374 | U17: 601821995826 | W17: 940375105865 | Y17: =W17/سهام!$AA$1 -> 0.0027083959
A18: صندوق س.پشتوانه طلای صبا | C18: 5267000 | E18: 330343677365 | G18: 728078056640 | I18: 0 | K18: 0 | M18: 0 | O18: 0 | Q18: =C18+I18+M18 -> 5267000 | S18: 152479 | U18: 330343677365 | W18: 802143164728 | Y18: =W18/سهام!$AA$1 -> 0.0023102709
A19: صندوق س.كالاي زرگر كارآمد | C19: 29406000 | E19: 500578339700 | G19: 711006215462 | I19: 0 | K19: 0 | M19: -15058074 | O19: 395614611477 | Q19: =C19+I19+M19 -> 14347926 | S19: 26598 | U19: 244244745107 | W19: 381168184385 | Y19: =W19/سهام!$AA$1 -> 0.0010978112
A20: صندوق س.كالاي زمرد بيدار | C20: 44301000 | E20: 900214948142 | G20: 1447789285536 | I20: 0 | K20: 0 | M20: 0 | O20: 0 | Q20: =C20+I20+M20 -> 44301000 | S20: 36137 | U20: 900214948142 | W20: 1598984150715 | Y20: =W20/سهام!$AA$1 -> 0.0046052709
A21: صندوق س.مبتنی بر کالای فارابی | C21: 58384127 | E21: 962839992768 | G21: 1247104616493 | I21: 0 | K21: 0 | M21: 0 | O21: 0 | Q21: =C21+I21+M21 -> 58384127 | S21: 23703 | U21: 962839992768 | W21: 1382218307526 | Y21: =W21/سهام!$AA$1 -> 0.0039809587
A22: صندوق س.هستی بخش آگاه-س | C22: 967000 | E22: 249912269811 | G22: 471735859288 | I22: 0 | K22: 0 | M22: 0 | O22: 0 | Q22: =C22+I22+M22 -> 967000 | S22: 580000 | U22: 249912269811 | W22: 559570022000 | Y22: =W22/سهام!$AA$1 -> 0.0016116305
... A26: صندوق س.کالای الگوریتم | C26: 0 | E26: 0 | G26: 0 | I26: 20000000 | K26: 200240000000 | M26: 0 | O26: 0 | Q26: =C26+I26+M26 -> 20000000 | S26: 10081 | U26: 200240000000 | W26: 201378056000 | Y26: =W26/سهام!$AA$1 -> 0.00057999356
A27: جمع کل | E27: =SUM(E11:E26) -> 11668053433488 | G27: =SUM(G11:G26) -> 17947834976079 | K27: =SUM(K11:K26) -> 1413175774000 | O27: =SUM(O11:O26) -> 395614611477 | U27: =SUM(U11:U26) -> 12824895612895 | W27: =SUM(W11:W26) -> 20986555107099 | Y27: =SUM(Y11:Y26) -> 0.060443859

Sheet اوراق
A1: صندوق سرمایه‌گذاری تداوم اطمینان تمدن
A2: صورت وضعیت پرتفوی
A3: =سهام!A3 -> برای ماه منتهی به 1405/07/30
A4: 3-1-سرمایه‌گذاری در اوراق بهادار با درآمد ثابت یا علی‌الحساب
O6: =سهام!C6 -> 1405/06/31 | U6: تغییرات طی دوره | AC6: =سهام!Q6 -> 1405/07/30
A7: نام اوراق | C7: دارای مجوز از سازمان | E7: پذیرفته شده در بورس یا فرابورس | G7: تاریخ انتشار اوراق | I7: تاریخ سررسید | K7: نرخ سود اسمی | M7: نرخ سود موثر | O7: تعداد | Q7: بهای تمام شده | S7: خالص ارزش فروش | U7: خرید طی دوره | Y7: فروش طی دوره | AC7: تعداد | AE7: قیمت بازار هر سهم | AG7: بهای تمام شده | AI7: خالص ارزش فروش | AK7: درصد به کل دارایی‌ها
U8: تعداد | W8: بهای تمام شده | Y8: تعداد | AA8: مبلغ فروش
Q9: ریال | S9: ریال | W9: ریال | AA9: ریال | AE9: ریال | AG9: ریال | AI9: ریال
A10: سلف آهن اسفنجی توسعه گل گهر | C10: بله | E10: بله | G10: 1404/11/19 | I10: 1406/11/19 | K10: 0 | M10: 0 | O10: 4197560 | Q10: 9999973114800 | S10: 11035521948232 | U10: 0 | W10: 0 | Y10: 0 | AA10: 0 | AC10: =O10+U10-Y10 -> 4197560 | AE10: 2630000 | AG10: 9999973114800 | AI10: 11031579102470 | AK10: =AI10/سهام!$AA$1 -> 0.031772304
A11: سلف موازی آهن اسفنجی غدیر | C11: بله | E11: بله | G11: 1404/12/27 | I11: 1406/12/27 | K11: 0 | M11: 0 | O11: 1926340 | Q11: 4999988840600 | S11: 5845608816200 | U11: 0 | W11: 0 | Y11: 0 | AA11: 0 | AC11: =O11+U11-Y11 -> 1926340 | AE11: 3107170 | AG11: 4999988840600 | AI11: 5981126630281 | AK11: =AI11/سهام!$AA$1 -> 0.01722638
A12: اسناد خزانه-م11بودجه02-050720 | C12: بله | E12: بله | G12: 1402/12/29 | I12: 1405/07/20 | K12: 0 | M12: 0 | O12: 144567 | Q12: 131744706162 | S12: 142033533918 | U12: 0 | W12: 0 | Y12: 144567 | AA12: 144567000000 | AC12: =O12+U12-Y12 -> 0 | AE12: 0 | AG12: 0 | AI12: 0 | AK12: =AI12/سهام!$AA$1 -> 0
A13: اسناد خزانه-م12بودجه02-050916 | C13: بله | E13: بله | G13: 1402/12/29 | I13: 1405/09/16 | K13: 0 | M13: 0 | O13: 177147 | Q13: 154181294502 | S13: 164657128976 | U13: 127986 | W13: 121075943942 | Y13: 137000 | AA13: 129908074060 | AC13: =O13+U13-Y13 -> 168133 | AE13: 959640 | AG13: 153812397925 | AI13: 161259419606 | AK13: =AI13/سهام!$AA$1 -> 0.00046444695
A14: اسناد خزانه-م13بودجه02-051021 | C14: بله | E14: بله | G14: 1402/12/29 | I14: 1405/10/21 | K14: 0 | M14: 0 | O14: 199354 | Q14: 170450908799 | S14: 180516514743 | U14: 77914 | W14: 71054671187 | Y14: 200000 | AA14: 183999895628 | AC14: =O14+U14-Y14 -> 77268 | AE14: 924770 | AG14: 67634705302 | AI14: 71416274633 | AK14: =AI14/سهام!$AA$1 -> 0.00020568765
A15: اسنادخزانه-م10بودجه02-051112 | C15: بله | E15: بله | G15: 1402/12/21 | I15: 1405/11/12 | K15: 0 | M15: 0 | O15: 57002 | Q15: 48810138274 | S15: 50320210019 | U15: 141928 | W15: 126503555815 | Y15: 198930 | AA15: 179734935960 | AC15: =O15+U15-Y15 -> 0 | AE15: 0 | AG15: 0 | AI15: 0 | AK15: =AI15/سهام!$AA$1 -> 0
A16: اسنادخزانه-م4بودجه02-051021 | C16: بله | E16: بله | G16: 1402/12/15 | I16: 1405/10/21 | K16: 0 | M16: 0 | O16: 20001 | Q16: 16709912222 | S16: 17915349438 | U16: 0 | W16: 0 | Y16: 0 | AA16: 0 | AC16: =O16+U16-Y16 -> 20001 | AE16: 923500 | AG16: 16709912222 | AI16: 18460879935 | AK16: =AI16/سهام!$AA$1 -> 5.3169604e-05
A17: صکوک مرابحه آکو903-3ماهه23% | C17: بله | E17: بله | G17: 1405/03/02 | I17: 1409/03/02 | K17: 23 | M17: 23 | O17: 3999997 | Q17: 3999997000000 | S17: 3937542841490 | U17: 0 | W17: 0 | Y17: 0 | AA17: 0 | AC17: =O17+U17-Y17 -> 3999997 | AE17: 900000 | AG17: 3999997000000 | AI17: 3598039801468 | AK17: =AI17/سهام!$AA$1 -> 0.010362797
A18: صکوک مرابحه دسبحان712-3ماهه23% | C18: بله | E18: بله | G18: 1403/12/26 | I18: 1407/12/26 | K18: 23 | M18: 23 | O18: 500000 | Q18: 500000000000 | S18: 449755312500 | U18: 0 | W18: 0 | Y18: 0 | AA18: 0 | AC18: =O18+U18-Y18 -> 500000 | AE18: 900000 | AG18: 500000000000 | AI18: 449755312500 | AK18: =AI18/سهام!$AA$1 -> 0.0012953506
A19: صکوک مرابحه دوچرخ83-3ماهه23% | C19: بله | E19: بله | G19: 1405/03/09 | I19: 1408/03/09 | K19: 23 | M19: 23 | O19: 2000000 | Q19: 2000000000000 | S19: 1943192814062 | U19: 0 | W19: 0 | Y19: 0 | AA19: 0 | AC19: =O19+U19-Y19 -> 2000000 | AE19: 950508 | AG19: 2000000000000 | AI19: 1899982322550 | AK19: =AI19/سهام!$AA$1 -> 0.0054721827
A20: صکوک مرابحه دیران72-3ماهه23% | C20: بله | E20: بله | G20: 1403/02/22 | I20: 1407/02/22 | K20: 23 | M20: 23 | O20: 1499971 | Q20: 1500205374093 | S20: 1361195615933 | U20: 0 | W20: 0 | Y20: 0 | AA20: 0 | AC20: =O20+U20-Y20 -> 1499971 | AE20: 900000 | AG20: 1500205374093 | AI20: 1349239851691 | AK20: =AI20/سهام!$AA$1 -> 0.0038859766
A21: صکوک مرابحه کگل0811-3ماهه23% | C21: بله | E21: بله | G21: 1404/11/20 | I21: 1408/11/20 | K21: 23 | M21: 23 | O21: 5000000 | Q21: 5000000000000 | S21: 4860785509937 | U21: 0 | W21: 0 | Y21: 0 | AA21: 0 | AC21: =O21+U21-Y21 -> 5000000 | AE21: 999043 | AG21: 5000000000000 | AI21: 4992498851843 | AK21: =AI21/سهام!$AA$1 -> 0.01437901
... A46: شهرداری تبریز | C46: خیر | E46: خیر | G46: 1403/12/28 | I46: 1407/12/28 | K46: 23 | M46: 23 | O46: 5000000 | Q46: 5000000000000 | S46: 5000000000000 | U46: 0 | W46: 0 | Y46: 0 | AA46: 0 | AC46: =O46+U46-Y46 -> 5000000 | AE46: 1000000 | AG46: 5000000000000 | AI46: 5000000000000 | AK46: =AI46/سهام!$AA$1 -> 0.014400615
A47: جمع | Q47: =SUM(Q10:Q46) -> 181175326365025 | S47: =SUM(S10:S46) -> 180372211403041 | W47: =SUM(W10:W46) -> 28497407540754 | AA47: =SUM(AA10:AA46) -> 26638209905648 | AG47: =SUM(AG10:AG46) -> 183070359790325 | AI47: =SUM(AI10:AI46) -> 180431184342316 | AK47: =SUM(AK10:AK46) -> 0.51966399

Sheet سپرده 
A1: صندوق سرمایه‌گذاری تداوم اطمینان تمدن
A2: صورت وضعیت پرتفوی
A3: =سهام!A3 -> برای ماه منتهی به 1405/07/30
A5: 4-1- سرمایه‌گذاری در سپرده‌ بانکی
C6: =سهام!C6 -> 1405/06/31 | E6: تغییرات طی دوره | I6: =سهام!Q6 -> 1405/07/30
A7: سپرده | C7: مبلغ | E7: افزایش | G7: کاهش | I7: مبلغ | K7: درصد به کل دارایی‌ها
C8: ریال | E8: ریال | G8: ریال | I8: ریال
A9: سپرده های بانکی | C9: 98085598393853 | E9: 208534702042769 | G9: -195212932171699 | I9: =C9+E9+G9 -> 111407368264923 | K9: =I9/سهام!$AA$1 -> 0.32086692
A10: جمع کل | C10: =SUM(C9) -> 98085598393853 | E10: =SUM(E9) -> 208534702042769 | G10: =SUM(G9) -> -195212932171699 | I10: =SUM(I9) -> 111407368264923 | K10: =SUM(K9) -> 0.32086692

Sheet گواهی سپرده بانکی
A1: صندوق سرمایه‌گذاری تداوم اطمینان تمدن
A2: صورت وضعیت پرتفوی
A3: =سهام!A3 -> برای ماه منتهی به 1405/07/30
A5: 5-1- سرمایه‌گذاری در گواهی سپرده‌ بانکی
C6: =سهام!C6 -> 1405/06/31 | E6: تغییرات طی دوره | I6: =سهام!Q6 -> 1405/07/30
A7: سپرده | C7: مبلغ | E7: افزایش | G7: کاهش | I7: مبلغ | K7: درصد به کل دارایی‌ها
C8: ریال | E8: ریال | G8: ریال | I8: ریال
A9: گواهی سپرده بانکی | C9: 12632000000000 | E9: 0 | G9: -4148000000000 | I9: =C9+E9+G9 -> 8484000000000 | K9: =I9/سهام!$AA$1 -> 0.024434963
A10: جمع کل | C10: =SUM(C9) -> 12632000000000 | E10: =SUM(E9) -> 0 | G10: =SUM(G9) -> -4148000000000 | I10: =SUM(I9) -> 8484000000000 | K10: =SUM(K9) -> 0.024434963

Sheet تعدیل قیمت
A1: صندوق سرمایه‌گذاری تداوم اطمینان تمدن
A2: صورت وضعیت پرتفوی
A3: =سهام!A3 -> برای ماه منتهی به 1405/07/30
A5: اوراق بهاداری که ارزش آنها در تاریخ گزارش تعدیل شده
A6: (بر اساس دستورالعمل نحوه تعیین قیمت خرید و فروش اوراق بهادار در صندوق‌های سرمایه‌گذاری)
A8: نام اوراق بهادار | C8: =سهام!Q6 -> 1405/07/30
C9: تعداد | E9: قیمت پایانی | G9: قیمت تعدیل شده | I9: درصد تعدیل | K9: ارزش ناشی از تعدیل قیمت | M9: دلیل تعدیل
E10: ریال | G10: ریال | K10: ریال
A11: صکوک مرابحه دیران72-3ماهه23% | C11: 1499971 | E11: 1000000 | G11: 900000 | I11: -0.1 | K11: 1349973900000 | M11: سایر
A12: مرابحه گلرنگ فرش بیدگل060224 | C12: 500000 | E12: 1000000 | G12: 900000 | I12: -0.1 | K12: 450000000000 | M12: سایر
A13: مرابحه پدیده جم-تمدن070617 | C13: 1500000 | E13: 1000000 | G13: 900000 | I13: -0.1 | K13: 1350000000000 | M13: سایر
A14: مشارکت ش اصفهان512-3ماهه18% | C14: 2650000 | E14: 870987 | G14: 783890 | I14: -0.1 | K14: 2077308500000 | M14: سایر
A15: صکوک مرابحه دسبحان712-3ماهه23% | C15: 500000 | E15: 1000000 | G15: 900000 | I15: -0.1 | K15: 450000000000 | M15: سایر
A16: مرابحه پاریزشرق070228 | C16: 2000000 | E16: 1000000 | G16: 900000 | I16: -0.1 | K16: 1800000000000 | M16: سایر
A17: سلف آهن اسفنجی توسعه گل گهر | C17: 4197560 | E17: 2917016 | G17: 2630000 | I17: -0.0984 | K17: 11039582800000 | M17: سایر
A18: صکوک مرابحه کگل0811-3ماهه23% | C18: 5000000 | E18: 1000000 | G18: 999043 | I18: -0.001 | K18: 4995215000000 | M18: سایر
A19: مرابحه آریس آمل 14081224 | C19: 4000000 | E19: 1000000 | G19: 931749 | I19: -0.0683 | K19: 3726996000000 | M19: سایر
A20: صکوک مرابحه آکو903-3ماهه23% | C20: 3999997 | E20: 1000000 | G20: 900000 | I20: -0.1 | K20: 3599997300000 | M20: سایر
A21: صکوک مرابحه دوچرخ83-3ماهه23% | C21: 2000000 | E21: 1000000 | G21: 950508 | I21: -0.0495 | K21: 1901016000000 | M21: سایر
A22: مشارکت ش اصفهان920-3ماهه23% | C22: 26000000 | E22: 1000000 | G22: 931214 | I22: -0.0688 | K22: 24211564000000 | M22: سایر

Sheet درآمد
A1: صندوق سرمایه‌گذاری تداوم اطمینان تمدن | K1: 347207400812924
A2: صورت وضعیت درآمدها
A3: ='صورت وضعیت'!B12 -> برای ماه منتهی به 1405/07/30
A5: 2- درآمد حاصل از سرمایه‌گذاری‌ها
A7: شرح | C7: یادداشت | E7: مبلغ | G7: درصد از کل درآمدها | I7: درصد از کل دارایی‌ها
E8: ریال
A9: درآمد حاصل از سرمایه‌گذاری در سهام و حق تقدم سهام | C9: 1-2 | E9: ='درآمد سرمایه گذاری در سهام'!S12 -> 1635473743466 | G9: =E9/$E$15 -> 0.029037588 | I9: =E9/$K$1 -> 0.0047103654 | K9: ='درآمد سرمایه گذاری در سهام'!I12 -> 1638419497489 | M9: =K9/$K$15 -> 0.17823782
A10: درآمد حاصل از سرمایه‌گذاری در واحدهای صندوق‌های سرمایه‌گذاری | C10: 2-2 | E10: ='درآمد سرمایه گذاری در صندوق'!S27 -> 6245593775280 | G10: =E10/$E$15 -> 0.11088957 | I10: =E10/$K$1 -> 0.017988078 | K10: ='درآمد سرمایه گذاری در صندوق'!I27 -> 2021158968497 | M10: =K10/$K$15 -> 0.21987468
A11: درآمد حاصل از سرمایه‌گذاری در اوراق بهادار با درآمد ثابت | C11: 3-2 | E11: ='درآمد سرمایه گذاری در اوراق'!S55 -> 23578016763189 | G11: =E11/$E$15 -> 0.4186241 | I11: =E11/$K$1 -> 0.067907587 | K11: ='درآمد سرمایه گذاری در اوراق'!I55 -> 2412011119150 | M11: =K11/$K$15 -> 0.2623941
A12: درآمد حاصل از سرمایه‌گذاری در سپرده بانکی و گواهی سپرده | C12: 4-2 | E12: ='درآمد سپرده و گواهی سپرده بانکی'!G11 -> 24956444415800 | G12: =E12/$E$15 -> 0.44309787 | I12: =E12/$K$1 -> 0.071877628 | K12: ='درآمد سپرده و گواهی سپرده بانکی'!C11 -> 3118699510204 | M12: =K12/$K$15 -> 0.33927221
A13: درآمد حاصل از سرمایه‌گذاری در گواهی سپرده کالایی | C13: 5-2 | E13: ='درآمد گواهی سپرده کالایی'!S11 -> -97941056024 | G13: =E13/$E$15 -> -0.0017389286 | I13: =E13/$K$1 -> -0.00028208228 | K13: 0 | M13: =K13/$K$15 -> 0
A14: سایر درآمدها | C14: 6-2 | E14: ='سایر درآمدها'!E11 -> 5057649281 | G14: =E14/$E$15 -> 8.9797794e-05 | I14: =E14/$K$1 -> 1.4566652e-05 | K14: ='سایر درآمدها'!C11 -> 2033312407 | M14: =K14/$K$15 -> 0.00022119681
A15: جمع کل | E15: =SUM(E9:E14) -> 56322645290992 | G15: =SUM(G9:G14) -> 1 | I15: =SUM(I9:I14) -> 0.16221614 | K15: =SUM(K9:K14) -> 9192322407747 | M15: =SUM(M9:M14) -> 1

Sheet درآمد سرمایه گذاری در سهام
A1: صندوق سرمایه‌گذاری تداوم اطمینان تمدن
A2: صورت وضعیت درآمدها
A3: =سهام!A3 -> برای ماه منتهی به 1405/07/30
A5: 1-2- درآمد حاصل از سرمایه‌گذاری در سهام و حق تقدم سهام
C6: طی ماه | M6: از ابتدای سال مالی تا پایان مهر 1405
A7: سهام | C7: درآمد سود سهام | E7: درآمد تغییر ارزش | G7: درآمد فروش | I7: جمع | M7: درآمد سود سهام | O7: درآمد تغییر ارزش | Q7: درآمد فروش | S7: جمع
I8: مبلغ | K8: درصد از کل درآمدها | S8: مبلغ | U8: درصد از کل درآمدها
C9: ریال | E9: ریال | G9: ریال | I9: ریال | M9: ریال | O9: ریال | Q9: ریال | S9: ریال
A10: توسعه معادن وص.معدنی خاورمیانه | C10: 0 | E10: 30208148637 | G10: 0 | I10: =C10+E10+G10 -> 30208148637 | K10: =I10/درآمد!$K$15 -> 0.0032862369 | M10: 12526980848 | O10: 185028347552 | Q10: 154205342584 | R10: -146868018401 | S10: =M10+O10+Q10 -> 351760670984 | U10: =S10/درآمد!E15 -> 0.0062454572
A11: ایران خودرو دیزل | C11: 0 | E11: 1608211348852 | G11: 0 | I11: =C11+E11+G11 -> 1608211348852 | K11: =I11/درآمد!$K$15 -> 0.17495158 | M11: 96248928739 | O11: 1187464143743 | Q11: 0 | R11: 0 | S11: =M11+O11+Q11 -> 1283713072482 | U11: =S11/درآمد!E15 -> 0.02279213
A12: جمع کل | C12: =SUM(C10:C11) -> 0 | E12: =SUM(E10:E11) -> 1638419497489 | G12: =SUM(G10:G11) -> 0 | I12: =SUM(I10:I11) -> 1638419497489 | K12: =SUM(K10:K11) -> 0.17823782 | M12: =SUM(M10:M11) -> 108775909587 | O12: =SUM(O10:O11) -> 1372492491295 | Q12: =SUM(Q10:Q11) -> 154205342584 | S12: =SUM(S10:S11) -> 1635473743466 | U12: =SUM(U10:U11) -> 0.029037588

Sheet درآمد سرمایه گذاری در صندوق
A1: صندوق سرمایه‌گذاری تداوم اطمینان تمدن
A2: صورت وضعیت درآمدها
A3: =سهام!A3 -> برای ماه منتهی به 1405/07/30
A5: 2-2- درآمد حاصل از سرمایه‌گذاری در واحدهای صندوق
C6: طی ماه | M6: ='درآمد سرمایه گذاری در سهام'!M6:U6 -> از ابتدای سال مالی تا پایان مهر 1405
A7: صندوق | C7: درآمد سود صندوق | E7: درآمد تغییر ارزش | G7: درآمد فروش | I7: جمع | M7: درآمد سود صندوق | O7: درآمد تغییر ارزش | Q7: درآمد فروش | S7: جمع
I8: مبلغ | K8: درصد از کل درآمدها | S8: مبلغ | U8: درصد از کل درآمدها
C9: ریال | E9: ریال | G9: ریال | I9: ریال | M9: ریال | O9: ریال | Q9: ریال | S9: ریال
A10: صندوق س.كالاي زرگر كارآمد | C10: 0 | E10: =-73504436483-3 -> -73504436486 | G10: 139281016884 | I10: =C10+E10+G10 -> 65776580398 | K10: =I10/درآمد!$K$15 -> 0.0071555998 | M10: 0 | N10: 91261431706 | O10: 136923439277 | Q10: 139281016884 | S10: =O10++Q10+M10 -> 276204456161 | U10: =S10/درآمد!$E$15 -> 0.0049039681
A11: صندوق س.موج گستر ثروت-س | C11: 0 | E11: 0 | G11: 0 | I11: =C11+E11+G11 -> 0 | K11: =I11/درآمد!$K$15 -> 0 | M11: 0 | N11: 41630878245 | O11: 0 | Q11: 405103337 | S11: =O11++Q11+M11 -> 405103337 | U11: =S11/درآمد!$E$15 -> 7.1925481e-06
A12: صندوق س.آرمان آتیه درخشان مس-س | C12: 0 | E12: 171819677720 | G12: 0 | I12: =C12+E12+G12 -> 171819677720 | K12: =I12/درآمد!$K$15 -> 0.01869165 | O12: 742500756137 | Q12: 0 | S12: =O12++Q12+M12 -> 742500756137 | U12: =S12/درآمد!$E$15 -> 0.013182988
A13: صندوق س.هستی بخش آگاه-س | C13: 0 | E13: 87834162712 | G13: 0 | I13: =C13+E13+G13 -> 87834162712 | K13: =I13/درآمد!$K$15 -> 0.0095551656 | M13: 0 | N13: 33646035720 | O13: 309657752189 | Q13: 0 | S13: =O13++Q13+M13 -> 309657752189 | U13: =S13/درآمد!$E$15 -> 0.0054979263
A14: صندوق س سروسودمند مدبران-سهام | C14: 0 | E14: 40260686950 | G14: 0 | I14: =C14+E14+G14 -> 40260686950 | K14: =I14/درآمد!$K$15 -> 0.0043798167 | M14: 0 | N14: 0 | O14: 134846138900 | Q14: 0 | S14: =O14++Q14+M14 -> 134846138900 | U14: =S14/درآمد!$E$15 -> 0.0023941727
A15: صندوق س.پشتوانه طلای زرین آگاه | C15: 0 | E15: 93756780451 | G15: 0 | I15: =C15+E15+G15 -> 93756780451 | K15: =I15/درآمد!$K$15 -> 0.010199466 | M15: 0 | N15: -134022172033 | O15: 282884388665 | Q15: 0 | S15: =O15++Q15+M15 -> 282884388665 | U15: =S15/درآمد!$E$15 -> 0.0050225693
A16: صندوق س. شاخصی کیان-س | C16: 0 | E16: 44834752347 | G16: 0 | I16: =C16+E16+G16 -> 44834752347 | K16: =I16/درآمد!$K$15 -> 0.0048774129 | M16: 0 | N16: -35196612274 | O16: 140641369143 | Q16: 0 | S16: =O16++Q16+M16 -> 140641369143 | U16: =S16/درآمد!$E$15 -> 0.0024970661
A17: صندوق سرمایه گذاری عقیق-سهام | C17: 0 | E17: 20266592031 | G17: 0 | I17: =C17+E17+G17 -> 20266592031 | K17: =I17/درآمد!$K$15 -> 0.0022047303 | M17: 0 | N17: -150883961890 | O17: 69917092124 | Q17: 0 | S17: =O17++Q17+M17 -> 69917092124 | U17: =S17/درآمد!$E$15 -> 0.0012413673
A18: صندوق س.پشتوانه طلای صبا | C18: 0 | E18: 74065108088 | G18: 0 | I18: =C18+E18+G18 -> 74065108088 | K18: =I18/درآمد!$K$15 -> 0.0080572792 | M18: 0 | N18: -129009131532 | O18: 228734349008 | Q18: 0 | S18: =O18++Q18+M18 -> 228734349008 | U18: =S18/درآمد!$E$15 -> 0.0040611436
A19: صندوق س.پشتوانه طلا تابان تمدن | C19: 0 | E19: 975115539117 | G19: 0 | I19: =C19+E19+G19 -> 975115539117 | K19: =I19/درآمد!$K$15 -> 0.10607934 | M19: 0 | N19: 14580637963 | O19: 2592842070892 | Q19: 0 | S19: =O19++Q19+M19 -> 2592842070892 | U19: =S19/درآمد!$E$15 -> 0.046035517
A20: صندوق س.پشتوانه طلای دماوند | C20: 0 | E20: 143957004048 | G20: 0 | I20: =C20+E20+G20 -> 143957004048 | K20: =I20/درآمد!$K$15 -> 0.01566057 | M20: 0 | O20: 465516212909 | Q20: 0 | S20: =O20++Q20+M20 -> 465516212909 | U20: =S20/درآمد!$E$15 -> 0.0082651696
A21: صندوق س.كالاي زمرد بيدار | C21: 0 | E21: 151194865179 | G21: 0 | I21: =C21+E21+G21 -> 151194865179 | K21: =I21/درآمد!$K$15 -> 0.016447951 | M21: 0 | N21: -91057103195 | O21: 483541550823 | Q21: 0 | S21: =O21++Q21+M21 -> 483541550823 | U21: =S21/درآمد!$E$15 -> 0.0085852067
A22: صندوق س.دی سهام-سهام | C22: 0 | E22: -5364210374 | G22: 0 | I22: =C22+E22+G22 -> -5364210374 | K22: =I22/درآمد!$K$15 -> -0.00058355333 | M22: 0 | O22: -5364210374 | Q22: 0 | S22: =O22++Q22+M22 -> -5364210374 | U22: =S22/درآمد!$E$15 -> -9.5240739e-05
A23: صندوق س.مبتنی بر کالای فارابی | C23: 0 | E23: 135113691033 | G23: 0 | I23: =C23+E23+G23 -> 135113691033 | K23: =I23/درآمد!$K$15 -> 0.014698537 | M23: 0 | N23: -484174032639 | O23: 419378314758 | Q23: 0 | S23: =O23++Q23+M23 -> 419378314758 | U23: =S23/درآمد!$E$15 -> 0.0074459982
A24: صندوق س.کالای تابان تمدن1 | C24: 0 | E24: -8673890825 | G24: 0 | I24: =C24+E24+G24 -> -8673890825 | K24: =I24/درآمد!$K$15 -> -0.00094360168 | M24: 0 | O24: 62331793013 | Q24: 0 | S24: =O24++Q24+M24 -> 62331793013 | U24: =S24/درآمد!$E$15 -> 0.0011066915
A25: صندوق س صنایع تمدن1-بخشی | C25: 0 | E25: 30063573622 | G25: 0 | I25: =C25+E25+G25 -> 30063573622 | K25: =I25/درآمد!$K$15 -> 0.003270509 | M25: 0 | O25: 40418581595 | Q25: 0 | S25: =O25++Q25+M25 -> 40418581595 | U25: =S25/درآمد!$E$15 -> 0.00071762577
A26: صندوق س.کالای الگوریتم | C26: 0 | E26: 1138056000 | G26: 0 | I26: =C26+E26+G26 -> 1138056000 | K26: =I26/درآمد!$K$15 -> 0.00012380506 | M26: 0 | N26: -93820914862 | O26: 1138056000 | Q26: 0 | S26: =O26++Q26+M26 -> 1138056000 | U26: =S26/درآمد!$E$15 -> 2.0206011e-05
A27: جمع کل | C27: =SUM(C10:C26) -> 0 | E27: =SUM(E10:E26) -> 1881877951613 | G27: =SUM(G10:G26) -> 139281016884 | I27: =SUM(I10:I26) -> 2021158968497 | K27: =SUM(K10:K26) -> 0.21987468 | M27: =SUM(M10:M26) -> 0 | O27: =SUM(O10:O26) -> 6105907655059 | Q27: =SUM(Q10:Q26) -> 139686120221 | S27: =SUM(S10:S26) -> 6245593775280 | U27: =SUM(U10:U26) -> 0.11088957

Sheet درآمد سرمایه گذاری در اوراق
A1: صندوق سرمایه‌گذاری تداوم اطمینان تمدن
A2: صورت وضعیت درآمدها
A3: =سهام!A3 -> برای ماه منتهی به 1405/07/30
A5: 3-2- درآمد حاصل از سرمایه‌گذاری در اوراق بهادار با درآمد ثابت:
C6: طی ماه | M6: ='درآمد سرمایه گذاری در سهام'!M6:U6 -> از ابتدای سال مالی تا پایان مهر 1405
A7: عنوان | C7: درآمد سود اوراق | E7: درآمد تغییر ارزش | G7: درآمد فروش | I7: جمع | M7: درآمد سود اوراق | O7: درآمد تغییر ارزش | Q7: درآمد فروش | S7: جمع
I8: مبلغ | K8: درصد از کل درآمدها | S8: مبلغ | U8: درصد از کل درآمدها
C9: ریال | E9: ریال | G9: ریال | I9: ریال | M9: ریال | O9: ریال | Q9: ریال | S9: ریال
A10: اسناد خزانه-م12بودجه02-050916 | C10: 0 | E10: -3028812792 | G10: =8463233541-11 -> 8463233530 | I10: =C10+E10+G10 -> 5434420738 | K10: =I10/درآمد!$K$15 -> 0.00059119127 | M10: 0 | O10: 7447021681 | Q10: =25319836607-9 -> 25319836598 | S10: =M10+O10+Q10 -> 32766858279 | U10: =S10/درآمد!$E$15 -> 0.00058177058
A11: اسناد خزانه-م13بودجه02-051021 | C11: 0 | E11: -6284036612 | G11: 10129020944 | I11: =C11+E11+G11 -> 3844984332 | K11: =I11/درآمد!$K$15 -> 0.00041828214 | M11: 0 | O11: 3781569331 | Q11: 18781305069 | S11: =M11+O11+Q11 -> 22562874400 | U11: =S11/درآمد!$E$15 -> 0.0004006004
A12: اسناد خزانه-م11بودجه02-050720 | C12: 0 | E12: -10288827756 | G12: 12822293838 | I12: =C12+E12+G12 -> 2533466082 | K12: =I12/درآمد!$K$15 -> 0.00027560675 | M12: 0 | O12: 0 | Q12: 16162567510 | S12: =M12+O12+Q12 -> 16162567510 | U12: =S12/درآمد!$E$15 -> 0.00028696393
A13: اسنادخزانه-م10بودجه02-051112 | C13: 0 | E13: -1510071745 | G13: 4421241871 | I13: =C13+E13+G13 -> 2911170126 | K13: =I13/درآمد!$K$15 -> 0.00031669582 | M13: 0 | O13: 0 | Q13: 4901041933 | S13: =M13+O13+Q13 -> 4901041933 | U13: =S13/درآمد!$E$15 -> 8.7017254e-05
A14: اسنادخزانه-م2بودجه02-050923 | C14: 0 | E14: 179661765 | G14: 0 | I14: =C14+E14+G14 -> 179661765 | K14: =I14/درآمد!$K$15 -> 1.9544763e-05 | M14: 0 | O14: 179661765 | Q14: 1392161495 | S14: =M14+O14+Q14 -> 1571823260 | U14: =S14/درآمد!$E$15 -> 2.7907483e-05
A15: مشارکت ش اصفهان042-3ماهه18% | C15: 0 | E15: 0 | G15: 0 | I15: =C15+E15+G15 -> 0 | K15: =I15/درآمد!$K$15 -> 0 | M15: 56789258937 | O15: 0 | Q15: 2339212500 | S15: =M15+O15+Q15 -> 59128471437 | U15: =S15/درآمد!$E$15 -> 0.001049817
A16: مشارکت ش شیراز042-3ماهه18% | C16: 0 | E16: 0 | G16: 0 | I16: =C16+E16+G16 -> 0 | K16: =I16/درآمد!$K$15 -> 0 | M16: 26187478355 | O16: 0 | Q16: 1078691250 | S16: =M16+O16+Q16 -> 27266169605 | U16: =S16/درآمد!$E$15 -> 0.00048410669
A17: مشارکت ش تهران42-3ماهه18% | C17: 0 | E17: 0 | G17: 0 | I17: =C17+E17+G17 -> 0 | K17: =I17/درآمد!$K$15 -> 0 | M17: 8527629312 | O17: 0 | Q17: 351262500 | S17: =M17+O17+Q17 -> 8878891812 | U17: =S17/درآمد!$E$15 -> 0.00015764337
A18: مرابحه عام دولت294-ش.خ070230 | C18: 0 | E18: 0 | G18: 0 | I18: =C18+E18+G18 -> 0 | K18: =I18/درآمد!$K$15 -> 0 | M18: 166681059044 | O18: 0 | Q18: 48705794605 | S18: =M18+O18+Q18 -> 215386853649 | U18: =S18/درآمد!$E$15 -> 0.0038241608
A19: مرابحه عام دولت241-ش.خ070829 | C19: 66859502701 | E19: 140355585729 | G19: 0 | I19: =C19+E19+G19 -> 207215088430 | K19: =I19/درآمد!$K$15 -> 0.022542191 | M19: 511531494558 | O19: 172442882340 | Q19: 222369021 | S19: =M19+O19+Q19 -> 684196745919 | U19: =S19/درآمد!$E$15 -> 0.012147809
A20: مرابحه عام دولت266-ش.خ070930 | C20: 46510592546 | E20: 4678150892 | G20: 0 | I20: =C20+E20+G20 -> 51188743438 | K20: =I20/درآمد!$K$15 -> 0.005568641 | M20: 382486507593 | O20: 24542745037 | Q20: 5032037500 | S20: =M20+O20+Q20 -> 412061290130 | U20: =S20/درآمد!$E$15 -> 0.0073160855
A21: مرابحه عام دولت 166-ش.خ050419 | C21: 0 | E21: 0 | G21: 0 | I21: =C21+E21+G21 -> 0 | K21: =I21/درآمد!$K$15 -> 0 | M21: 48031023503 | O21: 0 | Q21: 33414590516 | S21: =M21+O21+Q21 -> 81445614019 | U21: =S21/درآمد!$E$15 -> 0.0014460545
A22: مرابحه عام دولت176-ش.خ050603 | C22: 0 | E22: 0 | G22: 0 | I22: =C22+E22+G22 -> 0 | K22: =I22/درآمد!$K$15 -> 0 | M22: 422480351213 | O22: 0 | Q22: 37179166500 | S22: =M22+O22+Q22 -> 459659517713 | U22: =S22/درآمد!$E$15 -> 0.0081611848
... A54: اسنادخزانه-م9بودجه02-050811 | C54: 0 | E54: -1345085696 | G54: 0 | I54: =C54+E54+G54 -> -1345085696 | K54: =I54/درآمد!$K$15 -> -0.00014632708 | M54: 0 | O54: -1345085696 | Q54: 0 | S54: =M54+O54+Q54 -> -1345085696 | U54: =S54/درآمد!$E$15 -> -2.3881792e-05
A55: جمع کل | C55: =SUM(C10:C54) -> 4212235814981 | E55: =SUM(E10:E54) -> -1836060486014 | G55: =SUM(G10:G54) -> 35835790183 | I55: =SUM(I10:I54) -> 2412011119150 | K55: =SUM(K10:K54) -> 0.2623941 | M55: =SUM(M10:M54) -> 22674671815260 | O55: =SUM(O10:O54) -> 707334038167 | Q55: =SUM(Q10:Q54) -> 196010909762 | S55: =SUM(S10:S54) -> 23578016763189 | U55: =SUM(U10:U54) -> 0.4186241

Sheet درآمد سپرده و گواهی سپرده بانکی
A1: صندوق سرمایه‌گذاری تداوم اطمینان تمدن
A2: صورت وضعیت درآمدها
A3: =سهام!A3 -> برای ماه منتهی به 1405/07/30
A5: 4-2- درآمد حاصل از سرمایه‌گذاری در سپرده بانکی و گواهی سپرده
C6: طی ماه | G6: از ابتدای سال مالی تا پایان مهر 1405
A7: نام سپرده بانکی | C7: سود سپرده بانکی و گواهی سپرده | E7: درصد از کل درآمدها | G7: سود سپرده بانکی و گواهی سپرده | I7: درصد از کل درآمدها
C8: ریال | G8: ریال
A9: سپرده‌های بانکی | C9: ='سود سپرده بانکی'!G9 -> 2803129701991 | E9: =C9/درآمد!$K$15 -> 0.30494249 | G9: ='سود سپرده بانکی'!M9 -> 23885449621302 | I9: =G9/درآمد!$E$15 -> 0.42408252
A10: گواهی سپرده بانکی | C10: 315569808213 | E10: =C10/درآمد!$K$15 -> 0.034329715 | G10: 1070994794498 | I10: =G10/درآمد!$E$15 -> 0.01901535
A11: جمع کل | C11: =SUM(C9:C10) -> 3118699510204 | E11: =SUM(E9:E10) -> 0.33927221 | G11: =SUM(G9:G10) -> 24956444415800 | I11: =SUM(I9:I10) -> 0.44309787

Sheet درآمد گواهی سپرده کالایی
A1: صندوق سرمایه‌گذاری تداوم اطمینان تمدن
A2: صورت وضعیت درآمدها
A3: =سهام!A3 -> برای ماه منتهی به 1405/07/30
A5: 5-2- درآمد حاصل از سرمایه‌گذاری در گواهی سپرده کالایی
C6: طی ماه | M6: از ابتدای سال مالی تا پایان مهر 1405
A7: سهام | C7: درآمد سود سهام | E7: درآمد تغییر ارزش | G7: درآمد فروش | I7: جمع | M7: درآمد سود سهام | O7: درآمد تغییر ارزش | Q7: درآمد فروش | S7: جمع
I8: مبلغ | K8: درصد از کل درآمدها | S8: مبلغ | U8: درصد از کل درآمدها
C9: ریال | E9: ریال | G9: ریال | I9: ریال | M9: ریال | O9: ریال | Q9: ریال | S9: ریال
A10: شمش نقره SilverBar | C10: 0 | E10: 0 | G10: 0 | I10: =C10+E10+G10 -> 0 | K10: =I10/[1]درآمد!$K$15 -> 0 | M10: 0 | O10: 0 | Q10: -97941056024 | S10: -97941056024 | U10: =S10/درآمد!E15 -> -0.0017389286
A11: جمع کل | C11: =SUM(C10:C10) -> 0 | E11: =SUM(E10:E10) -> 0 | G11: =SUM(G10:G10) -> 0 | I11: =SUM(I10:I10) -> 0 | K11: =SUM(K10:K10) -> 0 | M11: =SUM(M10:M10) -> 0 | O11: =SUM(O10:O10) -> 0 | Q11: =SUM(Q10:Q10) -> -97941056024 | S11: =SUM(S10:S10) -> -97941056024 | U11: =SUM(U10:U10) -> -0.0017389286

Sheet سایر درآمدها
A1: صندوق سرمایه‌گذاری تداوم اطمینان تمدن
A2: صورت وضعیت درآمدها
A3: =سهام!A3 -> برای ماه منتهی به 1405/07/30
A5: 6-2- سایر درآمدها
C6: طی ماه | E6: 1405/07/30
C7: مبلغ (ریال) | E7: مبلغ (ریال)
A8: تعدیل کارمزد کارگزار | C8: 0 | E8: 103261609
A9: تنزیل سود بانک | C9: 0 | E9: 4954387672
A10: تنزیل سود سهام | C10: 2033312407 | E10: 0
A11: جمع کل | C11: =SUM(C8:C10) -> 2033312407 | E11: =SUM(E8:E10) -> 5057649281

Sheet مبالغ تخصیصی اوراق
A1: صندوق سرمایه‌گذاری تداوم اطمینان تمدن
A2: صورت وضعیت درآمدها
A3: =سهام!A3 -> برای ماه منتهی به 1405/07/30
A5: مبالغ تخصیص یافته بابت خرید و نگهداری اوراق بهادار با درآمد ثابت (نرخ سود ترجیحی)
A7: طرف معامله | B7: نوع وابستگی | C7: نام ورقه بهادار | D7: تعداد اوراق | E7: بهای تمام شده اوراق (ریال) | F7: مبلغ شناسایی شده بابت قرارداد خرید و نگهداری اوراق بهادار (ریال) | G7: نرخ اسمی (درصد) | H7: میانگین نرخ بازده تا سررسید قراردادهای منعقده (درصد)
A8: تامین سرمایه تمدن | B8: مدیر صندوق | C8: مرابحه گلرنگ فرش بیدگل060224 | D8: 500000 | E8: 500000000000 | F8: 2700937470 | G8: 0.23 | H8: 0.4002
A9: تامین سرمایه تمدن | B9: مدیر صندوق | C9: صکوک مرابحه دیران72 | D9: 1499971 | E9: 1499971000000 | F9: 11971001430 | G9: 0.23 | H9: 0.355
A10: تامین سرمایه تمدن | B10: مدیر صندوق | C10: مرابحه پدیده جم-تمدن070617 | D10: 1500000 | E10: 1500000000000 | F10: 14440684920 | G10: 0.23 | H10: 0.36
A11: تامین سرمایه تمدن | B11: مدیر صندوق | C11: وراق مشارکت صکوک مرابحه دسبحان712-3 | D11: 500000 | E11: 500000000000 | F11: 4113534240 | G11: 0.23 | H11: 0.352
A12: تامین سرمایه تمدن | B12: مدیر صندوق | C12: اوراق مشارکت مرابحه پاریزشرق070228 | D12: 2000000 | E12: 2000000000000 | F12: 18617950680 | G12: 0.23 | H12: 0.3520057
A13: تامین سرمایه تمدن | B13: مدیر صندوق | C13: اوراق مشارکت صکوک مرابحه کگل0811-3 | D13: 5000000 | E13: 5000000000000 | F13: 46538219190 | G13: 0.23 | H13: 0.4156
A14: تامین سرمایه امید | B14: - | C14: صکوک مرابحه کگل81 | D14: 5000000 | E14: 5000000000000 | F14: 46517341020 | G14: 0.23 | H14: 0.4156
A15: تامین سرمایه تمدن | B15: مدیر صندوق | C15: قطار شهری شهرداری تبریز | D15: 5000000 | E15: 5000000000000 | F15: 51256842780 | G15: 0.23 | H15: 0.37
A16: تامین سرمایه تمدن | B16: مدیر صندوق | C16: اوراق آریس آمل | D16: 4000000 | E16: 4000000000000 | F16: 37232876700 | G16: 0.23 | H16: 0.39
A17: تامین سرمایه تمدن | B17: مدیر صندوق | C17: قطار شهری شهرداری تهران | D17: 5000000 | E17: 5000000000000 | F17: 50408630130 | G17: 0.23 | H17: 0.37
A18: تامین سرمایه تمدن | B18: مدیر صندوق | C18: اوراق مشارکت صکوک مرابحه دوچرخ83 | D18: 2000000 | E18: 2000000000000 | F18: 20535616440 | G18: 0.23 | H18: 0.405
A19: تامین سرمایه تمدن | B19: مدیر صندوق | C19: اوراق مشارکت صکوک مرابحه آکو903 | D19: 3999997 | E19: 3999997000000 | F19: 39826161900 | G19: 0.23 | H19: 0.4
... A22: تامین سرمایه تمدن | B22: مدیر صندوق | C22: اوراق مشارکت شهرداری اصفهان | D22: 26000000 | E22: 26000000000000 | F22: 291292045590 | G22: 0.23 | H22: 0.42

Sheet سود اوراق بهادار
A1: صندوق سرمایه‌گذاری تداوم اطمینان تمدن
A2: صورت وضعیت درآمدها
A3: =سهام!A3 -> برای ماه منتهی به 1405/07/30
A5: سود اوراق بهادار با درآمد ثابت
A6: شرح | I6: طی ماه | O6: از ابتدای سال مالی تا پایان مهر 1405
C7: تاریخ دریافت سود | E7: تاریخ سررسید | G7: نرخ سود علی‌الحساب | I7: درآمد سود | K7: هزینه تنزیل | M7: خالص درآمد | O7: درآمد سود | Q7: هزینه تنزیل | S7: خالص درآمد
G8: درصد | I8: ریال | K8: ریال | M8: ریال | O8: ریال | Q8: ریال | S8: ریال
A9: سود سپرده بانکی | E9: 0 | G9: - | I9: ='سود سپرده بانکی'!C9 -> 2798150638153 | K9: ='سود سپرده بانکی'!E9 -> 4979063838 | M9: =I9-K9 -> 2793171574315 | O9: ='سود سپرده بانکی'!I9 -> 23897075250211 | Q9: ='سود سپرده بانکی'!K9 -> -11625628909 | S9: =O9-Q9 -> 23908700879120
A10: مشارکت ش اصفهان920-3ماهه23% | E10: 1409/02/29 | G10: 0.23 | I10: 273127239983 | K10: 0 | M10: =I10-K10 -> 273127239983 | O10: 273127239983 | Q10: 0 | S10: =O10-Q10 -> 273127239983
A11: مرابحه عام دولت297-ش.خ070706 | E11: 1407/07/06 | G11: 0.23 | I11: 676719958674 | K11: 0 | M11: =I11-K11 -> 676719958674 | O11: 1869107682548 | Q11: 0 | S11: =O11-Q11 -> 1869107682548
A12: مرابحه عام دولت294-ش.خ070230 | E12: 1407/02/30 | G12: 0.23 | I12: 0 | K12: 0 | M12: =I12-K12 -> 0 | O12: 166681059044 | Q12: 0 | S12: =O12-Q12 -> 166681059044
A13: مرابحه عام دولت296-ش.خ070930 | E13: 1407/09/30 | G13: 0.23 | I13: 116280327756 | K13: 0 | M13: =I13-K13 -> 116280327756 | O13: 321337219151 | Q13: 0 | S13: =O13-Q13 -> 321337219151
A14: شهرداری تبریز | E14: 1409/02/28 | G14: 0.23 | I14: 376338298500 | K14: 0 | M14: =I14-K14 -> 376338298500 | O14: 1530442413901 | Q14: 0 | S14: =O14-Q14 -> 1530442413901
A15: شهرداری تبریز | E15: 1409/02/28 | G15: 0.23 | I15: 75267659670 | K15: 0 | M15: =I15-K15 -> 75267659670 | O15: 306088482660 | Q15: 0 | S15: =O15-Q15 -> 306088482660
A16: شهرداری اصفهان | E16: 1409/02/28 | G16: 0.23 | I16: 512156195067 | K16: 0 | M16: =I16-K16 -> 512156195067 | O16: 2938832769194 | Q16: 0 | S16: =O16-Q16 -> 2938832769194
A17: صکوک مرابحه دوچرخ83-3ماهه23% | E17: 1408/03/09 | G17: 0.23 | I17: 57933196440 | K17: 0 | M17: =I17-K17 -> 57933196440 | O17: 280362310460 | Q17: 0 | S17: =O17-Q17 -> 280362310460
A18: صکوک مرابحه آکو903-3ماهه23% | E18: 1409/03/02 | G18: 0.23 | I18: 115297612496 | K18: 0 | M18: =I18-K18 -> 115297612496 | O18: 581868548699 | Q18: 0 | S18: =O18-Q18 -> 581868548699
A19: مرابحه آریس آمل 14081224 | E19: 1408/12/24 | G19: 0.23 | I19: 110578721500 | K19: 0 | M19: =I19-K19 -> 110578721500 | O19: 828092924101 | Q19: 0 | S19: =O19-Q19 -> 828092924101
A20: مرابحه عام دولت275-ش.خ080205 | E20: 1408/05/05 | G20: 0.23 | I20: 113078828222 | K20: 0 | M20: =I20-K20 -> 113078828222 | O20: 1836898544793 | Q20: 0 | S20: =O20-Q20 -> 1836898544793
A21: صکوک مرابحه کگل81-3ماهه23% | E21: 1408/11/20 | G21: 0.23 | I21: 142351828520 | K21: 0 | M21: =I21-K21 -> 142351828520 | O21: 1136599606524 | Q21: 0 | S21: =O21-Q21 -> 1136599606524
... A44: مشارکت ش شیراز042-3ماهه18% | E44: 1404/12/25 | G44: 0.18 | I44: 0 | K44: 0 | M44: =I44-K44 -> 0 | O44: 26187478355 | Q44: 0 | S44: =O44-Q44 -> 26187478355
A45: اوراق تبعی اختیار فروش تامین مالی خاور1 | E45: - | I45: 0 | K45: 0 | M45: =I45-K45 -> 0 | O45: 1290580000000 | Q45: 0 | S45: 1290580000000
A46: اوراق سلف موازی آهن اسفنجی غدیر | E46: - | I46: 0 | K46: 0 | M46: =I46-K46 -> 0 | O46: 328872470160 | Q46: 0 | S46: 328872470160
A47: جمع کل | I47: =SUM(I9:I46) -> 7010386453134 | K47: =SUM(K9:K46) -> 4979063838 | M47: =SUM(M9:M46) -> 7005407389296 | O47: =SUM(O9:O46) -> 46571747065471 | Q47: =SUM(Q9:Q46) -> -11625628909 | S47: =SUM(S9:S46) -> 46583372694380

Sheet سود سپرده بانکی
A1: صندوق سرمایه‌گذاری تداوم اطمینان تمدن
A2: صورت وضعیت درآمدها
A3: =سهام!A3 -> برای ماه منتهی به 1405/07/30
A5: سود سپرده بانکی
A6: شرح | C6: طی ماه | I6: از ابتدای سال مالی تا پایان مهر 1405
C7: درآمد سود | E7: هزینه تنزیل | G7: خالص درآمد | I7: درآمد سود | K7: هزینه تنزیل | M7: خالص درآمد
C8: ریال | E8: ریال | G8: ریال | I8: ریال | K8: ریال | M8: ریال
A9: سپرده‌های بانکی | C9: 2798150638153 | E9: 4979063838 | G9: =C9+E9 -> 2803129701991 | I9: 23897075250211 | K9: -11625628909 | M9: =I9+K9 -> 23885449621302
A10: جمع کل | C10: =SUM(C9) -> 2798150638153 | E10: =SUM(E9) -> 4979063838 | G10: =SUM(G9) -> 2803129701991 | I10: =SUM(I9) -> 23897075250211 | K10: =SUM(K9) -> -11625628909 | M10: =SUM(M9) -> 23885449621302

Sheet درآمد ناشی از فروش
A1: صندوق سرمایه‌گذاری تداوم اطمینان تمدن
A2: صورت وضعیت درآمدها
A3: =سهام!A3 -> برای ماه منتهی به 1405/07/30
A5: سود(زیان) حاصل از فروش اوراق بهادار
A6: شرح | C6: طی ماه | K6: از ابتدای سال مالی تا پایان مهر 1405
C7: تعداد | E7: خالص بهای فروش | G7: ارزش دفتری | I7: سود و زیان ناشی از فروش | K7: تعداد | M7: خالص بهای فروش | O7: ارزش دفتری | Q7: سود و زیان ناشی از فروش
E8: ریال | G8: ریال | I8: ریال | M8: ریال | O8: ریال | Q8: ریال
A9: صندوق س.كالاي زرگر كارآمد | C9: 15058074 | E9: 395614611477 | G9: 256333594593 | I9: =E9-G9 -> 139281016884 | K9: 15058074 | M9: 395614611477 | O9: 256333594593 | Q9: =M9-O9 -> 139281016884
A10: صندوق س.موج گستر ثروت-س | C10: 0 | E10: 0 | G10: 0 | I10: =E10-G10 -> 0 | K10: 990000 | M10: 10282333337 | O10: 9877230000 | Q10: =M10-O10 -> 405103337
A11: شمش نقره SilverBar | C11: 0 | E11: 0 | G11: 0 | I11: =E11-G11 -> 0 | K11: 89879 | M11: 353065294688 | O11: 451006350712 | Q11: =M11-O11 -> -97941056024
A12: توسعه معادن وص.معدنی خاورمیانه | C12: 0 | E12: 0 | G12: 0 | I12: =E12-G12 -> 0 | K12: 121400000 | M12: 837566047604 | O12: =M12-Q12 -> 683360705020 | Q12: =160730161290-4220454334-2304364372 -> 154205342584
A13: اسناد خزانه-م12بودجه02-050916 | C13: 137000 | E13: 129908074060 | G13: 121444840519 | I13: =E13-G13 -> 8463233541 | K13: 449423 | M13: 418308190618 | O13: 392988354011 | Q13: =M13-O13 -> 25319836607
A14: اسناد خزانه-م13بودجه02-051021 | C14: 200000 | E14: 183999895628 | G14: 173870874684 | I14: =E14-G14 -> 10129020944 | K14: 384007 | M14: 349981154218 | O14: 331199849149 | Q14: =M14-O14 -> 18781305069
A15: اسناد خزانه-م11بودجه02-050720 | C15: 144567 | E15: 144567000000 | G15: 131744706162 | I15: =E15-G15 -> 12822293838 | K15: 193322 | M15: 192337974654 | O15: 176175407144 | Q15: =M15-O15 -> 16162567510
A16: اسنادخزانه-م10بودجه02-051112 | C16: 198930 | E16: 179734935960 | G16: 175313694089 | I16: =E16-G16 -> 4421241871 | K16: 212326 | M16: 191599212693 | O16: 186698170760 | Q16: =M16-O16 -> 4901041933
A17: اسنادخزانه-م2بودجه02-050923 | C17: 0 | E17: 0 | G17: 0 | I17: =E17-G17 -> 0 | K17: 26458 | M17: 24492219646 | O17: 23100058151 | Q17: =M17-O17 -> 1392161495
A18: مشارکت ش اصفهان042-3ماهه18% | C18: 0 | E18: 0 | G18: 0 | I18: =E18-G18 -> 0 | K18: 4302000 | M18: 4302000000000 | O18: 4299660787500 | Q18: =M18-O18 -> 2339212500
A19: مشارکت ش شیراز042-3ماهه18% | C19: 0 | E19: 0 | G19: 0 | I19: =E19-G19 -> 0 | K19: 1983800 | M19: 1983800000000 | O19: 1982721308750 | Q19: =M19-O19 -> 1078691250
A20: مشارکت ش تهران42-3ماهه18% | C20: 0 | E20: 0 | G20: 0 | I20: =E20-G20 -> 0 | K20: 646000 | M20: 646000000000 | O20: 645648737500 | Q20: =M20-O20 -> 351262500
A21: مرابحه عام دولت294-ش.خ070230 | C21: 0 | E21: 0 | G21: 0 | I21: =E21-G21 -> 0 | K21: 5333147 | M21: 4494950448505 | O21: 4446244653900 | Q21: =M21-O21 -> 48705794605
A22: مرابحه عام دولت241-ش.خ070829 | C22: 0 | E22: 0 | G22: 0 | I22: =E22-G22 -> 0 | K22: 10000 | M22: 8106489701 | O22: 7884120680 | Q22: =M22-O22 -> 222369021
A23: مرابحه عام دولت266-ش.خ070930 | C23: 0 | E23: 0 | G23: 0 | I23: =E23-G23 -> 0 | K23: 122640 | M23: 99952812248 | O23: 94920774748 | Q23: =M23-O23 -> 5032037500
A24: مرابحه عام دولت 166-ش.خ050419 | C24: 0 | E24: 0 | G24: 0 | I24: =E24-G24 -> 0 | K24: 526865 | M24: 526865000000 | O24: 493450409484 | Q24: =M24-O24 -> 33414590516
... A26: مرابحه عام دولت211-ش.خ050528 | C26: 0 | E26: 0 | G26: 0 | I26: =E26-G26 -> 0 | K26: 70000 | M26: 70000000000 | O26: 68869127235 | Q26: =M26-O26 -> 1130872765
A27: جمع کل | E27: =SUM(E9:E26) -> 1033824517125 | G27: =SUM(G9:G26) -> 858707710047 | I27: =SUM(I9:I26) -> 175116807078 | M27: =SUM(M9:M26) -> 18432921789389 | O27: =SUM(O9:O26) -> 18040960472837 | Q27: =SUM(Q9:Q26) -> 391961316552

Sheet درآمد ناشی از تغییر قیمت اوراق
A1: صندوق سرمایه‌گذاری تداوم اطمینان تمدن
A2: صورت وضعیت درآمدها
A3: =سهام!A3 -> برای ماه منتهی به 1405/07/30
A5: درآمد ناشی از تغییر قیمت اوراق بهادار
A6: شرح | C6: طی ماه | K6: از ابتدای سال مالی تا پایان مهر 1405
C7: تعداد | E7: خالص ارزش فروش | G7: ارزش دفتری | I7: سود و زیان ناشی از تغییر قیمت | K7: تعداد | M7: خالص ارزش فروش | O7: ارزش دفتری | Q7: سود و زیان ناشی از تغییر قیمت
E8: ریال | G8: ریال | I8: ریال | M8: ریال | O8: ریال | Q8: ریال
A9: صندوق س.آرمان آتیه درخشان مس-س | C9: 1335006 | E9: 1481112260654 | G9: 1309292582934 | I9: =E9-G9 -> 171819677720 | K9: 1335006 | M9: 1481112260654 | O9: 738611504517 | Q9: =M9-O9 -> 742500756137
A10: صندوق س.هستی بخش آگاه-س | C10: 967000 | E10: 559570022000 | G10: 471735859288 | I10: =E10-G10 -> 87834162712 | K10: 967000 | M10: 559570022000 | O10: 249912269811 | Q10: =M10-O10 -> 309657752189
A11: صندوق س سروسودمند مدبران-سهام | C11: 6050000 | E11: 285748263900 | G11: 245487576950 | I11: =E11-G11 -> 40260686950 | K11: 6050000 | M11: 285748263900 | O11: 150902125000 | Q11: =M11-O11 -> 134846138900
A12: توسعه معادن وص.معدنی خاورمیانه | C12: 145662568 | E12: 1024764468116 | G12: 994556319479 | I12: =E12-G12 -> 30208148637 | K12: 145662568 | M12: 1024764468116 | O12: 839736120564 | Q12: =M12-O12 -> 185028347552
A13: صندوق س.پشتوانه طلای زرین آگاه | C13: 4433240 | E13: 940375105865 | G13: 846618325414 | I13: =E13-G13 -> 93756780451 | K13: 4433240 | M13: 940375105865 | O13: 657490717200 | Q13: =M13-O13 -> 282884388665
A14: صندوق س. شاخصی کیان-س | C14: 4710000 | E14: 242251457184 | G14: 197416704837 | I14: =E14-G14 -> 44834752347 | K14: 4710000 | M14: 242251457184 | O14: 101610088041 | Q14: =M14-O14 -> 140641369143
A15: صندوق سرمایه گذاری عقیق-سهام | C15: 3541990 | E15: 135469887620 | G15: 115203295589 | I15: =E15-G15 -> 20266592031 | K15: 3541990 | M15: 135469887620 | O15: 65552795496 | Q15: =M15-O15 -> 69917092124
A16: صندوق س.پشتوانه طلای صبا | C16: 5267000 | E16: 802143164728 | G16: 728078056640 | I16: =E16-G16 -> 74065108088 | K16: 5267000 | M16: 802143164728 | O16: 573408815720 | Q16: =M16-O16 -> 228734349008
A17: صندوق س.پشتوانه طلا تابان تمدن | C17: 91687580 | E17: 9689180041507 | G17: 8714064502390 | I17: =E17-G17 -> 975115539117 | K17: 91687580 | M17: 9689180041507 | O17: 7096337970615 | Q17: =M17-O17 -> 2592842070892
A18: ایران خودرو دیزل | C18: 10877447426 | E18: 16222427230367 | G18: 14614215881515 | I18: =E18-G18 -> 1608211348852 | K18: 10877447426 | M18: 16222427230367 | O18: 15034963086624 | Q18: =M18-O18 -> 1187464143743
A19: صندوق س.پشتوانه طلای دماوند | C19: 31096000 | E19: 1466746389680 | G19: 1322789385632 | I19: =E19-G19 -> 143957004048 | K19: 31096000 | M19: 1466746389680 | O19: 1001230176771 | Q19: =M19-O19 -> 465516212909
A20: صندوق س.كالاي زمرد بيدار | C20: 44301000 | E20: 1598984150715 | G20: 1447789285536 | I20: =E20-G20 -> 151194865179 | K20: 44301000 | M20: 1598984150715 | O20: 1115442599892 | Q20: =M20-O20 -> 483541550823
... A59: ظخاور06041 | C59: 10877447426 | E59: 10869207759 | G59: 10869207759 | I59: =E59-G59 -> 0 | K59: 10877447426 | M59: 10869207759 | O59: 10869207759 | Q59: =M59-O59 -> 0
A60: جمع کل | E60: =SUM(E9:E59) -> 194114806947931 | G60: =SUM(G9:G59) -> 192430569984854 | I60: =SUM(I9:I59) -> 1684236963077 | M60: =SUM(M9:M59) -> 193675800355657 | O60: =SUM(O9:O59) -> 185490066171145 | Q60: =SUM(Q9:Q59) -> 8185734184512
